BEGIN:VCALENDAR
VERSION:2.0
PRODID:-//Vajrayogini Kadampa Buddhist Center - ECPv6.15.20//NONSGML v1.0//EN
CALSCALE:GREGORIAN
METHOD:PUBLISH
X-WR-CALNAME:Vajrayogini Kadampa Buddhist Center
X-ORIGINAL-URL:https://www.meditationinorangecounty.org
X-WR-CALDESC:Events for Vajrayogini Kadampa Buddhist Center
REFRESH-INTERVAL;VALUE=DURATION:PT1H
X-Robots-Tag:noindex
X-PUBLISHED-TTL:PT1H
BEGIN:VTIMEZONE
TZID:America/Los_Angeles
BEGIN:DAYLIGHT
TZOFFSETFROM:-0800
TZOFFSETTO:-0700
TZNAME:PDT
DTSTART:20250309T100000
END:DAYLIGHT
BEGIN:STANDARD
TZOFFSETFROM:-0700
TZOFFSETTO:-0800
TZNAME:PST
DTSTART:20251102T090000
END:STANDARD
BEGIN:DAYLIGHT
TZOFFSETFROM:-0800
TZOFFSETTO:-0700
TZNAME:PDT
DTSTART:20260308T100000
END:DAYLIGHT
BEGIN:STANDARD
TZOFFSETFROM:-0700
TZOFFSETTO:-0800
TZNAME:PST
DTSTART:20261101T090000
END:STANDARD
BEGIN:DAYLIGHT
TZOFFSETFROM:-0800
TZOFFSETTO:-0700
TZNAME:PDT
DTSTART:20270314T100000
END:DAYLIGHT
BEGIN:STANDARD
TZOFFSETFROM:-0700
TZOFFSETTO:-0800
TZNAME:PST
DTSTART:20271107T090000
END:STANDARD
BEGIN:DAYLIGHT
TZOFFSETFROM:-0800
TZOFFSETTO:-0700
TZNAME:PDT
DTSTART:20280312T100000
END:DAYLIGHT
BEGIN:STANDARD
TZOFFSETFROM:-0700
TZOFFSETTO:-0800
TZNAME:PST
DTSTART:20281105T090000
END:STANDARD
BEGIN:DAYLIGHT
TZOFFSETFROM:-0800
TZOFFSETTO:-0700
TZNAME:PDT
DTSTART:20290311T100000
END:DAYLIGHT
BEGIN:STANDARD
TZOFFSETFROM:-0700
TZOFFSETTO:-0800
TZNAME:PST
DTSTART:20291104T090000
END:STANDARD
BEGIN:DAYLIGHT
TZOFFSETFROM:-0800
TZOFFSETTO:-0700
TZNAME:PDT
DTSTART:20300310T100000
END:DAYLIGHT
BEGIN:STANDARD
TZOFFSETFROM:-0700
TZOFFSETTO:-0800
TZNAME:PST
DTSTART:20301103T090000
END:STANDARD
BEGIN:DAYLIGHT
TZOFFSETFROM:-0800
TZOFFSETTO:-0700
TZNAME:PDT
DTSTART:20310309T100000
END:DAYLIGHT
BEGIN:STANDARD
TZOFFSETFROM:-0700
TZOFFSETTO:-0800
TZNAME:PST
DTSTART:20311102T090000
END:STANDARD
END:VTIMEZONE
BEGIN:VEVENT
DTSTART;TZID=America/Los_Angeles:20260531T130000
DTEND;TZID=America/Los_Angeles:20260531T163000
DTSTAMP:20260423T090028
CREATED:20260302T015056Z
LAST-MODIFIED:20260302T015057Z
UID:10018314-1780232400-1780245000@www.meditationinorangecounty.org
SUMMARY:Melodious Drum Puja
DESCRIPTION:
URL:https://www.meditationinorangecounty.org/event/long-protector-puja-melodious-drum-2-2/2026-05-31/
LOCATION:Vajrayogini Kadampa Buddhist Center\, 231 Memory Lane\, Santa Ana\, CA\, 92705\, United States
CATEGORIES:Chanted Prayers
ATTACH;FMTTYPE=image/png:https://www.meditationinorangecounty.org/wp-content/uploads/2023/03/Dorje-Shugden-4_transparent-1-2004x2048-1.png
ORGANIZER;CN="Vajrayogini Kadampa Buddhist Center":MAILTO:info@meditationinorangecounty.org/
END:VEVENT
BEGIN:VEVENT
DTSTART;TZID=America/Los_Angeles:20260830T130000
DTEND;TZID=America/Los_Angeles:20260830T163000
DTSTAMP:20260423T090028
CREATED:20260302T015056Z
LAST-MODIFIED:20260302T015057Z
UID:10018315-1788094800-1788107400@www.meditationinorangecounty.org
SUMMARY:Melodious Drum Puja
DESCRIPTION:
URL:https://www.meditationinorangecounty.org/event/long-protector-puja-melodious-drum-2-2/2026-08-30/
LOCATION:Vajrayogini Kadampa Buddhist Center\, 231 Memory Lane\, Santa Ana\, CA\, 92705\, United States
CATEGORIES:Chanted Prayers
ATTACH;FMTTYPE=image/png:https://www.meditationinorangecounty.org/wp-content/uploads/2023/03/Dorje-Shugden-4_transparent-1-2004x2048-1.png
ORGANIZER;CN="Vajrayogini Kadampa Buddhist Center":MAILTO:info@meditationinorangecounty.org/
END:VEVENT
BEGIN:VEVENT
DTSTART;TZID=America/Los_Angeles:20261129T130000
DTEND;TZID=America/Los_Angeles:20261129T163000
DTSTAMP:20260423T090028
CREATED:20260302T015056Z
LAST-MODIFIED:20260302T015057Z
UID:10018316-1795957200-1795969800@www.meditationinorangecounty.org
SUMMARY:Melodious Drum Puja
DESCRIPTION:
URL:https://www.meditationinorangecounty.org/event/long-protector-puja-melodious-drum-2-2/2026-11-29/
LOCATION:Vajrayogini Kadampa Buddhist Center\, 231 Memory Lane\, Santa Ana\, CA\, 92705\, United States
CATEGORIES:Chanted Prayers
ATTACH;FMTTYPE=image/png:https://www.meditationinorangecounty.org/wp-content/uploads/2023/03/Dorje-Shugden-4_transparent-1-2004x2048-1.png
ORGANIZER;CN="Vajrayogini Kadampa Buddhist Center":MAILTO:info@meditationinorangecounty.org/
END:VEVENT
BEGIN:VEVENT
DTSTART;TZID=America/Los_Angeles:20270131T130000
DTEND;TZID=America/Los_Angeles:20270131T163000
DTSTAMP:20260423T090028
CREATED:20260302T015056Z
LAST-MODIFIED:20260302T015057Z
UID:10018317-1801400400-1801413000@www.meditationinorangecounty.org
SUMMARY:Melodious Drum Puja
DESCRIPTION:
URL:https://www.meditationinorangecounty.org/event/long-protector-puja-melodious-drum-2-2/2027-01-31/
LOCATION:Vajrayogini Kadampa Buddhist Center\, 231 Memory Lane\, Santa Ana\, CA\, 92705\, United States
CATEGORIES:Chanted Prayers
ATTACH;FMTTYPE=image/png:https://www.meditationinorangecounty.org/wp-content/uploads/2023/03/Dorje-Shugden-4_transparent-1-2004x2048-1.png
ORGANIZER;CN="Vajrayogini Kadampa Buddhist Center":MAILTO:info@meditationinorangecounty.org/
END:VEVENT
BEGIN:VEVENT
DTSTART;TZID=America/Los_Angeles:20270530T130000
DTEND;TZID=America/Los_Angeles:20270530T163000
DTSTAMP:20260423T090028
CREATED:20260302T015056Z
LAST-MODIFIED:20260302T015057Z
UID:10018318-1811682000-1811694600@www.meditationinorangecounty.org
SUMMARY:Melodious Drum Puja
DESCRIPTION:
URL:https://www.meditationinorangecounty.org/event/long-protector-puja-melodious-drum-2-2/2027-05-30/
LOCATION:Vajrayogini Kadampa Buddhist Center\, 231 Memory Lane\, Santa Ana\, CA\, 92705\, United States
CATEGORIES:Chanted Prayers
ATTACH;FMTTYPE=image/png:https://www.meditationinorangecounty.org/wp-content/uploads/2023/03/Dorje-Shugden-4_transparent-1-2004x2048-1.png
ORGANIZER;CN="Vajrayogini Kadampa Buddhist Center":MAILTO:info@meditationinorangecounty.org/
END:VEVENT
BEGIN:VEVENT
DTSTART;TZID=America/Los_Angeles:20270829T130000
DTEND;TZID=America/Los_Angeles:20270829T163000
DTSTAMP:20260423T090028
CREATED:20260302T015056Z
LAST-MODIFIED:20260302T015057Z
UID:10018319-1819544400-1819557000@www.meditationinorangecounty.org
SUMMARY:Melodious Drum Puja
DESCRIPTION:
URL:https://www.meditationinorangecounty.org/event/long-protector-puja-melodious-drum-2-2/2027-08-29/
LOCATION:Vajrayogini Kadampa Buddhist Center\, 231 Memory Lane\, Santa Ana\, CA\, 92705\, United States
CATEGORIES:Chanted Prayers
ATTACH;FMTTYPE=image/png:https://www.meditationinorangecounty.org/wp-content/uploads/2023/03/Dorje-Shugden-4_transparent-1-2004x2048-1.png
ORGANIZER;CN="Vajrayogini Kadampa Buddhist Center":MAILTO:info@meditationinorangecounty.org/
END:VEVENT
BEGIN:VEVENT
DTSTART;TZID=America/Los_Angeles:20271031T130000
DTEND;TZID=America/Los_Angeles:20271031T163000
DTSTAMP:20260423T090028
CREATED:20260302T015056Z
LAST-MODIFIED:20260302T015057Z
UID:10018320-1824987600-1825000200@www.meditationinorangecounty.org
SUMMARY:Melodious Drum Puja
DESCRIPTION:
URL:https://www.meditationinorangecounty.org/event/long-protector-puja-melodious-drum-2-2/2027-10-31/
LOCATION:Vajrayogini Kadampa Buddhist Center\, 231 Memory Lane\, Santa Ana\, CA\, 92705\, United States
CATEGORIES:Chanted Prayers
ATTACH;FMTTYPE=image/png:https://www.meditationinorangecounty.org/wp-content/uploads/2023/03/Dorje-Shugden-4_transparent-1-2004x2048-1.png
ORGANIZER;CN="Vajrayogini Kadampa Buddhist Center":MAILTO:info@meditationinorangecounty.org/
END:VEVENT
BEGIN:VEVENT
DTSTART;TZID=America/Los_Angeles:20280130T130000
DTEND;TZID=America/Los_Angeles:20280130T163000
DTSTAMP:20260423T090028
CREATED:20260302T015056Z
LAST-MODIFIED:20260302T015057Z
UID:10018321-1832850000-1832862600@www.meditationinorangecounty.org
SUMMARY:Melodious Drum Puja
DESCRIPTION:
URL:https://www.meditationinorangecounty.org/event/long-protector-puja-melodious-drum-2-2/2028-01-30/
LOCATION:Vajrayogini Kadampa Buddhist Center\, 231 Memory Lane\, Santa Ana\, CA\, 92705\, United States
CATEGORIES:Chanted Prayers
ATTACH;FMTTYPE=image/png:https://www.meditationinorangecounty.org/wp-content/uploads/2023/03/Dorje-Shugden-4_transparent-1-2004x2048-1.png
ORGANIZER;CN="Vajrayogini Kadampa Buddhist Center":MAILTO:info@meditationinorangecounty.org/
END:VEVENT
BEGIN:VEVENT
DTSTART;TZID=America/Los_Angeles:20280430T130000
DTEND;TZID=America/Los_Angeles:20280430T163000
DTSTAMP:20260423T090028
CREATED:20260302T015056Z
LAST-MODIFIED:20260302T015057Z
UID:10018322-1840712400-1840725000@www.meditationinorangecounty.org
SUMMARY:Melodious Drum Puja
DESCRIPTION:
URL:https://www.meditationinorangecounty.org/event/long-protector-puja-melodious-drum-2-2/2028-04-30/
LOCATION:Vajrayogini Kadampa Buddhist Center\, 231 Memory Lane\, Santa Ana\, CA\, 92705\, United States
CATEGORIES:Chanted Prayers
ATTACH;FMTTYPE=image/png:https://www.meditationinorangecounty.org/wp-content/uploads/2023/03/Dorje-Shugden-4_transparent-1-2004x2048-1.png
ORGANIZER;CN="Vajrayogini Kadampa Buddhist Center":MAILTO:info@meditationinorangecounty.org/
END:VEVENT
BEGIN:VEVENT
DTSTART;TZID=America/Los_Angeles:20280730T130000
DTEND;TZID=America/Los_Angeles:20280730T163000
DTSTAMP:20260423T090028
CREATED:20260302T015056Z
LAST-MODIFIED:20260302T015057Z
UID:10018323-1848574800-1848587400@www.meditationinorangecounty.org
SUMMARY:Melodious Drum Puja
DESCRIPTION:
URL:https://www.meditationinorangecounty.org/event/long-protector-puja-melodious-drum-2-2/2028-07-30/
LOCATION:Vajrayogini Kadampa Buddhist Center\, 231 Memory Lane\, Santa Ana\, CA\, 92705\, United States
CATEGORIES:Chanted Prayers
ATTACH;FMTTYPE=image/png:https://www.meditationinorangecounty.org/wp-content/uploads/2023/03/Dorje-Shugden-4_transparent-1-2004x2048-1.png
ORGANIZER;CN="Vajrayogini Kadampa Buddhist Center":MAILTO:info@meditationinorangecounty.org/
END:VEVENT
BEGIN:VEVENT
DTSTART;TZID=America/Los_Angeles:20281029T130000
DTEND;TZID=America/Los_Angeles:20281029T163000
DTSTAMP:20260423T090028
CREATED:20260302T015056Z
LAST-MODIFIED:20260302T015057Z
UID:10018324-1856437200-1856449800@www.meditationinorangecounty.org
SUMMARY:Melodious Drum Puja
DESCRIPTION:
URL:https://www.meditationinorangecounty.org/event/long-protector-puja-melodious-drum-2-2/2028-10-29/
LOCATION:Vajrayogini Kadampa Buddhist Center\, 231 Memory Lane\, Santa Ana\, CA\, 92705\, United States
CATEGORIES:Chanted Prayers
ATTACH;FMTTYPE=image/png:https://www.meditationinorangecounty.org/wp-content/uploads/2023/03/Dorje-Shugden-4_transparent-1-2004x2048-1.png
ORGANIZER;CN="Vajrayogini Kadampa Buddhist Center":MAILTO:info@meditationinorangecounty.org/
END:VEVENT
BEGIN:VEVENT
DTSTART;TZID=America/Los_Angeles:20281231T130000
DTEND;TZID=America/Los_Angeles:20281231T163000
DTSTAMP:20260423T090029
CREATED:20260302T015056Z
LAST-MODIFIED:20260302T015057Z
UID:10018325-1861880400-1861893000@www.meditationinorangecounty.org
SUMMARY:Melodious Drum Puja
DESCRIPTION:
URL:https://www.meditationinorangecounty.org/event/long-protector-puja-melodious-drum-2-2/2028-12-31/
LOCATION:Vajrayogini Kadampa Buddhist Center\, 231 Memory Lane\, Santa Ana\, CA\, 92705\, United States
CATEGORIES:Chanted Prayers
ATTACH;FMTTYPE=image/png:https://www.meditationinorangecounty.org/wp-content/uploads/2023/03/Dorje-Shugden-4_transparent-1-2004x2048-1.png
ORGANIZER;CN="Vajrayogini Kadampa Buddhist Center":MAILTO:info@meditationinorangecounty.org/
END:VEVENT
BEGIN:VEVENT
DTSTART;TZID=America/Los_Angeles:20290429T130000
DTEND;TZID=America/Los_Angeles:20290429T163000
DTSTAMP:20260423T090029
CREATED:20260302T015056Z
LAST-MODIFIED:20260302T015057Z
UID:10018326-1872162000-1872174600@www.meditationinorangecounty.org
SUMMARY:Melodious Drum Puja
DESCRIPTION:
URL:https://www.meditationinorangecounty.org/event/long-protector-puja-melodious-drum-2-2/2029-04-29/
LOCATION:Vajrayogini Kadampa Buddhist Center\, 231 Memory Lane\, Santa Ana\, CA\, 92705\, United States
CATEGORIES:Chanted Prayers
ATTACH;FMTTYPE=image/png:https://www.meditationinorangecounty.org/wp-content/uploads/2023/03/Dorje-Shugden-4_transparent-1-2004x2048-1.png
ORGANIZER;CN="Vajrayogini Kadampa Buddhist Center":MAILTO:info@meditationinorangecounty.org/
END:VEVENT
BEGIN:VEVENT
DTSTART;TZID=America/Los_Angeles:20290729T130000
DTEND;TZID=America/Los_Angeles:20290729T163000
DTSTAMP:20260423T090029
CREATED:20260302T015056Z
LAST-MODIFIED:20260302T015057Z
UID:10018327-1880024400-1880037000@www.meditationinorangecounty.org
SUMMARY:Melodious Drum Puja
DESCRIPTION:
URL:https://www.meditationinorangecounty.org/event/long-protector-puja-melodious-drum-2-2/2029-07-29/
LOCATION:Vajrayogini Kadampa Buddhist Center\, 231 Memory Lane\, Santa Ana\, CA\, 92705\, United States
CATEGORIES:Chanted Prayers
ATTACH;FMTTYPE=image/png:https://www.meditationinorangecounty.org/wp-content/uploads/2023/03/Dorje-Shugden-4_transparent-1-2004x2048-1.png
ORGANIZER;CN="Vajrayogini Kadampa Buddhist Center":MAILTO:info@meditationinorangecounty.org/
END:VEVENT
BEGIN:VEVENT
DTSTART;TZID=America/Los_Angeles:20290930T130000
DTEND;TZID=America/Los_Angeles:20290930T163000
DTSTAMP:20260423T090029
CREATED:20260302T015056Z
LAST-MODIFIED:20260302T015057Z
UID:10018328-1885467600-1885480200@www.meditationinorangecounty.org
SUMMARY:Melodious Drum Puja
DESCRIPTION:
URL:https://www.meditationinorangecounty.org/event/long-protector-puja-melodious-drum-2-2/2029-09-30/
LOCATION:Vajrayogini Kadampa Buddhist Center\, 231 Memory Lane\, Santa Ana\, CA\, 92705\, United States
CATEGORIES:Chanted Prayers
ATTACH;FMTTYPE=image/png:https://www.meditationinorangecounty.org/wp-content/uploads/2023/03/Dorje-Shugden-4_transparent-1-2004x2048-1.png
ORGANIZER;CN="Vajrayogini Kadampa Buddhist Center":MAILTO:info@meditationinorangecounty.org/
END:VEVENT
BEGIN:VEVENT
DTSTART;TZID=America/Los_Angeles:20291230T130000
DTEND;TZID=America/Los_Angeles:20291230T163000
DTSTAMP:20260423T090029
CREATED:20260302T015056Z
LAST-MODIFIED:20260302T015057Z
UID:10018329-1893330000-1893342600@www.meditationinorangecounty.org
SUMMARY:Melodious Drum Puja
DESCRIPTION:
URL:https://www.meditationinorangecounty.org/event/long-protector-puja-melodious-drum-2-2/2029-12-30/
LOCATION:Vajrayogini Kadampa Buddhist Center\, 231 Memory Lane\, Santa Ana\, CA\, 92705\, United States
CATEGORIES:Chanted Prayers
ATTACH;FMTTYPE=image/png:https://www.meditationinorangecounty.org/wp-content/uploads/2023/03/Dorje-Shugden-4_transparent-1-2004x2048-1.png
ORGANIZER;CN="Vajrayogini Kadampa Buddhist Center":MAILTO:info@meditationinorangecounty.org/
END:VEVENT
BEGIN:VEVENT
DTSTART;TZID=America/Los_Angeles:20300331T130000
DTEND;TZID=America/Los_Angeles:20300331T163000
DTSTAMP:20260423T090029
CREATED:20260302T015056Z
LAST-MODIFIED:20260302T015057Z
UID:10018330-1901192400-1901205000@www.meditationinorangecounty.org
SUMMARY:Melodious Drum Puja
DESCRIPTION:
URL:https://www.meditationinorangecounty.org/event/long-protector-puja-melodious-drum-2-2/2030-03-31/
LOCATION:Vajrayogini Kadampa Buddhist Center\, 231 Memory Lane\, Santa Ana\, CA\, 92705\, United States
CATEGORIES:Chanted Prayers
ATTACH;FMTTYPE=image/png:https://www.meditationinorangecounty.org/wp-content/uploads/2023/03/Dorje-Shugden-4_transparent-1-2004x2048-1.png
ORGANIZER;CN="Vajrayogini Kadampa Buddhist Center":MAILTO:info@meditationinorangecounty.org/
END:VEVENT
BEGIN:VEVENT
DTSTART;TZID=America/Los_Angeles:20300630T130000
DTEND;TZID=America/Los_Angeles:20300630T163000
DTSTAMP:20260423T090029
CREATED:20260302T015056Z
LAST-MODIFIED:20260302T015057Z
UID:10018331-1909054800-1909067400@www.meditationinorangecounty.org
SUMMARY:Melodious Drum Puja
DESCRIPTION:
URL:https://www.meditationinorangecounty.org/event/long-protector-puja-melodious-drum-2-2/2030-06-30/
LOCATION:Vajrayogini Kadampa Buddhist Center\, 231 Memory Lane\, Santa Ana\, CA\, 92705\, United States
CATEGORIES:Chanted Prayers
ATTACH;FMTTYPE=image/png:https://www.meditationinorangecounty.org/wp-content/uploads/2023/03/Dorje-Shugden-4_transparent-1-2004x2048-1.png
ORGANIZER;CN="Vajrayogini Kadampa Buddhist Center":MAILTO:info@meditationinorangecounty.org/
END:VEVENT
BEGIN:VEVENT
DTSTART;TZID=America/Los_Angeles:20300929T130000
DTEND;TZID=America/Los_Angeles:20300929T163000
DTSTAMP:20260423T090029
CREATED:20260302T015056Z
LAST-MODIFIED:20260302T015057Z
UID:10018332-1916917200-1916929800@www.meditationinorangecounty.org
SUMMARY:Melodious Drum Puja
DESCRIPTION:
URL:https://www.meditationinorangecounty.org/event/long-protector-puja-melodious-drum-2-2/2030-09-29/
LOCATION:Vajrayogini Kadampa Buddhist Center\, 231 Memory Lane\, Santa Ana\, CA\, 92705\, United States
CATEGORIES:Chanted Prayers
ATTACH;FMTTYPE=image/png:https://www.meditationinorangecounty.org/wp-content/uploads/2023/03/Dorje-Shugden-4_transparent-1-2004x2048-1.png
ORGANIZER;CN="Vajrayogini Kadampa Buddhist Center":MAILTO:info@meditationinorangecounty.org/
END:VEVENT
BEGIN:VEVENT
DTSTART;TZID=America/Los_Angeles:20301229T130000
DTEND;TZID=America/Los_Angeles:20301229T163000
DTSTAMP:20260423T090029
CREATED:20260302T015056Z
LAST-MODIFIED:20260302T015057Z
UID:10018333-1924779600-1924792200@www.meditationinorangecounty.org
SUMMARY:Melodious Drum Puja
DESCRIPTION:
URL:https://www.meditationinorangecounty.org/event/long-protector-puja-melodious-drum-2-2/2030-12-29/
LOCATION:Vajrayogini Kadampa Buddhist Center\, 231 Memory Lane\, Santa Ana\, CA\, 92705\, United States
CATEGORIES:Chanted Prayers
ATTACH;FMTTYPE=image/png:https://www.meditationinorangecounty.org/wp-content/uploads/2023/03/Dorje-Shugden-4_transparent-1-2004x2048-1.png
ORGANIZER;CN="Vajrayogini Kadampa Buddhist Center":MAILTO:info@meditationinorangecounty.org/
END:VEVENT
END:VCALENDAR