BEGIN:VCALENDAR
VERSION:2.0
PRODID:-//Vajrayogini Kadampa Buddhist Center - ECPv6.15.20//NONSGML v1.0//EN
CALSCALE:GREGORIAN
METHOD:PUBLISH
X-ORIGINAL-URL:https://www.meditationinorangecounty.org
X-WR-CALDESC:Events for Vajrayogini Kadampa Buddhist Center
REFRESH-INTERVAL;VALUE=DURATION:PT1H
X-Robots-Tag:noindex
X-PUBLISHED-TTL:PT1H
BEGIN:VTIMEZONE
TZID:America/Los_Angeles
BEGIN:DAYLIGHT
TZOFFSETFROM:-0800
TZOFFSETTO:-0700
TZNAME:PDT
DTSTART:20250309T100000
END:DAYLIGHT
BEGIN:STANDARD
TZOFFSETFROM:-0700
TZOFFSETTO:-0800
TZNAME:PST
DTSTART:20251102T090000
END:STANDARD
BEGIN:DAYLIGHT
TZOFFSETFROM:-0800
TZOFFSETTO:-0700
TZNAME:PDT
DTSTART:20260308T100000
END:DAYLIGHT
BEGIN:STANDARD
TZOFFSETFROM:-0700
TZOFFSETTO:-0800
TZNAME:PST
DTSTART:20261101T090000
END:STANDARD
BEGIN:DAYLIGHT
TZOFFSETFROM:-0800
TZOFFSETTO:-0700
TZNAME:PDT
DTSTART:20270314T100000
END:DAYLIGHT
BEGIN:STANDARD
TZOFFSETFROM:-0700
TZOFFSETTO:-0800
TZNAME:PST
DTSTART:20271107T090000
END:STANDARD
END:VTIMEZONE
BEGIN:VEVENT
DTSTART;TZID=America/Los_Angeles:20260701T180000
DTEND;TZID=America/Los_Angeles:20260701T191500
DTSTAMP:20260423T115446
CREATED:20251224T004230Z
LAST-MODIFIED:20260325T142607Z
UID:10016117-1782928800-1782933300@www.meditationinorangecounty.org
SUMMARY:Seal Beach Class
DESCRIPTION:Click here for more information
URL:https://www.meditationinorangecounty.org/event/wednesday-evening-meditation-class-seal-beach/2026-07-01/
LOCATION:McKenna's Tea Cottage\, 237 Main Street\, Seal Beach\, 90740\, United States
ATTACH;FMTTYPE=image/png:https://www.meditationinorangecounty.org/wp-content/uploads/2025/12/Seal-Beach-2.png
ORGANIZER;CN="Vajrayogini Kadampa Buddhist Center":MAILTO:info@meditationinorangecounty.org/
END:VEVENT
BEGIN:VEVENT
DTSTART;TZID=America/Los_Angeles:20260702T190000
DTEND;TZID=America/Los_Angeles:20260702T203000
DTSTAMP:20260423T115446
CREATED:20251225T035704Z
LAST-MODIFIED:20251225T040419Z
UID:10006365-1783018800-1783024200@www.meditationinorangecounty.org
SUMMARY:Santa Ana Class
DESCRIPTION:
URL:https://www.meditationinorangecounty.org/event/santa-ana-meditation-class-3-2-2-2/2026-07-02/
LOCATION:Vajrayogini Kadampa Buddhist Center\, 231 Memory Lane\, Santa Ana\, CA\, 92705\, United States
CATEGORIES:Classes
ATTACH;FMTTYPE=image/png:https://www.meditationinorangecounty.org/wp-content/uploads/2023/03/New-Logo-VKBC-red-on-white-SQ-Transparent.png
ORGANIZER;CN="Vajrayogini Kadampa Buddhist Center":MAILTO:info@meditationinorangecounty.org/
END:VEVENT
BEGIN:VEVENT
DTSTART;TZID=America/Los_Angeles:20260705T100000
DTEND;TZID=America/Los_Angeles:20260705T113000
DTSTAMP:20260423T115446
CREATED:20250104T013259Z
LAST-MODIFIED:20260331T024415Z
UID:10015792-1783245600-1783251000@www.meditationinorangecounty.org
SUMMARY:Sunday Morning Meditation Class (Santa Ana)
DESCRIPTION:
URL:https://www.meditationinorangecounty.org/event/sunday-afternoon-meditation-class-2-2-2-2-2-2-2/2026-07-05/
LOCATION:Vajrayogini Kadampa Buddhist Center\, 231 Memory Lane\, Santa Ana\, CA\, 92705\, United States
CATEGORIES:Classes
ATTACH;FMTTYPE=image/png:https://www.meditationinorangecounty.org/wp-content/uploads/2023/03/New-Logo-VKBC-red-on-white-SQ-Transparent.png
ORGANIZER;CN="Vajrayogini Kadampa Buddhist Center":MAILTO:info@meditationinorangecounty.org/
END:VEVENT
BEGIN:VEVENT
DTSTART;TZID=America/Los_Angeles:20260707T190000
DTEND;TZID=America/Los_Angeles:20260707T203000
DTSTAMP:20260423T115446
CREATED:20230330T032525Z
LAST-MODIFIED:20251225T033638Z
UID:10005855-1783450800-1783456200@www.meditationinorangecounty.org
SUMMARY:San Clemente Class
DESCRIPTION:
URL:https://www.meditationinorangecounty.org/event/san-clemente-meditation-class-2/2026-07-07/
LOCATION:CA
CATEGORIES:Classes
ATTACH;FMTTYPE=image/png:https://www.meditationinorangecounty.org/wp-content/uploads/2023/03/San-Clemente-Branch-Square-Graphic-min.png
ORGANIZER;CN="Vajrayogini Kadampa Buddhist Center":MAILTO:info@meditationinorangecounty.org/
END:VEVENT
BEGIN:VEVENT
DTSTART;VALUE=DATE:20260708
DTEND;VALUE=DATE:20260709
DTSTAMP:20260423T115446
CREATED:20260209T160755Z
LAST-MODIFIED:20260209T160756Z
UID:10018144-1783468800-1783551599@www.meditationinorangecounty.org
SUMMARY:Green Tara Day
DESCRIPTION:
URL:https://www.meditationinorangecounty.org/event/green-tara-day-2/2026-07-08/
LOCATION:Vajrayogini Kadampa Buddhist Center\, 231 Memory Lane\, Santa Ana\, CA\, 92705\, United States
ATTACH;FMTTYPE=image/png:https://www.meditationinorangecounty.org/wp-content/uploads/2025/01/Kadampa-Summer-Festival-2025-–-Buddha-Green-Tara-Merged-2x-768x801-1.png
ORGANIZER;CN="Vajrayogini Kadampa Buddhist Center":MAILTO:info@meditationinorangecounty.org/
END:VEVENT
BEGIN:VEVENT
DTSTART;TZID=America/Los_Angeles:20260708T180000
DTEND;TZID=America/Los_Angeles:20260708T191500
DTSTAMP:20260423T115446
CREATED:20251224T004230Z
LAST-MODIFIED:20260325T142607Z
UID:10016118-1783533600-1783538100@www.meditationinorangecounty.org
SUMMARY:Seal Beach Class
DESCRIPTION:Click here for more information
URL:https://www.meditationinorangecounty.org/event/wednesday-evening-meditation-class-seal-beach/2026-07-08/
LOCATION:McKenna's Tea Cottage\, 237 Main Street\, Seal Beach\, 90740\, United States
ATTACH;FMTTYPE=image/png:https://www.meditationinorangecounty.org/wp-content/uploads/2025/12/Seal-Beach-2.png
ORGANIZER;CN="Vajrayogini Kadampa Buddhist Center":MAILTO:info@meditationinorangecounty.org/
END:VEVENT
BEGIN:VEVENT
DTSTART;TZID=America/Los_Angeles:20260709T190000
DTEND;TZID=America/Los_Angeles:20260709T203000
DTSTAMP:20260423T115446
CREATED:20251225T035704Z
LAST-MODIFIED:20251225T040419Z
UID:10006366-1783623600-1783629000@www.meditationinorangecounty.org
SUMMARY:Santa Ana Class
DESCRIPTION:
URL:https://www.meditationinorangecounty.org/event/santa-ana-meditation-class-3-2-2-2/2026-07-09/
LOCATION:Vajrayogini Kadampa Buddhist Center\, 231 Memory Lane\, Santa Ana\, CA\, 92705\, United States
CATEGORIES:Classes
ATTACH;FMTTYPE=image/png:https://www.meditationinorangecounty.org/wp-content/uploads/2023/03/New-Logo-VKBC-red-on-white-SQ-Transparent.png
ORGANIZER;CN="Vajrayogini Kadampa Buddhist Center":MAILTO:info@meditationinorangecounty.org/
END:VEVENT
BEGIN:VEVENT
DTSTART;TZID=America/Los_Angeles:20260710T110000
DTEND;TZID=America/Los_Angeles:20260710T130000
DTSTAMP:20260423T115447
CREATED:20240525T191310Z
LAST-MODIFIED:20260324T145734Z
UID:10018068-1783681200-1783688400@www.meditationinorangecounty.org
SUMMARY:Offering to the Spiritual Guide
DESCRIPTION:
URL:https://www.meditationinorangecounty.org/event/offering-to-the-spiritual-guide-prayers-2/2026-07-10/
LOCATION:Vajrayogini Kadampa Buddhist Center\, 231 Memory Lane\, Santa Ana\, CA\, 92705\, United States
CATEGORIES:Chanted Prayers
ATTACH;FMTTYPE=image/jpeg:https://www.meditationinorangecounty.org/wp-content/uploads/2021/04/guru-sumati-buddha-heruka.jpeg
ORGANIZER;CN="Vajrayogini Kadampa Buddhist Center":MAILTO:info@meditationinorangecounty.org/
END:VEVENT
BEGIN:VEVENT
DTSTART;TZID=America/Los_Angeles:20260712T100000
DTEND;TZID=America/Los_Angeles:20260712T113000
DTSTAMP:20260423T115447
CREATED:20250104T013259Z
LAST-MODIFIED:20260331T024415Z
UID:10015793-1783850400-1783855800@www.meditationinorangecounty.org
SUMMARY:Sunday Morning Meditation Class (Santa Ana)
DESCRIPTION:
URL:https://www.meditationinorangecounty.org/event/sunday-afternoon-meditation-class-2-2-2-2-2-2-2/2026-07-12/
LOCATION:Vajrayogini Kadampa Buddhist Center\, 231 Memory Lane\, Santa Ana\, CA\, 92705\, United States
CATEGORIES:Classes
ATTACH;FMTTYPE=image/png:https://www.meditationinorangecounty.org/wp-content/uploads/2023/03/New-Logo-VKBC-red-on-white-SQ-Transparent.png
ORGANIZER;CN="Vajrayogini Kadampa Buddhist Center":MAILTO:info@meditationinorangecounty.org/
END:VEVENT
BEGIN:VEVENT
DTSTART;TZID=America/Los_Angeles:20260714T190000
DTEND;TZID=America/Los_Angeles:20260714T203000
DTSTAMP:20260423T115447
CREATED:20230330T032525Z
LAST-MODIFIED:20251225T033638Z
UID:10005856-1784055600-1784061000@www.meditationinorangecounty.org
SUMMARY:San Clemente Class
DESCRIPTION:
URL:https://www.meditationinorangecounty.org/event/san-clemente-meditation-class-2/2026-07-14/
LOCATION:CA
CATEGORIES:Classes
ATTACH;FMTTYPE=image/png:https://www.meditationinorangecounty.org/wp-content/uploads/2023/03/San-Clemente-Branch-Square-Graphic-min.png
ORGANIZER;CN="Vajrayogini Kadampa Buddhist Center":MAILTO:info@meditationinorangecounty.org/
END:VEVENT
BEGIN:VEVENT
DTSTART;TZID=America/Los_Angeles:20260715T180000
DTEND;TZID=America/Los_Angeles:20260715T191500
DTSTAMP:20260423T115447
CREATED:20251224T004230Z
LAST-MODIFIED:20260325T142607Z
UID:10016119-1784138400-1784142900@www.meditationinorangecounty.org
SUMMARY:Seal Beach Class
DESCRIPTION:Click here for more information
URL:https://www.meditationinorangecounty.org/event/wednesday-evening-meditation-class-seal-beach/2026-07-15/
LOCATION:McKenna's Tea Cottage\, 237 Main Street\, Seal Beach\, 90740\, United States
ATTACH;FMTTYPE=image/png:https://www.meditationinorangecounty.org/wp-content/uploads/2025/12/Seal-Beach-2.png
ORGANIZER;CN="Vajrayogini Kadampa Buddhist Center":MAILTO:info@meditationinorangecounty.org/
END:VEVENT
BEGIN:VEVENT
DTSTART;TZID=America/Los_Angeles:20260716T190000
DTEND;TZID=America/Los_Angeles:20260716T203000
DTSTAMP:20260423T115447
CREATED:20251225T035704Z
LAST-MODIFIED:20251225T040419Z
UID:10006367-1784228400-1784233800@www.meditationinorangecounty.org
SUMMARY:Santa Ana Class
DESCRIPTION:
URL:https://www.meditationinorangecounty.org/event/santa-ana-meditation-class-3-2-2-2/2026-07-16/
LOCATION:Vajrayogini Kadampa Buddhist Center\, 231 Memory Lane\, Santa Ana\, CA\, 92705\, United States
CATEGORIES:Classes
ATTACH;FMTTYPE=image/png:https://www.meditationinorangecounty.org/wp-content/uploads/2023/03/New-Logo-VKBC-red-on-white-SQ-Transparent.png
ORGANIZER;CN="Vajrayogini Kadampa Buddhist Center":MAILTO:info@meditationinorangecounty.org/
END:VEVENT
BEGIN:VEVENT
DTSTART;TZID=America/Los_Angeles:20260719T100000
DTEND;TZID=America/Los_Angeles:20260719T113000
DTSTAMP:20260423T115447
CREATED:20250104T013259Z
LAST-MODIFIED:20260331T024415Z
UID:10015794-1784455200-1784460600@www.meditationinorangecounty.org
SUMMARY:Sunday Morning Meditation Class (Santa Ana)
DESCRIPTION:
URL:https://www.meditationinorangecounty.org/event/sunday-afternoon-meditation-class-2-2-2-2-2-2-2/2026-07-19/
LOCATION:Vajrayogini Kadampa Buddhist Center\, 231 Memory Lane\, Santa Ana\, CA\, 92705\, United States
CATEGORIES:Classes
ATTACH;FMTTYPE=image/png:https://www.meditationinorangecounty.org/wp-content/uploads/2023/03/New-Logo-VKBC-red-on-white-SQ-Transparent.png
ORGANIZER;CN="Vajrayogini Kadampa Buddhist Center":MAILTO:info@meditationinorangecounty.org/
END:VEVENT
BEGIN:VEVENT
DTSTART;TZID=America/Los_Angeles:20260721T190000
DTEND;TZID=America/Los_Angeles:20260721T203000
DTSTAMP:20260423T115447
CREATED:20230330T032525Z
LAST-MODIFIED:20251225T033638Z
UID:10005857-1784660400-1784665800@www.meditationinorangecounty.org
SUMMARY:San Clemente Class
DESCRIPTION:
URL:https://www.meditationinorangecounty.org/event/san-clemente-meditation-class-2/2026-07-21/
LOCATION:CA
CATEGORIES:Classes
ATTACH;FMTTYPE=image/png:https://www.meditationinorangecounty.org/wp-content/uploads/2023/03/San-Clemente-Branch-Square-Graphic-min.png
ORGANIZER;CN="Vajrayogini Kadampa Buddhist Center":MAILTO:info@meditationinorangecounty.org/
END:VEVENT
BEGIN:VEVENT
DTSTART;TZID=America/Los_Angeles:20260722T180000
DTEND;TZID=America/Los_Angeles:20260722T191500
DTSTAMP:20260423T115447
CREATED:20251224T004230Z
LAST-MODIFIED:20260325T142607Z
UID:10016120-1784743200-1784747700@www.meditationinorangecounty.org
SUMMARY:Seal Beach Class
DESCRIPTION:Click here for more information
URL:https://www.meditationinorangecounty.org/event/wednesday-evening-meditation-class-seal-beach/2026-07-22/
LOCATION:McKenna's Tea Cottage\, 237 Main Street\, Seal Beach\, 90740\, United States
ATTACH;FMTTYPE=image/png:https://www.meditationinorangecounty.org/wp-content/uploads/2025/12/Seal-Beach-2.png
ORGANIZER;CN="Vajrayogini Kadampa Buddhist Center":MAILTO:info@meditationinorangecounty.org/
END:VEVENT
BEGIN:VEVENT
DTSTART;TZID=America/Los_Angeles:20260723T190000
DTEND;TZID=America/Los_Angeles:20260723T203000
DTSTAMP:20260423T115447
CREATED:20251225T035704Z
LAST-MODIFIED:20251225T040419Z
UID:10006368-1784833200-1784838600@www.meditationinorangecounty.org
SUMMARY:Santa Ana Class
DESCRIPTION:
URL:https://www.meditationinorangecounty.org/event/santa-ana-meditation-class-3-2-2-2/2026-07-23/
LOCATION:Vajrayogini Kadampa Buddhist Center\, 231 Memory Lane\, Santa Ana\, CA\, 92705\, United States
CATEGORIES:Classes
ATTACH;FMTTYPE=image/png:https://www.meditationinorangecounty.org/wp-content/uploads/2023/03/New-Logo-VKBC-red-on-white-SQ-Transparent.png
ORGANIZER;CN="Vajrayogini Kadampa Buddhist Center":MAILTO:info@meditationinorangecounty.org/
END:VEVENT
BEGIN:VEVENT
DTSTART;TZID=America/Los_Angeles:20260725T190000
DTEND;TZID=America/Los_Angeles:20260725T210000
DTSTAMP:20260423T115447
CREATED:20231222T194507Z
LAST-MODIFIED:20260331T023912Z
UID:10018338-1785006000-1785013200@www.meditationinorangecounty.org
SUMMARY:Offering to the Spiritual Guide
DESCRIPTION:
URL:https://www.meditationinorangecounty.org/event/offering-to-the-spiritual-guide-prayers-2-2-2/2026-07-25/
LOCATION:Vajrayogini Kadampa Buddhist Center\, 231 Memory Lane\, Santa Ana\, CA\, 92705\, United States
CATEGORIES:Chanted Prayers
ATTACH;FMTTYPE=image/jpeg:https://www.meditationinorangecounty.org/wp-content/uploads/2021/04/guru-sumati-buddha-heruka.jpeg
ORGANIZER;CN="Vajrayogini Kadampa Buddhist Center":MAILTO:info@meditationinorangecounty.org/
END:VEVENT
BEGIN:VEVENT
DTSTART;TZID=America/Los_Angeles:20260726T100000
DTEND;TZID=America/Los_Angeles:20260726T113000
DTSTAMP:20260423T115447
CREATED:20250104T013259Z
LAST-MODIFIED:20260331T024415Z
UID:10015795-1785060000-1785065400@www.meditationinorangecounty.org
SUMMARY:Sunday Morning Meditation Class (Santa Ana)
DESCRIPTION:
URL:https://www.meditationinorangecounty.org/event/sunday-afternoon-meditation-class-2-2-2-2-2-2-2/2026-07-26/
LOCATION:Vajrayogini Kadampa Buddhist Center\, 231 Memory Lane\, Santa Ana\, CA\, 92705\, United States
CATEGORIES:Classes
ATTACH;FMTTYPE=image/png:https://www.meditationinorangecounty.org/wp-content/uploads/2023/03/New-Logo-VKBC-red-on-white-SQ-Transparent.png
ORGANIZER;CN="Vajrayogini Kadampa Buddhist Center":MAILTO:info@meditationinorangecounty.org/
END:VEVENT
BEGIN:VEVENT
DTSTART;TZID=America/Los_Angeles:20260728T190000
DTEND;TZID=America/Los_Angeles:20260728T203000
DTSTAMP:20260423T115447
CREATED:20230330T032525Z
LAST-MODIFIED:20251225T033638Z
UID:10005858-1785265200-1785270600@www.meditationinorangecounty.org
SUMMARY:San Clemente Class
DESCRIPTION:
URL:https://www.meditationinorangecounty.org/event/san-clemente-meditation-class-2/2026-07-28/
LOCATION:CA
CATEGORIES:Classes
ATTACH;FMTTYPE=image/png:https://www.meditationinorangecounty.org/wp-content/uploads/2023/03/San-Clemente-Branch-Square-Graphic-min.png
ORGANIZER;CN="Vajrayogini Kadampa Buddhist Center":MAILTO:info@meditationinorangecounty.org/
END:VEVENT
BEGIN:VEVENT
DTSTART;TZID=America/Los_Angeles:20260729T180000
DTEND;TZID=America/Los_Angeles:20260729T191500
DTSTAMP:20260423T115447
CREATED:20251224T004230Z
LAST-MODIFIED:20260325T142607Z
UID:10016121-1785348000-1785352500@www.meditationinorangecounty.org
SUMMARY:Seal Beach Class
DESCRIPTION:Click here for more information
URL:https://www.meditationinorangecounty.org/event/wednesday-evening-meditation-class-seal-beach/2026-07-29/
LOCATION:McKenna's Tea Cottage\, 237 Main Street\, Seal Beach\, 90740\, United States
ATTACH;FMTTYPE=image/png:https://www.meditationinorangecounty.org/wp-content/uploads/2025/12/Seal-Beach-2.png
ORGANIZER;CN="Vajrayogini Kadampa Buddhist Center":MAILTO:info@meditationinorangecounty.org/
END:VEVENT
BEGIN:VEVENT
DTSTART;TZID=America/Los_Angeles:20260730T190000
DTEND;TZID=America/Los_Angeles:20260730T203000
DTSTAMP:20260423T115447
CREATED:20251225T035704Z
LAST-MODIFIED:20251225T040419Z
UID:10006369-1785438000-1785443400@www.meditationinorangecounty.org
SUMMARY:Santa Ana Class
DESCRIPTION:
URL:https://www.meditationinorangecounty.org/event/santa-ana-meditation-class-3-2-2-2/2026-07-30/
LOCATION:Vajrayogini Kadampa Buddhist Center\, 231 Memory Lane\, Santa Ana\, CA\, 92705\, United States
CATEGORIES:Classes
ATTACH;FMTTYPE=image/png:https://www.meditationinorangecounty.org/wp-content/uploads/2023/03/New-Logo-VKBC-red-on-white-SQ-Transparent.png
ORGANIZER;CN="Vajrayogini Kadampa Buddhist Center":MAILTO:info@meditationinorangecounty.org/
END:VEVENT
END:VCALENDAR