BEGIN:VCALENDAR
VERSION:2.0
PRODID:-//Vajrayogini Kadampa Buddhist Center - ECPv6.15.20//NONSGML v1.0//EN
CALSCALE:GREGORIAN
METHOD:PUBLISH
X-ORIGINAL-URL:https://www.meditationinorangecounty.org
X-WR-CALDESC:Events for Vajrayogini Kadampa Buddhist Center
REFRESH-INTERVAL;VALUE=DURATION:PT1H
X-Robots-Tag:noindex
X-PUBLISHED-TTL:PT1H
BEGIN:VTIMEZONE
TZID:America/Los_Angeles
BEGIN:DAYLIGHT
TZOFFSETFROM:-0800
TZOFFSETTO:-0700
TZNAME:PDT
DTSTART:20270314T100000
END:DAYLIGHT
BEGIN:STANDARD
TZOFFSETFROM:-0700
TZOFFSETTO:-0800
TZNAME:PST
DTSTART:20271107T090000
END:STANDARD
BEGIN:DAYLIGHT
TZOFFSETFROM:-0800
TZOFFSETTO:-0700
TZNAME:PDT
DTSTART:20280312T100000
END:DAYLIGHT
BEGIN:STANDARD
TZOFFSETFROM:-0700
TZOFFSETTO:-0800
TZNAME:PST
DTSTART:20281105T090000
END:STANDARD
BEGIN:DAYLIGHT
TZOFFSETFROM:-0800
TZOFFSETTO:-0700
TZNAME:PDT
DTSTART:20290311T100000
END:DAYLIGHT
BEGIN:STANDARD
TZOFFSETFROM:-0700
TZOFFSETTO:-0800
TZNAME:PST
DTSTART:20291104T090000
END:STANDARD
END:VTIMEZONE
BEGIN:VEVENT
DTSTART;TZID=America/Los_Angeles:20280202T180000
DTEND;TZID=America/Los_Angeles:20280202T191500
DTSTAMP:20260425T202953
CREATED:20251224T004230Z
LAST-MODIFIED:20260325T142607Z
UID:10016200-1833127200-1833131700@www.meditationinorangecounty.org
SUMMARY:Seal Beach Class
DESCRIPTION:Click here for more information
URL:https://www.meditationinorangecounty.org/event/wednesday-evening-meditation-class-seal-beach/2028-02-02/
LOCATION:McKenna's Tea Cottage\, 237 Main Street\, Seal Beach\, 90740\, United States
ATTACH;FMTTYPE=image/png:https://www.meditationinorangecounty.org/wp-content/uploads/2025/12/Seal-Beach-2.png
ORGANIZER;CN="Vajrayogini Kadampa Buddhist Center":MAILTO:info@meditationinorangecounty.org/
END:VEVENT
BEGIN:VEVENT
DTSTART;TZID=America/Los_Angeles:20280203T190000
DTEND;TZID=America/Los_Angeles:20280203T203000
DTSTAMP:20260425T202953
CREATED:20251225T035704Z
LAST-MODIFIED:20251225T040419Z
UID:10006448-1833217200-1833222600@www.meditationinorangecounty.org
SUMMARY:Santa Ana Class
DESCRIPTION:
URL:https://www.meditationinorangecounty.org/event/santa-ana-meditation-class-3-2-2-2/2028-02-03/
LOCATION:Vajrayogini Kadampa Buddhist Center\, 231 Memory Lane\, Santa Ana\, CA\, 92705\, United States
CATEGORIES:Classes
ATTACH;FMTTYPE=image/png:https://www.meditationinorangecounty.org/wp-content/uploads/2023/03/New-Logo-VKBC-red-on-white-SQ-Transparent.png
ORGANIZER;CN="Vajrayogini Kadampa Buddhist Center":MAILTO:info@meditationinorangecounty.org/
END:VEVENT
BEGIN:VEVENT
DTSTART;VALUE=DATE:20280208
DTEND;VALUE=DATE:20280209
DTSTAMP:20260425T202953
CREATED:20260209T160755Z
LAST-MODIFIED:20260209T160756Z
UID:10018163-1833580800-1833663599@www.meditationinorangecounty.org
SUMMARY:Green Tara Day
DESCRIPTION:
URL:https://www.meditationinorangecounty.org/event/green-tara-day-2/2028-02-08/
LOCATION:Vajrayogini Kadampa Buddhist Center\, 231 Memory Lane\, Santa Ana\, CA\, 92705\, United States
ATTACH;FMTTYPE=image/png:https://www.meditationinorangecounty.org/wp-content/uploads/2025/01/Kadampa-Summer-Festival-2025-–-Buddha-Green-Tara-Merged-2x-768x801-1.png
ORGANIZER;CN="Vajrayogini Kadampa Buddhist Center":MAILTO:info@meditationinorangecounty.org/
END:VEVENT
BEGIN:VEVENT
DTSTART;TZID=America/Los_Angeles:20280208T190000
DTEND;TZID=America/Los_Angeles:20280208T203000
DTSTAMP:20260425T202953
CREATED:20230330T032525Z
LAST-MODIFIED:20251225T033638Z
UID:10005938-1833649200-1833654600@www.meditationinorangecounty.org
SUMMARY:San Clemente Class
DESCRIPTION:
URL:https://www.meditationinorangecounty.org/event/san-clemente-meditation-class-2/2028-02-08/
LOCATION:CA
CATEGORIES:Classes
ATTACH;FMTTYPE=image/png:https://www.meditationinorangecounty.org/wp-content/uploads/2023/03/San-Clemente-Branch-Square-Graphic-min.png
ORGANIZER;CN="Vajrayogini Kadampa Buddhist Center":MAILTO:info@meditationinorangecounty.org/
END:VEVENT
BEGIN:VEVENT
DTSTART;TZID=America/Los_Angeles:20280209T180000
DTEND;TZID=America/Los_Angeles:20280209T191500
DTSTAMP:20260425T202953
CREATED:20251224T004230Z
LAST-MODIFIED:20260325T142607Z
UID:10016201-1833732000-1833736500@www.meditationinorangecounty.org
SUMMARY:Seal Beach Class
DESCRIPTION:Click here for more information
URL:https://www.meditationinorangecounty.org/event/wednesday-evening-meditation-class-seal-beach/2028-02-09/
LOCATION:McKenna's Tea Cottage\, 237 Main Street\, Seal Beach\, 90740\, United States
ATTACH;FMTTYPE=image/png:https://www.meditationinorangecounty.org/wp-content/uploads/2025/12/Seal-Beach-2.png
ORGANIZER;CN="Vajrayogini Kadampa Buddhist Center":MAILTO:info@meditationinorangecounty.org/
END:VEVENT
BEGIN:VEVENT
DTSTART;TZID=America/Los_Angeles:20280210T110000
DTEND;TZID=America/Los_Angeles:20280210T130000
DTSTAMP:20260425T202953
CREATED:20240525T191310Z
LAST-MODIFIED:20260424T144911Z
UID:10018087-1833793200-1833800400@www.meditationinorangecounty.org
SUMMARY:Offering to the Spiritual Guide
DESCRIPTION:
URL:https://www.meditationinorangecounty.org/event/offering-to-the-spiritual-guide-prayers-2/2028-02-10/
LOCATION:Vajrayogini Kadampa Buddhist Center\, 231 Memory Lane\, Santa Ana\, CA\, 92705\, United States
CATEGORIES:Chanted Prayers
ATTACH;FMTTYPE=image/jpeg:https://www.meditationinorangecounty.org/wp-content/uploads/2021/04/guru-sumati-buddha-heruka.jpeg
ORGANIZER;CN="Vajrayogini Kadampa Buddhist Center":MAILTO:info@meditationinorangecounty.org/
END:VEVENT
BEGIN:VEVENT
DTSTART;TZID=America/Los_Angeles:20280210T190000
DTEND;TZID=America/Los_Angeles:20280210T203000
DTSTAMP:20260425T202953
CREATED:20251225T035704Z
LAST-MODIFIED:20251225T040419Z
UID:10006449-1833822000-1833827400@www.meditationinorangecounty.org
SUMMARY:Santa Ana Class
DESCRIPTION:
URL:https://www.meditationinorangecounty.org/event/santa-ana-meditation-class-3-2-2-2/2028-02-10/
LOCATION:Vajrayogini Kadampa Buddhist Center\, 231 Memory Lane\, Santa Ana\, CA\, 92705\, United States
CATEGORIES:Classes
ATTACH;FMTTYPE=image/png:https://www.meditationinorangecounty.org/wp-content/uploads/2023/03/New-Logo-VKBC-red-on-white-SQ-Transparent.png
ORGANIZER;CN="Vajrayogini Kadampa Buddhist Center":MAILTO:info@meditationinorangecounty.org/
END:VEVENT
BEGIN:VEVENT
DTSTART;TZID=America/Los_Angeles:20280215T190000
DTEND;TZID=America/Los_Angeles:20280215T203000
DTSTAMP:20260425T202953
CREATED:20230330T032525Z
LAST-MODIFIED:20251225T033638Z
UID:10005939-1834254000-1834259400@www.meditationinorangecounty.org
SUMMARY:San Clemente Class
DESCRIPTION:
URL:https://www.meditationinorangecounty.org/event/san-clemente-meditation-class-2/2028-02-15/
LOCATION:CA
CATEGORIES:Classes
ATTACH;FMTTYPE=image/png:https://www.meditationinorangecounty.org/wp-content/uploads/2023/03/San-Clemente-Branch-Square-Graphic-min.png
ORGANIZER;CN="Vajrayogini Kadampa Buddhist Center":MAILTO:info@meditationinorangecounty.org/
END:VEVENT
BEGIN:VEVENT
DTSTART;TZID=America/Los_Angeles:20280216T180000
DTEND;TZID=America/Los_Angeles:20280216T191500
DTSTAMP:20260425T202953
CREATED:20251224T004230Z
LAST-MODIFIED:20260325T142607Z
UID:10016202-1834336800-1834341300@www.meditationinorangecounty.org
SUMMARY:Seal Beach Class
DESCRIPTION:Click here for more information
URL:https://www.meditationinorangecounty.org/event/wednesday-evening-meditation-class-seal-beach/2028-02-16/
LOCATION:McKenna's Tea Cottage\, 237 Main Street\, Seal Beach\, 90740\, United States
ATTACH;FMTTYPE=image/png:https://www.meditationinorangecounty.org/wp-content/uploads/2025/12/Seal-Beach-2.png
ORGANIZER;CN="Vajrayogini Kadampa Buddhist Center":MAILTO:info@meditationinorangecounty.org/
END:VEVENT
BEGIN:VEVENT
DTSTART;TZID=America/Los_Angeles:20280217T190000
DTEND;TZID=America/Los_Angeles:20280217T203000
DTSTAMP:20260425T202953
CREATED:20251225T035704Z
LAST-MODIFIED:20251225T040419Z
UID:10006450-1834426800-1834432200@www.meditationinorangecounty.org
SUMMARY:Santa Ana Class
DESCRIPTION:
URL:https://www.meditationinorangecounty.org/event/santa-ana-meditation-class-3-2-2-2/2028-02-17/
LOCATION:Vajrayogini Kadampa Buddhist Center\, 231 Memory Lane\, Santa Ana\, CA\, 92705\, United States
CATEGORIES:Classes
ATTACH;FMTTYPE=image/png:https://www.meditationinorangecounty.org/wp-content/uploads/2023/03/New-Logo-VKBC-red-on-white-SQ-Transparent.png
ORGANIZER;CN="Vajrayogini Kadampa Buddhist Center":MAILTO:info@meditationinorangecounty.org/
END:VEVENT
BEGIN:VEVENT
DTSTART;TZID=America/Los_Angeles:20280222T190000
DTEND;TZID=America/Los_Angeles:20280222T203000
DTSTAMP:20260425T202953
CREATED:20230330T032525Z
LAST-MODIFIED:20251225T033638Z
UID:10005940-1834858800-1834864200@www.meditationinorangecounty.org
SUMMARY:San Clemente Class
DESCRIPTION:
URL:https://www.meditationinorangecounty.org/event/san-clemente-meditation-class-2/2028-02-22/
LOCATION:CA
CATEGORIES:Classes
ATTACH;FMTTYPE=image/png:https://www.meditationinorangecounty.org/wp-content/uploads/2023/03/San-Clemente-Branch-Square-Graphic-min.png
ORGANIZER;CN="Vajrayogini Kadampa Buddhist Center":MAILTO:info@meditationinorangecounty.org/
END:VEVENT
BEGIN:VEVENT
DTSTART;TZID=America/Los_Angeles:20280223T180000
DTEND;TZID=America/Los_Angeles:20280223T191500
DTSTAMP:20260425T202953
CREATED:20251224T004230Z
LAST-MODIFIED:20260325T142607Z
UID:10016203-1834941600-1834946100@www.meditationinorangecounty.org
SUMMARY:Seal Beach Class
DESCRIPTION:Click here for more information
URL:https://www.meditationinorangecounty.org/event/wednesday-evening-meditation-class-seal-beach/2028-02-23/
LOCATION:McKenna's Tea Cottage\, 237 Main Street\, Seal Beach\, 90740\, United States
ATTACH;FMTTYPE=image/png:https://www.meditationinorangecounty.org/wp-content/uploads/2025/12/Seal-Beach-2.png
ORGANIZER;CN="Vajrayogini Kadampa Buddhist Center":MAILTO:info@meditationinorangecounty.org/
END:VEVENT
BEGIN:VEVENT
DTSTART;TZID=America/Los_Angeles:20280224T190000
DTEND;TZID=America/Los_Angeles:20280224T203000
DTSTAMP:20260425T202953
CREATED:20251225T035704Z
LAST-MODIFIED:20251225T040419Z
UID:10006451-1835031600-1835037000@www.meditationinorangecounty.org
SUMMARY:Santa Ana Class
DESCRIPTION:
URL:https://www.meditationinorangecounty.org/event/santa-ana-meditation-class-3-2-2-2/2028-02-24/
LOCATION:Vajrayogini Kadampa Buddhist Center\, 231 Memory Lane\, Santa Ana\, CA\, 92705\, United States
CATEGORIES:Classes
ATTACH;FMTTYPE=image/png:https://www.meditationinorangecounty.org/wp-content/uploads/2023/03/New-Logo-VKBC-red-on-white-SQ-Transparent.png
ORGANIZER;CN="Vajrayogini Kadampa Buddhist Center":MAILTO:info@meditationinorangecounty.org/
END:VEVENT
BEGIN:VEVENT
DTSTART;TZID=America/Los_Angeles:20280225T190000
DTEND;TZID=America/Los_Angeles:20280225T210000
DTSTAMP:20260425T202953
CREATED:20231222T194507Z
LAST-MODIFIED:20260331T023912Z
UID:10018357-1835118000-1835125200@www.meditationinorangecounty.org
SUMMARY:Offering to the Spiritual Guide
DESCRIPTION:
URL:https://www.meditationinorangecounty.org/event/offering-to-the-spiritual-guide-prayers-2-2-2/2028-02-25/
LOCATION:Vajrayogini Kadampa Buddhist Center\, 231 Memory Lane\, Santa Ana\, CA\, 92705\, United States
CATEGORIES:Chanted Prayers
ATTACH;FMTTYPE=image/jpeg:https://www.meditationinorangecounty.org/wp-content/uploads/2021/04/guru-sumati-buddha-heruka.jpeg
ORGANIZER;CN="Vajrayogini Kadampa Buddhist Center":MAILTO:info@meditationinorangecounty.org/
END:VEVENT
BEGIN:VEVENT
DTSTART;TZID=America/Los_Angeles:20280229T190000
DTEND;TZID=America/Los_Angeles:20280229T203000
DTSTAMP:20260425T202953
CREATED:20230330T032525Z
LAST-MODIFIED:20251225T033638Z
UID:10005941-1835463600-1835469000@www.meditationinorangecounty.org
SUMMARY:San Clemente Class
DESCRIPTION:
URL:https://www.meditationinorangecounty.org/event/san-clemente-meditation-class-2/2028-02-29/
LOCATION:CA
CATEGORIES:Classes
ATTACH;FMTTYPE=image/png:https://www.meditationinorangecounty.org/wp-content/uploads/2023/03/San-Clemente-Branch-Square-Graphic-min.png
ORGANIZER;CN="Vajrayogini Kadampa Buddhist Center":MAILTO:info@meditationinorangecounty.org/
END:VEVENT
BEGIN:VEVENT
DTSTART;TZID=America/Los_Angeles:20280301T180000
DTEND;TZID=America/Los_Angeles:20280301T191500
DTSTAMP:20260425T202953
CREATED:20251224T004230Z
LAST-MODIFIED:20260325T142607Z
UID:10016204-1835546400-1835550900@www.meditationinorangecounty.org
SUMMARY:Seal Beach Class
DESCRIPTION:Click here for more information
URL:https://www.meditationinorangecounty.org/event/wednesday-evening-meditation-class-seal-beach/2028-03-01/
LOCATION:McKenna's Tea Cottage\, 237 Main Street\, Seal Beach\, 90740\, United States
ATTACH;FMTTYPE=image/png:https://www.meditationinorangecounty.org/wp-content/uploads/2025/12/Seal-Beach-2.png
ORGANIZER;CN="Vajrayogini Kadampa Buddhist Center":MAILTO:info@meditationinorangecounty.org/
END:VEVENT
BEGIN:VEVENT
DTSTART;TZID=America/Los_Angeles:20280302T190000
DTEND;TZID=America/Los_Angeles:20280302T203000
DTSTAMP:20260425T202953
CREATED:20251225T035704Z
LAST-MODIFIED:20251225T040419Z
UID:10006452-1835636400-1835641800@www.meditationinorangecounty.org
SUMMARY:Santa Ana Class
DESCRIPTION:
URL:https://www.meditationinorangecounty.org/event/santa-ana-meditation-class-3-2-2-2/2028-03-02/
LOCATION:Vajrayogini Kadampa Buddhist Center\, 231 Memory Lane\, Santa Ana\, CA\, 92705\, United States
CATEGORIES:Classes
ATTACH;FMTTYPE=image/png:https://www.meditationinorangecounty.org/wp-content/uploads/2023/03/New-Logo-VKBC-red-on-white-SQ-Transparent.png
ORGANIZER;CN="Vajrayogini Kadampa Buddhist Center":MAILTO:info@meditationinorangecounty.org/
END:VEVENT
BEGIN:VEVENT
DTSTART;TZID=America/Los_Angeles:20280307T190000
DTEND;TZID=America/Los_Angeles:20280307T203000
DTSTAMP:20260425T202953
CREATED:20230330T032525Z
LAST-MODIFIED:20251225T033638Z
UID:10005942-1836068400-1836073800@www.meditationinorangecounty.org
SUMMARY:San Clemente Class
DESCRIPTION:
URL:https://www.meditationinorangecounty.org/event/san-clemente-meditation-class-2/2028-03-07/
LOCATION:CA
CATEGORIES:Classes
ATTACH;FMTTYPE=image/png:https://www.meditationinorangecounty.org/wp-content/uploads/2023/03/San-Clemente-Branch-Square-Graphic-min.png
ORGANIZER;CN="Vajrayogini Kadampa Buddhist Center":MAILTO:info@meditationinorangecounty.org/
END:VEVENT
BEGIN:VEVENT
DTSTART;VALUE=DATE:20280308
DTEND;VALUE=DATE:20280309
DTSTAMP:20260425T202953
CREATED:20260209T160755Z
LAST-MODIFIED:20260209T160756Z
UID:10018164-1836086400-1836169199@www.meditationinorangecounty.org
SUMMARY:Green Tara Day
DESCRIPTION:
URL:https://www.meditationinorangecounty.org/event/green-tara-day-2/2028-03-08/
LOCATION:Vajrayogini Kadampa Buddhist Center\, 231 Memory Lane\, Santa Ana\, CA\, 92705\, United States
ATTACH;FMTTYPE=image/png:https://www.meditationinorangecounty.org/wp-content/uploads/2025/01/Kadampa-Summer-Festival-2025-–-Buddha-Green-Tara-Merged-2x-768x801-1.png
ORGANIZER;CN="Vajrayogini Kadampa Buddhist Center":MAILTO:info@meditationinorangecounty.org/
END:VEVENT
BEGIN:VEVENT
DTSTART;TZID=America/Los_Angeles:20280308T180000
DTEND;TZID=America/Los_Angeles:20280308T191500
DTSTAMP:20260425T202953
CREATED:20251224T004230Z
LAST-MODIFIED:20260325T142607Z
UID:10016205-1836151200-1836155700@www.meditationinorangecounty.org
SUMMARY:Seal Beach Class
DESCRIPTION:Click here for more information
URL:https://www.meditationinorangecounty.org/event/wednesday-evening-meditation-class-seal-beach/2028-03-08/
LOCATION:McKenna's Tea Cottage\, 237 Main Street\, Seal Beach\, 90740\, United States
ATTACH;FMTTYPE=image/png:https://www.meditationinorangecounty.org/wp-content/uploads/2025/12/Seal-Beach-2.png
ORGANIZER;CN="Vajrayogini Kadampa Buddhist Center":MAILTO:info@meditationinorangecounty.org/
END:VEVENT
BEGIN:VEVENT
DTSTART;TZID=America/Los_Angeles:20280309T190000
DTEND;TZID=America/Los_Angeles:20280309T203000
DTSTAMP:20260425T202954
CREATED:20251225T035704Z
LAST-MODIFIED:20251225T040419Z
UID:10006453-1836241200-1836246600@www.meditationinorangecounty.org
SUMMARY:Santa Ana Class
DESCRIPTION:
URL:https://www.meditationinorangecounty.org/event/santa-ana-meditation-class-3-2-2-2/2028-03-09/
LOCATION:Vajrayogini Kadampa Buddhist Center\, 231 Memory Lane\, Santa Ana\, CA\, 92705\, United States
CATEGORIES:Classes
ATTACH;FMTTYPE=image/png:https://www.meditationinorangecounty.org/wp-content/uploads/2023/03/New-Logo-VKBC-red-on-white-SQ-Transparent.png
ORGANIZER;CN="Vajrayogini Kadampa Buddhist Center":MAILTO:info@meditationinorangecounty.org/
END:VEVENT
BEGIN:VEVENT
DTSTART;TZID=America/Los_Angeles:20280310T110000
DTEND;TZID=America/Los_Angeles:20280310T130000
DTSTAMP:20260425T202954
CREATED:20240525T191310Z
LAST-MODIFIED:20260424T144911Z
UID:10018088-1836298800-1836306000@www.meditationinorangecounty.org
SUMMARY:Offering to the Spiritual Guide
DESCRIPTION:
URL:https://www.meditationinorangecounty.org/event/offering-to-the-spiritual-guide-prayers-2/2028-03-10/
LOCATION:Vajrayogini Kadampa Buddhist Center\, 231 Memory Lane\, Santa Ana\, CA\, 92705\, United States
CATEGORIES:Chanted Prayers
ATTACH;FMTTYPE=image/jpeg:https://www.meditationinorangecounty.org/wp-content/uploads/2021/04/guru-sumati-buddha-heruka.jpeg
ORGANIZER;CN="Vajrayogini Kadampa Buddhist Center":MAILTO:info@meditationinorangecounty.org/
END:VEVENT
BEGIN:VEVENT
DTSTART;TZID=America/Los_Angeles:20280314T190000
DTEND;TZID=America/Los_Angeles:20280314T203000
DTSTAMP:20260425T202954
CREATED:20230330T032525Z
LAST-MODIFIED:20251225T033638Z
UID:10005943-1836673200-1836678600@www.meditationinorangecounty.org
SUMMARY:San Clemente Class
DESCRIPTION:
URL:https://www.meditationinorangecounty.org/event/san-clemente-meditation-class-2/2028-03-14/
LOCATION:CA
CATEGORIES:Classes
ATTACH;FMTTYPE=image/png:https://www.meditationinorangecounty.org/wp-content/uploads/2023/03/San-Clemente-Branch-Square-Graphic-min.png
ORGANIZER;CN="Vajrayogini Kadampa Buddhist Center":MAILTO:info@meditationinorangecounty.org/
END:VEVENT
BEGIN:VEVENT
DTSTART;TZID=America/Los_Angeles:20280315T180000
DTEND;TZID=America/Los_Angeles:20280315T191500
DTSTAMP:20260425T202954
CREATED:20251224T004230Z
LAST-MODIFIED:20260325T142607Z
UID:10016206-1836756000-1836760500@www.meditationinorangecounty.org
SUMMARY:Seal Beach Class
DESCRIPTION:Click here for more information
URL:https://www.meditationinorangecounty.org/event/wednesday-evening-meditation-class-seal-beach/2028-03-15/
LOCATION:McKenna's Tea Cottage\, 237 Main Street\, Seal Beach\, 90740\, United States
ATTACH;FMTTYPE=image/png:https://www.meditationinorangecounty.org/wp-content/uploads/2025/12/Seal-Beach-2.png
ORGANIZER;CN="Vajrayogini Kadampa Buddhist Center":MAILTO:info@meditationinorangecounty.org/
END:VEVENT
BEGIN:VEVENT
DTSTART;TZID=America/Los_Angeles:20280316T190000
DTEND;TZID=America/Los_Angeles:20280316T203000
DTSTAMP:20260425T202954
CREATED:20251225T035704Z
LAST-MODIFIED:20251225T040419Z
UID:10006454-1836846000-1836851400@www.meditationinorangecounty.org
SUMMARY:Santa Ana Class
DESCRIPTION:
URL:https://www.meditationinorangecounty.org/event/santa-ana-meditation-class-3-2-2-2/2028-03-16/
LOCATION:Vajrayogini Kadampa Buddhist Center\, 231 Memory Lane\, Santa Ana\, CA\, 92705\, United States
CATEGORIES:Classes
ATTACH;FMTTYPE=image/png:https://www.meditationinorangecounty.org/wp-content/uploads/2023/03/New-Logo-VKBC-red-on-white-SQ-Transparent.png
ORGANIZER;CN="Vajrayogini Kadampa Buddhist Center":MAILTO:info@meditationinorangecounty.org/
END:VEVENT
BEGIN:VEVENT
DTSTART;TZID=America/Los_Angeles:20280321T190000
DTEND;TZID=America/Los_Angeles:20280321T203000
DTSTAMP:20260425T202954
CREATED:20230330T032525Z
LAST-MODIFIED:20251225T033638Z
UID:10005944-1837278000-1837283400@www.meditationinorangecounty.org
SUMMARY:San Clemente Class
DESCRIPTION:
URL:https://www.meditationinorangecounty.org/event/san-clemente-meditation-class-2/2028-03-21/
LOCATION:CA
CATEGORIES:Classes
ATTACH;FMTTYPE=image/png:https://www.meditationinorangecounty.org/wp-content/uploads/2023/03/San-Clemente-Branch-Square-Graphic-min.png
ORGANIZER;CN="Vajrayogini Kadampa Buddhist Center":MAILTO:info@meditationinorangecounty.org/
END:VEVENT
BEGIN:VEVENT
DTSTART;TZID=America/Los_Angeles:20280322T180000
DTEND;TZID=America/Los_Angeles:20280322T191500
DTSTAMP:20260425T202954
CREATED:20251224T004230Z
LAST-MODIFIED:20260325T142607Z
UID:10016207-1837360800-1837365300@www.meditationinorangecounty.org
SUMMARY:Seal Beach Class
DESCRIPTION:Click here for more information
URL:https://www.meditationinorangecounty.org/event/wednesday-evening-meditation-class-seal-beach/2028-03-22/
LOCATION:McKenna's Tea Cottage\, 237 Main Street\, Seal Beach\, 90740\, United States
ATTACH;FMTTYPE=image/png:https://www.meditationinorangecounty.org/wp-content/uploads/2025/12/Seal-Beach-2.png
ORGANIZER;CN="Vajrayogini Kadampa Buddhist Center":MAILTO:info@meditationinorangecounty.org/
END:VEVENT
BEGIN:VEVENT
DTSTART;TZID=America/Los_Angeles:20280323T190000
DTEND;TZID=America/Los_Angeles:20280323T203000
DTSTAMP:20260425T202954
CREATED:20251225T035704Z
LAST-MODIFIED:20251225T040419Z
UID:10006455-1837450800-1837456200@www.meditationinorangecounty.org
SUMMARY:Santa Ana Class
DESCRIPTION:
URL:https://www.meditationinorangecounty.org/event/santa-ana-meditation-class-3-2-2-2/2028-03-23/
LOCATION:Vajrayogini Kadampa Buddhist Center\, 231 Memory Lane\, Santa Ana\, CA\, 92705\, United States
CATEGORIES:Classes
ATTACH;FMTTYPE=image/png:https://www.meditationinorangecounty.org/wp-content/uploads/2023/03/New-Logo-VKBC-red-on-white-SQ-Transparent.png
ORGANIZER;CN="Vajrayogini Kadampa Buddhist Center":MAILTO:info@meditationinorangecounty.org/
END:VEVENT
BEGIN:VEVENT
DTSTART;TZID=America/Los_Angeles:20280325T190000
DTEND;TZID=America/Los_Angeles:20280325T210000
DTSTAMP:20260425T202954
CREATED:20231222T194507Z
LAST-MODIFIED:20260331T023912Z
UID:10018358-1837623600-1837630800@www.meditationinorangecounty.org
SUMMARY:Offering to the Spiritual Guide
DESCRIPTION:
URL:https://www.meditationinorangecounty.org/event/offering-to-the-spiritual-guide-prayers-2-2-2/2028-03-25/
LOCATION:Vajrayogini Kadampa Buddhist Center\, 231 Memory Lane\, Santa Ana\, CA\, 92705\, United States
CATEGORIES:Chanted Prayers
ATTACH;FMTTYPE=image/jpeg:https://www.meditationinorangecounty.org/wp-content/uploads/2021/04/guru-sumati-buddha-heruka.jpeg
ORGANIZER;CN="Vajrayogini Kadampa Buddhist Center":MAILTO:info@meditationinorangecounty.org/
END:VEVENT
BEGIN:VEVENT
DTSTART;TZID=America/Los_Angeles:20280328T190000
DTEND;TZID=America/Los_Angeles:20280328T203000
DTSTAMP:20260425T202954
CREATED:20230330T032525Z
LAST-MODIFIED:20251225T033638Z
UID:10005945-1837882800-1837888200@www.meditationinorangecounty.org
SUMMARY:San Clemente Class
DESCRIPTION:
URL:https://www.meditationinorangecounty.org/event/san-clemente-meditation-class-2/2028-03-28/
LOCATION:CA
CATEGORIES:Classes
ATTACH;FMTTYPE=image/png:https://www.meditationinorangecounty.org/wp-content/uploads/2023/03/San-Clemente-Branch-Square-Graphic-min.png
ORGANIZER;CN="Vajrayogini Kadampa Buddhist Center":MAILTO:info@meditationinorangecounty.org/
END:VEVENT
END:VCALENDAR