BEGIN:VCALENDAR
VERSION:2.0
PRODID:-//Vajrayogini Kadampa Buddhist Center - ECPv6.15.20//NONSGML v1.0//EN
CALSCALE:GREGORIAN
METHOD:PUBLISH
X-ORIGINAL-URL:https://www.meditationinorangecounty.org
X-WR-CALDESC:Events for Vajrayogini Kadampa Buddhist Center
REFRESH-INTERVAL;VALUE=DURATION:PT1H
X-Robots-Tag:noindex
X-PUBLISHED-TTL:PT1H
BEGIN:VTIMEZONE
TZID:America/Los_Angeles
BEGIN:DAYLIGHT
TZOFFSETFROM:-0800
TZOFFSETTO:-0700
TZNAME:PDT
DTSTART:20260308T100000
END:DAYLIGHT
BEGIN:STANDARD
TZOFFSETFROM:-0700
TZOFFSETTO:-0800
TZNAME:PST
DTSTART:20261101T090000
END:STANDARD
BEGIN:DAYLIGHT
TZOFFSETFROM:-0800
TZOFFSETTO:-0700
TZNAME:PDT
DTSTART:20270314T100000
END:DAYLIGHT
BEGIN:STANDARD
TZOFFSETFROM:-0700
TZOFFSETTO:-0800
TZNAME:PST
DTSTART:20271107T090000
END:STANDARD
BEGIN:DAYLIGHT
TZOFFSETFROM:-0800
TZOFFSETTO:-0700
TZNAME:PDT
DTSTART:20280312T100000
END:DAYLIGHT
BEGIN:STANDARD
TZOFFSETFROM:-0700
TZOFFSETTO:-0800
TZNAME:PST
DTSTART:20281105T090000
END:STANDARD
END:VTIMEZONE
BEGIN:VEVENT
DTSTART;TZID=America/Los_Angeles:20270818T180000
DTEND;TZID=America/Los_Angeles:20270818T191500
DTSTAMP:20260425T070840
CREATED:20251224T004230Z
LAST-MODIFIED:20260325T142607Z
UID:10016176-1818612000-1818616500@www.meditationinorangecounty.org
SUMMARY:Seal Beach Class
DESCRIPTION:Click here for more information
URL:https://www.meditationinorangecounty.org/event/wednesday-evening-meditation-class-seal-beach/2027-08-18/
LOCATION:McKenna's Tea Cottage\, 237 Main Street\, Seal Beach\, 90740\, United States
ATTACH;FMTTYPE=image/png:https://www.meditationinorangecounty.org/wp-content/uploads/2025/12/Seal-Beach-2.png
ORGANIZER;CN="Vajrayogini Kadampa Buddhist Center":MAILTO:info@meditationinorangecounty.org/
END:VEVENT
BEGIN:VEVENT
DTSTART;TZID=America/Los_Angeles:20270819T190000
DTEND;TZID=America/Los_Angeles:20270819T203000
DTSTAMP:20260425T070840
CREATED:20251225T035704Z
LAST-MODIFIED:20251225T040419Z
UID:10006424-1818702000-1818707400@www.meditationinorangecounty.org
SUMMARY:Santa Ana Class
DESCRIPTION:
URL:https://www.meditationinorangecounty.org/event/santa-ana-meditation-class-3-2-2-2/2027-08-19/
LOCATION:Vajrayogini Kadampa Buddhist Center\, 231 Memory Lane\, Santa Ana\, CA\, 92705\, United States
CATEGORIES:Classes
ATTACH;FMTTYPE=image/png:https://www.meditationinorangecounty.org/wp-content/uploads/2023/03/New-Logo-VKBC-red-on-white-SQ-Transparent.png
ORGANIZER;CN="Vajrayogini Kadampa Buddhist Center":MAILTO:info@meditationinorangecounty.org/
END:VEVENT
BEGIN:VEVENT
DTSTART;TZID=America/Los_Angeles:20270824T190000
DTEND;TZID=America/Los_Angeles:20270824T203000
DTSTAMP:20260425T070840
CREATED:20230330T032525Z
LAST-MODIFIED:20251225T033638Z
UID:10005914-1819134000-1819139400@www.meditationinorangecounty.org
SUMMARY:San Clemente Class
DESCRIPTION:
URL:https://www.meditationinorangecounty.org/event/san-clemente-meditation-class-2/2027-08-24/
LOCATION:CA
CATEGORIES:Classes
ATTACH;FMTTYPE=image/png:https://www.meditationinorangecounty.org/wp-content/uploads/2023/03/San-Clemente-Branch-Square-Graphic-min.png
ORGANIZER;CN="Vajrayogini Kadampa Buddhist Center":MAILTO:info@meditationinorangecounty.org/
END:VEVENT
BEGIN:VEVENT
DTSTART;TZID=America/Los_Angeles:20270825T180000
DTEND;TZID=America/Los_Angeles:20270825T191500
DTSTAMP:20260425T070840
CREATED:20251224T004230Z
LAST-MODIFIED:20260325T142607Z
UID:10016177-1819216800-1819221300@www.meditationinorangecounty.org
SUMMARY:Seal Beach Class
DESCRIPTION:Click here for more information
URL:https://www.meditationinorangecounty.org/event/wednesday-evening-meditation-class-seal-beach/2027-08-25/
LOCATION:McKenna's Tea Cottage\, 237 Main Street\, Seal Beach\, 90740\, United States
ATTACH;FMTTYPE=image/png:https://www.meditationinorangecounty.org/wp-content/uploads/2025/12/Seal-Beach-2.png
ORGANIZER;CN="Vajrayogini Kadampa Buddhist Center":MAILTO:info@meditationinorangecounty.org/
END:VEVENT
BEGIN:VEVENT
DTSTART;TZID=America/Los_Angeles:20270825T190000
DTEND;TZID=America/Los_Angeles:20270825T210000
DTSTAMP:20260425T070840
CREATED:20231222T194507Z
LAST-MODIFIED:20260331T023912Z
UID:10018351-1819220400-1819227600@www.meditationinorangecounty.org
SUMMARY:Offering to the Spiritual Guide
DESCRIPTION:
URL:https://www.meditationinorangecounty.org/event/offering-to-the-spiritual-guide-prayers-2-2-2/2027-08-25/
LOCATION:Vajrayogini Kadampa Buddhist Center\, 231 Memory Lane\, Santa Ana\, CA\, 92705\, United States
CATEGORIES:Chanted Prayers
ATTACH;FMTTYPE=image/jpeg:https://www.meditationinorangecounty.org/wp-content/uploads/2021/04/guru-sumati-buddha-heruka.jpeg
ORGANIZER;CN="Vajrayogini Kadampa Buddhist Center":MAILTO:info@meditationinorangecounty.org/
END:VEVENT
BEGIN:VEVENT
DTSTART;TZID=America/Los_Angeles:20270826T190000
DTEND;TZID=America/Los_Angeles:20270826T203000
DTSTAMP:20260425T070840
CREATED:20251225T035704Z
LAST-MODIFIED:20251225T040419Z
UID:10006425-1819306800-1819312200@www.meditationinorangecounty.org
SUMMARY:Santa Ana Class
DESCRIPTION:
URL:https://www.meditationinorangecounty.org/event/santa-ana-meditation-class-3-2-2-2/2027-08-26/
LOCATION:Vajrayogini Kadampa Buddhist Center\, 231 Memory Lane\, Santa Ana\, CA\, 92705\, United States
CATEGORIES:Classes
ATTACH;FMTTYPE=image/png:https://www.meditationinorangecounty.org/wp-content/uploads/2023/03/New-Logo-VKBC-red-on-white-SQ-Transparent.png
ORGANIZER;CN="Vajrayogini Kadampa Buddhist Center":MAILTO:info@meditationinorangecounty.org/
END:VEVENT
BEGIN:VEVENT
DTSTART;TZID=America/Los_Angeles:20270829T130000
DTEND;TZID=America/Los_Angeles:20270829T163000
DTSTAMP:20260425T070840
CREATED:20260302T015056Z
LAST-MODIFIED:20260302T015057Z
UID:10018319-1819544400-1819557000@www.meditationinorangecounty.org
SUMMARY:Melodious Drum Puja
DESCRIPTION:
URL:https://www.meditationinorangecounty.org/event/long-protector-puja-melodious-drum-2-2/2027-08-29/
LOCATION:Vajrayogini Kadampa Buddhist Center\, 231 Memory Lane\, Santa Ana\, CA\, 92705\, United States
CATEGORIES:Chanted Prayers
ATTACH;FMTTYPE=image/png:https://www.meditationinorangecounty.org/wp-content/uploads/2023/03/Dorje-Shugden-4_transparent-1-2004x2048-1.png
ORGANIZER;CN="Vajrayogini Kadampa Buddhist Center":MAILTO:info@meditationinorangecounty.org/
END:VEVENT
BEGIN:VEVENT
DTSTART;TZID=America/Los_Angeles:20270831T190000
DTEND;TZID=America/Los_Angeles:20270831T203000
DTSTAMP:20260425T070840
CREATED:20230330T032525Z
LAST-MODIFIED:20251225T033638Z
UID:10005915-1819738800-1819744200@www.meditationinorangecounty.org
SUMMARY:San Clemente Class
DESCRIPTION:
URL:https://www.meditationinorangecounty.org/event/san-clemente-meditation-class-2/2027-08-31/
LOCATION:CA
CATEGORIES:Classes
ATTACH;FMTTYPE=image/png:https://www.meditationinorangecounty.org/wp-content/uploads/2023/03/San-Clemente-Branch-Square-Graphic-min.png
ORGANIZER;CN="Vajrayogini Kadampa Buddhist Center":MAILTO:info@meditationinorangecounty.org/
END:VEVENT
BEGIN:VEVENT
DTSTART;TZID=America/Los_Angeles:20270901T180000
DTEND;TZID=America/Los_Angeles:20270901T191500
DTSTAMP:20260425T070840
CREATED:20251224T004230Z
LAST-MODIFIED:20260325T142607Z
UID:10016178-1819821600-1819826100@www.meditationinorangecounty.org
SUMMARY:Seal Beach Class
DESCRIPTION:Click here for more information
URL:https://www.meditationinorangecounty.org/event/wednesday-evening-meditation-class-seal-beach/2027-09-01/
LOCATION:McKenna's Tea Cottage\, 237 Main Street\, Seal Beach\, 90740\, United States
ATTACH;FMTTYPE=image/png:https://www.meditationinorangecounty.org/wp-content/uploads/2025/12/Seal-Beach-2.png
ORGANIZER;CN="Vajrayogini Kadampa Buddhist Center":MAILTO:info@meditationinorangecounty.org/
END:VEVENT
BEGIN:VEVENT
DTSTART;TZID=America/Los_Angeles:20270902T190000
DTEND;TZID=America/Los_Angeles:20270902T203000
DTSTAMP:20260425T070841
CREATED:20251225T035704Z
LAST-MODIFIED:20251225T040419Z
UID:10006426-1819911600-1819917000@www.meditationinorangecounty.org
SUMMARY:Santa Ana Class
DESCRIPTION:
URL:https://www.meditationinorangecounty.org/event/santa-ana-meditation-class-3-2-2-2/2027-09-02/
LOCATION:Vajrayogini Kadampa Buddhist Center\, 231 Memory Lane\, Santa Ana\, CA\, 92705\, United States
CATEGORIES:Classes
ATTACH;FMTTYPE=image/png:https://www.meditationinorangecounty.org/wp-content/uploads/2023/03/New-Logo-VKBC-red-on-white-SQ-Transparent.png
ORGANIZER;CN="Vajrayogini Kadampa Buddhist Center":MAILTO:info@meditationinorangecounty.org/
END:VEVENT
BEGIN:VEVENT
DTSTART;TZID=America/Los_Angeles:20270907T190000
DTEND;TZID=America/Los_Angeles:20270907T203000
DTSTAMP:20260425T070841
CREATED:20230330T032525Z
LAST-MODIFIED:20251225T033638Z
UID:10005916-1820343600-1820349000@www.meditationinorangecounty.org
SUMMARY:San Clemente Class
DESCRIPTION:
URL:https://www.meditationinorangecounty.org/event/san-clemente-meditation-class-2/2027-09-07/
LOCATION:CA
CATEGORIES:Classes
ATTACH;FMTTYPE=image/png:https://www.meditationinorangecounty.org/wp-content/uploads/2023/03/San-Clemente-Branch-Square-Graphic-min.png
ORGANIZER;CN="Vajrayogini Kadampa Buddhist Center":MAILTO:info@meditationinorangecounty.org/
END:VEVENT
BEGIN:VEVENT
DTSTART;VALUE=DATE:20270908
DTEND;VALUE=DATE:20270909
DTSTAMP:20260425T070841
CREATED:20260209T160755Z
LAST-MODIFIED:20260209T160756Z
UID:10018158-1820361600-1820444399@www.meditationinorangecounty.org
SUMMARY:Green Tara Day
DESCRIPTION:
URL:https://www.meditationinorangecounty.org/event/green-tara-day-2/2027-09-08/
LOCATION:Vajrayogini Kadampa Buddhist Center\, 231 Memory Lane\, Santa Ana\, CA\, 92705\, United States
ATTACH;FMTTYPE=image/png:https://www.meditationinorangecounty.org/wp-content/uploads/2025/01/Kadampa-Summer-Festival-2025-–-Buddha-Green-Tara-Merged-2x-768x801-1.png
ORGANIZER;CN="Vajrayogini Kadampa Buddhist Center":MAILTO:info@meditationinorangecounty.org/
END:VEVENT
BEGIN:VEVENT
DTSTART;TZID=America/Los_Angeles:20270908T180000
DTEND;TZID=America/Los_Angeles:20270908T191500
DTSTAMP:20260425T070841
CREATED:20251224T004230Z
LAST-MODIFIED:20260325T142607Z
UID:10016179-1820426400-1820430900@www.meditationinorangecounty.org
SUMMARY:Seal Beach Class
DESCRIPTION:Click here for more information
URL:https://www.meditationinorangecounty.org/event/wednesday-evening-meditation-class-seal-beach/2027-09-08/
LOCATION:McKenna's Tea Cottage\, 237 Main Street\, Seal Beach\, 90740\, United States
ATTACH;FMTTYPE=image/png:https://www.meditationinorangecounty.org/wp-content/uploads/2025/12/Seal-Beach-2.png
ORGANIZER;CN="Vajrayogini Kadampa Buddhist Center":MAILTO:info@meditationinorangecounty.org/
END:VEVENT
BEGIN:VEVENT
DTSTART;TZID=America/Los_Angeles:20270909T190000
DTEND;TZID=America/Los_Angeles:20270909T203000
DTSTAMP:20260425T070841
CREATED:20251225T035704Z
LAST-MODIFIED:20251225T040419Z
UID:10006427-1820516400-1820521800@www.meditationinorangecounty.org
SUMMARY:Santa Ana Class
DESCRIPTION:
URL:https://www.meditationinorangecounty.org/event/santa-ana-meditation-class-3-2-2-2/2027-09-09/
LOCATION:Vajrayogini Kadampa Buddhist Center\, 231 Memory Lane\, Santa Ana\, CA\, 92705\, United States
CATEGORIES:Classes
ATTACH;FMTTYPE=image/png:https://www.meditationinorangecounty.org/wp-content/uploads/2023/03/New-Logo-VKBC-red-on-white-SQ-Transparent.png
ORGANIZER;CN="Vajrayogini Kadampa Buddhist Center":MAILTO:info@meditationinorangecounty.org/
END:VEVENT
BEGIN:VEVENT
DTSTART;TZID=America/Los_Angeles:20270910T110000
DTEND;TZID=America/Los_Angeles:20270910T130000
DTSTAMP:20260425T070841
CREATED:20240525T191310Z
LAST-MODIFIED:20260424T144911Z
UID:10018082-1820574000-1820581200@www.meditationinorangecounty.org
SUMMARY:Offering to the Spiritual Guide
DESCRIPTION:
URL:https://www.meditationinorangecounty.org/event/offering-to-the-spiritual-guide-prayers-2/2027-09-10/
LOCATION:Vajrayogini Kadampa Buddhist Center\, 231 Memory Lane\, Santa Ana\, CA\, 92705\, United States
CATEGORIES:Chanted Prayers
ATTACH;FMTTYPE=image/jpeg:https://www.meditationinorangecounty.org/wp-content/uploads/2021/04/guru-sumati-buddha-heruka.jpeg
ORGANIZER;CN="Vajrayogini Kadampa Buddhist Center":MAILTO:info@meditationinorangecounty.org/
END:VEVENT
BEGIN:VEVENT
DTSTART;TZID=America/Los_Angeles:20270914T190000
DTEND;TZID=America/Los_Angeles:20270914T203000
DTSTAMP:20260425T070841
CREATED:20230330T032525Z
LAST-MODIFIED:20251225T033638Z
UID:10005917-1820948400-1820953800@www.meditationinorangecounty.org
SUMMARY:San Clemente Class
DESCRIPTION:
URL:https://www.meditationinorangecounty.org/event/san-clemente-meditation-class-2/2027-09-14/
LOCATION:CA
CATEGORIES:Classes
ATTACH;FMTTYPE=image/png:https://www.meditationinorangecounty.org/wp-content/uploads/2023/03/San-Clemente-Branch-Square-Graphic-min.png
ORGANIZER;CN="Vajrayogini Kadampa Buddhist Center":MAILTO:info@meditationinorangecounty.org/
END:VEVENT
BEGIN:VEVENT
DTSTART;TZID=America/Los_Angeles:20270915T180000
DTEND;TZID=America/Los_Angeles:20270915T191500
DTSTAMP:20260425T070841
CREATED:20251224T004230Z
LAST-MODIFIED:20260325T142607Z
UID:10016180-1821031200-1821035700@www.meditationinorangecounty.org
SUMMARY:Seal Beach Class
DESCRIPTION:Click here for more information
URL:https://www.meditationinorangecounty.org/event/wednesday-evening-meditation-class-seal-beach/2027-09-15/
LOCATION:McKenna's Tea Cottage\, 237 Main Street\, Seal Beach\, 90740\, United States
ATTACH;FMTTYPE=image/png:https://www.meditationinorangecounty.org/wp-content/uploads/2025/12/Seal-Beach-2.png
ORGANIZER;CN="Vajrayogini Kadampa Buddhist Center":MAILTO:info@meditationinorangecounty.org/
END:VEVENT
BEGIN:VEVENT
DTSTART;TZID=America/Los_Angeles:20270916T190000
DTEND;TZID=America/Los_Angeles:20270916T203000
DTSTAMP:20260425T070841
CREATED:20251225T035704Z
LAST-MODIFIED:20251225T040419Z
UID:10006428-1821121200-1821126600@www.meditationinorangecounty.org
SUMMARY:Santa Ana Class
DESCRIPTION:
URL:https://www.meditationinorangecounty.org/event/santa-ana-meditation-class-3-2-2-2/2027-09-16/
LOCATION:Vajrayogini Kadampa Buddhist Center\, 231 Memory Lane\, Santa Ana\, CA\, 92705\, United States
CATEGORIES:Classes
ATTACH;FMTTYPE=image/png:https://www.meditationinorangecounty.org/wp-content/uploads/2023/03/New-Logo-VKBC-red-on-white-SQ-Transparent.png
ORGANIZER;CN="Vajrayogini Kadampa Buddhist Center":MAILTO:info@meditationinorangecounty.org/
END:VEVENT
BEGIN:VEVENT
DTSTART;TZID=America/Los_Angeles:20270921T190000
DTEND;TZID=America/Los_Angeles:20270921T203000
DTSTAMP:20260425T070841
CREATED:20230330T032525Z
LAST-MODIFIED:20251225T033638Z
UID:10005918-1821553200-1821558600@www.meditationinorangecounty.org
SUMMARY:San Clemente Class
DESCRIPTION:
URL:https://www.meditationinorangecounty.org/event/san-clemente-meditation-class-2/2027-09-21/
LOCATION:CA
CATEGORIES:Classes
ATTACH;FMTTYPE=image/png:https://www.meditationinorangecounty.org/wp-content/uploads/2023/03/San-Clemente-Branch-Square-Graphic-min.png
ORGANIZER;CN="Vajrayogini Kadampa Buddhist Center":MAILTO:info@meditationinorangecounty.org/
END:VEVENT
BEGIN:VEVENT
DTSTART;VALUE=DATE:20270922
DTEND;VALUE=DATE:20270923
DTSTAMP:20260425T070841
CREATED:20250821T235933Z
LAST-MODIFIED:20250822T000004Z
UID:10014508-1821571200-1821657599@www.meditationinorangecounty.org
SUMMARY:Buddha's Return From Heaven Day!
DESCRIPTION:
URL:https://www.meditationinorangecounty.org/event/buddhas-return-from-heaven-day/2027-09-22/
LOCATION:Vajrayogini Kadampa Buddhist Center\, 231 Memory Lane\, Santa Ana\, CA\, 92705\, United States
ATTACH;FMTTYPE=image/png:https://www.meditationinorangecounty.org/wp-content/uploads/2021/07/Buddha-Shakyamuni-3_transparent.png
ORGANIZER;CN="Vajrayogini Kadampa Buddhist Center":MAILTO:info@meditationinorangecounty.org/
END:VEVENT
BEGIN:VEVENT
DTSTART;TZID=America/Los_Angeles:20270922T180000
DTEND;TZID=America/Los_Angeles:20270922T191500
DTSTAMP:20260425T070841
CREATED:20251224T004230Z
LAST-MODIFIED:20260325T142607Z
UID:10016181-1821636000-1821640500@www.meditationinorangecounty.org
SUMMARY:Seal Beach Class
DESCRIPTION:Click here for more information
URL:https://www.meditationinorangecounty.org/event/wednesday-evening-meditation-class-seal-beach/2027-09-22/
LOCATION:McKenna's Tea Cottage\, 237 Main Street\, Seal Beach\, 90740\, United States
ATTACH;FMTTYPE=image/png:https://www.meditationinorangecounty.org/wp-content/uploads/2025/12/Seal-Beach-2.png
ORGANIZER;CN="Vajrayogini Kadampa Buddhist Center":MAILTO:info@meditationinorangecounty.org/
END:VEVENT
BEGIN:VEVENT
DTSTART;TZID=America/Los_Angeles:20270923T190000
DTEND;TZID=America/Los_Angeles:20270923T203000
DTSTAMP:20260425T070841
CREATED:20251225T035704Z
LAST-MODIFIED:20251225T040419Z
UID:10006429-1821726000-1821731400@www.meditationinorangecounty.org
SUMMARY:Santa Ana Class
DESCRIPTION:
URL:https://www.meditationinorangecounty.org/event/santa-ana-meditation-class-3-2-2-2/2027-09-23/
LOCATION:Vajrayogini Kadampa Buddhist Center\, 231 Memory Lane\, Santa Ana\, CA\, 92705\, United States
CATEGORIES:Classes
ATTACH;FMTTYPE=image/png:https://www.meditationinorangecounty.org/wp-content/uploads/2023/03/New-Logo-VKBC-red-on-white-SQ-Transparent.png
ORGANIZER;CN="Vajrayogini Kadampa Buddhist Center":MAILTO:info@meditationinorangecounty.org/
END:VEVENT
BEGIN:VEVENT
DTSTART;TZID=America/Los_Angeles:20270925T190000
DTEND;TZID=America/Los_Angeles:20270925T210000
DTSTAMP:20260425T070841
CREATED:20231222T194507Z
LAST-MODIFIED:20260331T023912Z
UID:10018352-1821898800-1821906000@www.meditationinorangecounty.org
SUMMARY:Offering to the Spiritual Guide
DESCRIPTION:
URL:https://www.meditationinorangecounty.org/event/offering-to-the-spiritual-guide-prayers-2-2-2/2027-09-25/
LOCATION:Vajrayogini Kadampa Buddhist Center\, 231 Memory Lane\, Santa Ana\, CA\, 92705\, United States
CATEGORIES:Chanted Prayers
ATTACH;FMTTYPE=image/jpeg:https://www.meditationinorangecounty.org/wp-content/uploads/2021/04/guru-sumati-buddha-heruka.jpeg
ORGANIZER;CN="Vajrayogini Kadampa Buddhist Center":MAILTO:info@meditationinorangecounty.org/
END:VEVENT
BEGIN:VEVENT
DTSTART;TZID=America/Los_Angeles:20270928T190000
DTEND;TZID=America/Los_Angeles:20270928T203000
DTSTAMP:20260425T070841
CREATED:20230330T032525Z
LAST-MODIFIED:20251225T033638Z
UID:10005919-1822158000-1822163400@www.meditationinorangecounty.org
SUMMARY:San Clemente Class
DESCRIPTION:
URL:https://www.meditationinorangecounty.org/event/san-clemente-meditation-class-2/2027-09-28/
LOCATION:CA
CATEGORIES:Classes
ATTACH;FMTTYPE=image/png:https://www.meditationinorangecounty.org/wp-content/uploads/2023/03/San-Clemente-Branch-Square-Graphic-min.png
ORGANIZER;CN="Vajrayogini Kadampa Buddhist Center":MAILTO:info@meditationinorangecounty.org/
END:VEVENT
BEGIN:VEVENT
DTSTART;TZID=America/Los_Angeles:20270929T180000
DTEND;TZID=America/Los_Angeles:20270929T191500
DTSTAMP:20260425T070841
CREATED:20251224T004230Z
LAST-MODIFIED:20260325T142607Z
UID:10016182-1822240800-1822245300@www.meditationinorangecounty.org
SUMMARY:Seal Beach Class
DESCRIPTION:Click here for more information
URL:https://www.meditationinorangecounty.org/event/wednesday-evening-meditation-class-seal-beach/2027-09-29/
LOCATION:McKenna's Tea Cottage\, 237 Main Street\, Seal Beach\, 90740\, United States
ATTACH;FMTTYPE=image/png:https://www.meditationinorangecounty.org/wp-content/uploads/2025/12/Seal-Beach-2.png
ORGANIZER;CN="Vajrayogini Kadampa Buddhist Center":MAILTO:info@meditationinorangecounty.org/
END:VEVENT
BEGIN:VEVENT
DTSTART;TZID=America/Los_Angeles:20270930T190000
DTEND;TZID=America/Los_Angeles:20270930T203000
DTSTAMP:20260425T070841
CREATED:20251225T035704Z
LAST-MODIFIED:20251225T040419Z
UID:10006430-1822330800-1822336200@www.meditationinorangecounty.org
SUMMARY:Santa Ana Class
DESCRIPTION:
URL:https://www.meditationinorangecounty.org/event/santa-ana-meditation-class-3-2-2-2/2027-09-30/
LOCATION:Vajrayogini Kadampa Buddhist Center\, 231 Memory Lane\, Santa Ana\, CA\, 92705\, United States
CATEGORIES:Classes
ATTACH;FMTTYPE=image/png:https://www.meditationinorangecounty.org/wp-content/uploads/2023/03/New-Logo-VKBC-red-on-white-SQ-Transparent.png
ORGANIZER;CN="Vajrayogini Kadampa Buddhist Center":MAILTO:info@meditationinorangecounty.org/
END:VEVENT
BEGIN:VEVENT
DTSTART;TZID=America/Los_Angeles:20271005T190000
DTEND;TZID=America/Los_Angeles:20271005T203000
DTSTAMP:20260425T070841
CREATED:20230330T032525Z
LAST-MODIFIED:20251225T033638Z
UID:10005920-1822762800-1822768200@www.meditationinorangecounty.org
SUMMARY:San Clemente Class
DESCRIPTION:
URL:https://www.meditationinorangecounty.org/event/san-clemente-meditation-class-2/2027-10-05/
LOCATION:CA
CATEGORIES:Classes
ATTACH;FMTTYPE=image/png:https://www.meditationinorangecounty.org/wp-content/uploads/2023/03/San-Clemente-Branch-Square-Graphic-min.png
ORGANIZER;CN="Vajrayogini Kadampa Buddhist Center":MAILTO:info@meditationinorangecounty.org/
END:VEVENT
BEGIN:VEVENT
DTSTART;TZID=America/Los_Angeles:20271006T180000
DTEND;TZID=America/Los_Angeles:20271006T191500
DTSTAMP:20260425T070841
CREATED:20251224T004230Z
LAST-MODIFIED:20260325T142607Z
UID:10016183-1822845600-1822850100@www.meditationinorangecounty.org
SUMMARY:Seal Beach Class
DESCRIPTION:Click here for more information
URL:https://www.meditationinorangecounty.org/event/wednesday-evening-meditation-class-seal-beach/2027-10-06/
LOCATION:McKenna's Tea Cottage\, 237 Main Street\, Seal Beach\, 90740\, United States
ATTACH;FMTTYPE=image/png:https://www.meditationinorangecounty.org/wp-content/uploads/2025/12/Seal-Beach-2.png
ORGANIZER;CN="Vajrayogini Kadampa Buddhist Center":MAILTO:info@meditationinorangecounty.org/
END:VEVENT
BEGIN:VEVENT
DTSTART;TZID=America/Los_Angeles:20271007T190000
DTEND;TZID=America/Los_Angeles:20271007T203000
DTSTAMP:20260425T070841
CREATED:20251225T035704Z
LAST-MODIFIED:20251225T040419Z
UID:10006431-1822935600-1822941000@www.meditationinorangecounty.org
SUMMARY:Santa Ana Class
DESCRIPTION:
URL:https://www.meditationinorangecounty.org/event/santa-ana-meditation-class-3-2-2-2/2027-10-07/
LOCATION:Vajrayogini Kadampa Buddhist Center\, 231 Memory Lane\, Santa Ana\, CA\, 92705\, United States
CATEGORIES:Classes
ATTACH;FMTTYPE=image/png:https://www.meditationinorangecounty.org/wp-content/uploads/2023/03/New-Logo-VKBC-red-on-white-SQ-Transparent.png
ORGANIZER;CN="Vajrayogini Kadampa Buddhist Center":MAILTO:info@meditationinorangecounty.org/
END:VEVENT
BEGIN:VEVENT
DTSTART;VALUE=DATE:20271008
DTEND;VALUE=DATE:20271009
DTSTAMP:20260425T070841
CREATED:20260209T160755Z
LAST-MODIFIED:20260209T160756Z
UID:10018159-1822953600-1823036399@www.meditationinorangecounty.org
SUMMARY:Green Tara Day
DESCRIPTION:
URL:https://www.meditationinorangecounty.org/event/green-tara-day-2/2027-10-08/
LOCATION:Vajrayogini Kadampa Buddhist Center\, 231 Memory Lane\, Santa Ana\, CA\, 92705\, United States
ATTACH;FMTTYPE=image/png:https://www.meditationinorangecounty.org/wp-content/uploads/2025/01/Kadampa-Summer-Festival-2025-–-Buddha-Green-Tara-Merged-2x-768x801-1.png
ORGANIZER;CN="Vajrayogini Kadampa Buddhist Center":MAILTO:info@meditationinorangecounty.org/
END:VEVENT
END:VCALENDAR