BEGIN:VCALENDAR
VERSION:2.0
PRODID:-//Vajrayogini Kadampa Buddhist Center - ECPv6.15.20//NONSGML v1.0//EN
CALSCALE:GREGORIAN
METHOD:PUBLISH
X-WR-CALNAME:Vajrayogini Kadampa Buddhist Center
X-ORIGINAL-URL:https://www.meditationinorangecounty.org
X-WR-CALDESC:Events for Vajrayogini Kadampa Buddhist Center
REFRESH-INTERVAL;VALUE=DURATION:PT1H
X-Robots-Tag:noindex
X-PUBLISHED-TTL:PT1H
BEGIN:VTIMEZONE
TZID:America/Los_Angeles
BEGIN:DAYLIGHT
TZOFFSETFROM:-0800
TZOFFSETTO:-0700
TZNAME:PDT
DTSTART:20260308T100000
END:DAYLIGHT
BEGIN:STANDARD
TZOFFSETFROM:-0700
TZOFFSETTO:-0800
TZNAME:PST
DTSTART:20261101T090000
END:STANDARD
BEGIN:DAYLIGHT
TZOFFSETFROM:-0800
TZOFFSETTO:-0700
TZNAME:PDT
DTSTART:20270314T100000
END:DAYLIGHT
BEGIN:STANDARD
TZOFFSETFROM:-0700
TZOFFSETTO:-0800
TZNAME:PST
DTSTART:20271107T090000
END:STANDARD
BEGIN:DAYLIGHT
TZOFFSETFROM:-0800
TZOFFSETTO:-0700
TZNAME:PDT
DTSTART:20280312T100000
END:DAYLIGHT
BEGIN:STANDARD
TZOFFSETFROM:-0700
TZOFFSETTO:-0800
TZNAME:PST
DTSTART:20281105T090000
END:STANDARD
END:VTIMEZONE
BEGIN:VEVENT
DTSTART;TZID=America/Los_Angeles:20270407T180000
DTEND;TZID=America/Los_Angeles:20270407T191500
DTSTAMP:20260425T042322
CREATED:20251224T004230Z
LAST-MODIFIED:20260325T142607Z
UID:10016157-1807120800-1807125300@www.meditationinorangecounty.org
SUMMARY:Seal Beach Class
DESCRIPTION:Click here for more information
URL:https://www.meditationinorangecounty.org/event/wednesday-evening-meditation-class-seal-beach/2027-04-07/
LOCATION:McKenna's Tea Cottage\, 237 Main Street\, Seal Beach\, 90740\, United States
ATTACH;FMTTYPE=image/png:https://www.meditationinorangecounty.org/wp-content/uploads/2025/12/Seal-Beach-2.png
ORGANIZER;CN="Vajrayogini Kadampa Buddhist Center":MAILTO:info@meditationinorangecounty.org/
END:VEVENT
BEGIN:VEVENT
DTSTART;VALUE=DATE:20270408
DTEND;VALUE=DATE:20270409
DTSTAMP:20260425T042322
CREATED:20260209T160755Z
LAST-MODIFIED:20260209T160756Z
UID:10018153-1807142400-1807225199@www.meditationinorangecounty.org
SUMMARY:Green Tara Day
DESCRIPTION:
URL:https://www.meditationinorangecounty.org/event/green-tara-day-2/2027-04-08/
LOCATION:Vajrayogini Kadampa Buddhist Center\, 231 Memory Lane\, Santa Ana\, CA\, 92705\, United States
ATTACH;FMTTYPE=image/png:https://www.meditationinorangecounty.org/wp-content/uploads/2025/01/Kadampa-Summer-Festival-2025-–-Buddha-Green-Tara-Merged-2x-768x801-1.png
ORGANIZER;CN="Vajrayogini Kadampa Buddhist Center":MAILTO:info@meditationinorangecounty.org/
END:VEVENT
BEGIN:VEVENT
DTSTART;TZID=America/Los_Angeles:20270408T190000
DTEND;TZID=America/Los_Angeles:20270408T203000
DTSTAMP:20260425T042322
CREATED:20251225T035704Z
LAST-MODIFIED:20251225T040419Z
UID:10006405-1807210800-1807216200@www.meditationinorangecounty.org
SUMMARY:Santa Ana Class
DESCRIPTION:
URL:https://www.meditationinorangecounty.org/event/santa-ana-meditation-class-3-2-2-2/2027-04-08/
LOCATION:Vajrayogini Kadampa Buddhist Center\, 231 Memory Lane\, Santa Ana\, CA\, 92705\, United States
CATEGORIES:Classes
ATTACH;FMTTYPE=image/png:https://www.meditationinorangecounty.org/wp-content/uploads/2023/03/New-Logo-VKBC-red-on-white-SQ-Transparent.png
ORGANIZER;CN="Vajrayogini Kadampa Buddhist Center":MAILTO:info@meditationinorangecounty.org/
END:VEVENT
BEGIN:VEVENT
DTSTART;TZID=America/Los_Angeles:20270410T110000
DTEND;TZID=America/Los_Angeles:20270410T130000
DTSTAMP:20260425T042322
CREATED:20240525T191310Z
LAST-MODIFIED:20260424T144911Z
UID:10018077-1807354800-1807362000@www.meditationinorangecounty.org
SUMMARY:Offering to the Spiritual Guide
DESCRIPTION:
URL:https://www.meditationinorangecounty.org/event/offering-to-the-spiritual-guide-prayers-2/2027-04-10/
LOCATION:Vajrayogini Kadampa Buddhist Center\, 231 Memory Lane\, Santa Ana\, CA\, 92705\, United States
CATEGORIES:Chanted Prayers
ATTACH;FMTTYPE=image/jpeg:https://www.meditationinorangecounty.org/wp-content/uploads/2021/04/guru-sumati-buddha-heruka.jpeg
ORGANIZER;CN="Vajrayogini Kadampa Buddhist Center":MAILTO:info@meditationinorangecounty.org/
END:VEVENT
BEGIN:VEVENT
DTSTART;TZID=America/Los_Angeles:20270413T190000
DTEND;TZID=America/Los_Angeles:20270413T203000
DTSTAMP:20260425T042322
CREATED:20230330T032525Z
LAST-MODIFIED:20251225T033638Z
UID:10005895-1807642800-1807648200@www.meditationinorangecounty.org
SUMMARY:San Clemente Class
DESCRIPTION:
URL:https://www.meditationinorangecounty.org/event/san-clemente-meditation-class-2/2027-04-13/
LOCATION:CA
CATEGORIES:Classes
ATTACH;FMTTYPE=image/png:https://www.meditationinorangecounty.org/wp-content/uploads/2023/03/San-Clemente-Branch-Square-Graphic-min.png
ORGANIZER;CN="Vajrayogini Kadampa Buddhist Center":MAILTO:info@meditationinorangecounty.org/
END:VEVENT
BEGIN:VEVENT
DTSTART;TZID=America/Los_Angeles:20270414T180000
DTEND;TZID=America/Los_Angeles:20270414T191500
DTSTAMP:20260425T042322
CREATED:20251224T004230Z
LAST-MODIFIED:20260325T142607Z
UID:10016158-1807725600-1807730100@www.meditationinorangecounty.org
SUMMARY:Seal Beach Class
DESCRIPTION:Click here for more information
URL:https://www.meditationinorangecounty.org/event/wednesday-evening-meditation-class-seal-beach/2027-04-14/
LOCATION:McKenna's Tea Cottage\, 237 Main Street\, Seal Beach\, 90740\, United States
ATTACH;FMTTYPE=image/png:https://www.meditationinorangecounty.org/wp-content/uploads/2025/12/Seal-Beach-2.png
ORGANIZER;CN="Vajrayogini Kadampa Buddhist Center":MAILTO:info@meditationinorangecounty.org/
END:VEVENT
BEGIN:VEVENT
DTSTART;VALUE=DATE:20270415
DTEND;VALUE=DATE:20270416
DTSTAMP:20260425T042322
CREATED:20260326T004615Z
LAST-MODIFIED:20260326T004615Z
UID:10018442-1807747200-1807833599@www.meditationinorangecounty.org
SUMMARY:Buddha’s Enlightenment Day
DESCRIPTION:
URL:https://www.meditationinorangecounty.org/event/buddhas-enlightenment-day/2027-04-15/
LOCATION:Vajrayogini Kadampa Buddhist Center\, 231 Memory Lane\, Santa Ana\, CA\, 92705\, United States
ATTACH;FMTTYPE=image/jpeg:https://www.meditationinorangecounty.org/wp-content/uploads/2021/04/NKT12294_buddha.jpg
ORGANIZER;CN="Vajrayogini Kadampa Buddhist Center":MAILTO:info@meditationinorangecounty.org/
END:VEVENT
BEGIN:VEVENT
DTSTART;TZID=America/Los_Angeles:20270415T190000
DTEND;TZID=America/Los_Angeles:20270415T203000
DTSTAMP:20260425T042322
CREATED:20251225T035704Z
LAST-MODIFIED:20251225T040419Z
UID:10006406-1807815600-1807821000@www.meditationinorangecounty.org
SUMMARY:Santa Ana Class
DESCRIPTION:
URL:https://www.meditationinorangecounty.org/event/santa-ana-meditation-class-3-2-2-2/2027-04-15/
LOCATION:Vajrayogini Kadampa Buddhist Center\, 231 Memory Lane\, Santa Ana\, CA\, 92705\, United States
CATEGORIES:Classes
ATTACH;FMTTYPE=image/png:https://www.meditationinorangecounty.org/wp-content/uploads/2023/03/New-Logo-VKBC-red-on-white-SQ-Transparent.png
ORGANIZER;CN="Vajrayogini Kadampa Buddhist Center":MAILTO:info@meditationinorangecounty.org/
END:VEVENT
BEGIN:VEVENT
DTSTART;TZID=America/Los_Angeles:20270420T190000
DTEND;TZID=America/Los_Angeles:20270420T203000
DTSTAMP:20260425T042322
CREATED:20230330T032525Z
LAST-MODIFIED:20251225T033638Z
UID:10005896-1808247600-1808253000@www.meditationinorangecounty.org
SUMMARY:San Clemente Class
DESCRIPTION:
URL:https://www.meditationinorangecounty.org/event/san-clemente-meditation-class-2/2027-04-20/
LOCATION:CA
CATEGORIES:Classes
ATTACH;FMTTYPE=image/png:https://www.meditationinorangecounty.org/wp-content/uploads/2023/03/San-Clemente-Branch-Square-Graphic-min.png
ORGANIZER;CN="Vajrayogini Kadampa Buddhist Center":MAILTO:info@meditationinorangecounty.org/
END:VEVENT
BEGIN:VEVENT
DTSTART;TZID=America/Los_Angeles:20270421T180000
DTEND;TZID=America/Los_Angeles:20270421T191500
DTSTAMP:20260425T042322
CREATED:20251224T004230Z
LAST-MODIFIED:20260325T142607Z
UID:10016159-1808330400-1808334900@www.meditationinorangecounty.org
SUMMARY:Seal Beach Class
DESCRIPTION:Click here for more information
URL:https://www.meditationinorangecounty.org/event/wednesday-evening-meditation-class-seal-beach/2027-04-21/
LOCATION:McKenna's Tea Cottage\, 237 Main Street\, Seal Beach\, 90740\, United States
ATTACH;FMTTYPE=image/png:https://www.meditationinorangecounty.org/wp-content/uploads/2025/12/Seal-Beach-2.png
ORGANIZER;CN="Vajrayogini Kadampa Buddhist Center":MAILTO:info@meditationinorangecounty.org/
END:VEVENT
BEGIN:VEVENT
DTSTART;TZID=America/Los_Angeles:20270422T190000
DTEND;TZID=America/Los_Angeles:20270422T203000
DTSTAMP:20260425T042322
CREATED:20251225T035704Z
LAST-MODIFIED:20251225T040419Z
UID:10006407-1808420400-1808425800@www.meditationinorangecounty.org
SUMMARY:Santa Ana Class
DESCRIPTION:
URL:https://www.meditationinorangecounty.org/event/santa-ana-meditation-class-3-2-2-2/2027-04-22/
LOCATION:Vajrayogini Kadampa Buddhist Center\, 231 Memory Lane\, Santa Ana\, CA\, 92705\, United States
CATEGORIES:Classes
ATTACH;FMTTYPE=image/png:https://www.meditationinorangecounty.org/wp-content/uploads/2023/03/New-Logo-VKBC-red-on-white-SQ-Transparent.png
ORGANIZER;CN="Vajrayogini Kadampa Buddhist Center":MAILTO:info@meditationinorangecounty.org/
END:VEVENT
BEGIN:VEVENT
DTSTART;TZID=America/Los_Angeles:20270425T190000
DTEND;TZID=America/Los_Angeles:20270425T210000
DTSTAMP:20260425T042322
CREATED:20231222T194507Z
LAST-MODIFIED:20260331T023912Z
UID:10018347-1808679600-1808686800@www.meditationinorangecounty.org
SUMMARY:Offering to the Spiritual Guide
DESCRIPTION:
URL:https://www.meditationinorangecounty.org/event/offering-to-the-spiritual-guide-prayers-2-2-2/2027-04-25/
LOCATION:Vajrayogini Kadampa Buddhist Center\, 231 Memory Lane\, Santa Ana\, CA\, 92705\, United States
CATEGORIES:Chanted Prayers
ATTACH;FMTTYPE=image/jpeg:https://www.meditationinorangecounty.org/wp-content/uploads/2021/04/guru-sumati-buddha-heruka.jpeg
ORGANIZER;CN="Vajrayogini Kadampa Buddhist Center":MAILTO:info@meditationinorangecounty.org/
END:VEVENT
BEGIN:VEVENT
DTSTART;TZID=America/Los_Angeles:20270427T190000
DTEND;TZID=America/Los_Angeles:20270427T203000
DTSTAMP:20260425T042322
CREATED:20230330T032525Z
LAST-MODIFIED:20251225T033638Z
UID:10005897-1808852400-1808857800@www.meditationinorangecounty.org
SUMMARY:San Clemente Class
DESCRIPTION:
URL:https://www.meditationinorangecounty.org/event/san-clemente-meditation-class-2/2027-04-27/
LOCATION:CA
CATEGORIES:Classes
ATTACH;FMTTYPE=image/png:https://www.meditationinorangecounty.org/wp-content/uploads/2023/03/San-Clemente-Branch-Square-Graphic-min.png
ORGANIZER;CN="Vajrayogini Kadampa Buddhist Center":MAILTO:info@meditationinorangecounty.org/
END:VEVENT
BEGIN:VEVENT
DTSTART;TZID=America/Los_Angeles:20270428T180000
DTEND;TZID=America/Los_Angeles:20270428T191500
DTSTAMP:20260425T042322
CREATED:20251224T004230Z
LAST-MODIFIED:20260325T142607Z
UID:10016160-1808935200-1808939700@www.meditationinorangecounty.org
SUMMARY:Seal Beach Class
DESCRIPTION:Click here for more information
URL:https://www.meditationinorangecounty.org/event/wednesday-evening-meditation-class-seal-beach/2027-04-28/
LOCATION:McKenna's Tea Cottage\, 237 Main Street\, Seal Beach\, 90740\, United States
ATTACH;FMTTYPE=image/png:https://www.meditationinorangecounty.org/wp-content/uploads/2025/12/Seal-Beach-2.png
ORGANIZER;CN="Vajrayogini Kadampa Buddhist Center":MAILTO:info@meditationinorangecounty.org/
END:VEVENT
BEGIN:VEVENT
DTSTART;TZID=America/Los_Angeles:20270429T190000
DTEND;TZID=America/Los_Angeles:20270429T203000
DTSTAMP:20260425T042322
CREATED:20251225T035704Z
LAST-MODIFIED:20251225T040419Z
UID:10006408-1809025200-1809030600@www.meditationinorangecounty.org
SUMMARY:Santa Ana Class
DESCRIPTION:
URL:https://www.meditationinorangecounty.org/event/santa-ana-meditation-class-3-2-2-2/2027-04-29/
LOCATION:Vajrayogini Kadampa Buddhist Center\, 231 Memory Lane\, Santa Ana\, CA\, 92705\, United States
CATEGORIES:Classes
ATTACH;FMTTYPE=image/png:https://www.meditationinorangecounty.org/wp-content/uploads/2023/03/New-Logo-VKBC-red-on-white-SQ-Transparent.png
ORGANIZER;CN="Vajrayogini Kadampa Buddhist Center":MAILTO:info@meditationinorangecounty.org/
END:VEVENT
BEGIN:VEVENT
DTSTART;TZID=America/Los_Angeles:20270504T190000
DTEND;TZID=America/Los_Angeles:20270504T203000
DTSTAMP:20260425T042322
CREATED:20230330T032525Z
LAST-MODIFIED:20251225T033638Z
UID:10005898-1809457200-1809462600@www.meditationinorangecounty.org
SUMMARY:San Clemente Class
DESCRIPTION:
URL:https://www.meditationinorangecounty.org/event/san-clemente-meditation-class-2/2027-05-04/
LOCATION:CA
CATEGORIES:Classes
ATTACH;FMTTYPE=image/png:https://www.meditationinorangecounty.org/wp-content/uploads/2023/03/San-Clemente-Branch-Square-Graphic-min.png
ORGANIZER;CN="Vajrayogini Kadampa Buddhist Center":MAILTO:info@meditationinorangecounty.org/
END:VEVENT
BEGIN:VEVENT
DTSTART;TZID=America/Los_Angeles:20270505T180000
DTEND;TZID=America/Los_Angeles:20270505T191500
DTSTAMP:20260425T042322
CREATED:20251224T004230Z
LAST-MODIFIED:20260325T142607Z
UID:10016161-1809540000-1809544500@www.meditationinorangecounty.org
SUMMARY:Seal Beach Class
DESCRIPTION:Click here for more information
URL:https://www.meditationinorangecounty.org/event/wednesday-evening-meditation-class-seal-beach/2027-05-05/
LOCATION:McKenna's Tea Cottage\, 237 Main Street\, Seal Beach\, 90740\, United States
ATTACH;FMTTYPE=image/png:https://www.meditationinorangecounty.org/wp-content/uploads/2025/12/Seal-Beach-2.png
ORGANIZER;CN="Vajrayogini Kadampa Buddhist Center":MAILTO:info@meditationinorangecounty.org/
END:VEVENT
BEGIN:VEVENT
DTSTART;TZID=America/Los_Angeles:20270506T190000
DTEND;TZID=America/Los_Angeles:20270506T203000
DTSTAMP:20260425T042322
CREATED:20251225T035704Z
LAST-MODIFIED:20251225T040419Z
UID:10006409-1809630000-1809635400@www.meditationinorangecounty.org
SUMMARY:Santa Ana Class
DESCRIPTION:
URL:https://www.meditationinorangecounty.org/event/santa-ana-meditation-class-3-2-2-2/2027-05-06/
LOCATION:Vajrayogini Kadampa Buddhist Center\, 231 Memory Lane\, Santa Ana\, CA\, 92705\, United States
CATEGORIES:Classes
ATTACH;FMTTYPE=image/png:https://www.meditationinorangecounty.org/wp-content/uploads/2023/03/New-Logo-VKBC-red-on-white-SQ-Transparent.png
ORGANIZER;CN="Vajrayogini Kadampa Buddhist Center":MAILTO:info@meditationinorangecounty.org/
END:VEVENT
BEGIN:VEVENT
DTSTART;VALUE=DATE:20270508
DTEND;VALUE=DATE:20270509
DTSTAMP:20260425T042322
CREATED:20260209T160755Z
LAST-MODIFIED:20260209T160756Z
UID:10018154-1809734400-1809817199@www.meditationinorangecounty.org
SUMMARY:Green Tara Day
DESCRIPTION:
URL:https://www.meditationinorangecounty.org/event/green-tara-day-2/2027-05-08/
LOCATION:Vajrayogini Kadampa Buddhist Center\, 231 Memory Lane\, Santa Ana\, CA\, 92705\, United States
ATTACH;FMTTYPE=image/png:https://www.meditationinorangecounty.org/wp-content/uploads/2025/01/Kadampa-Summer-Festival-2025-–-Buddha-Green-Tara-Merged-2x-768x801-1.png
ORGANIZER;CN="Vajrayogini Kadampa Buddhist Center":MAILTO:info@meditationinorangecounty.org/
END:VEVENT
BEGIN:VEVENT
DTSTART;TZID=America/Los_Angeles:20270510T110000
DTEND;TZID=America/Los_Angeles:20270510T130000
DTSTAMP:20260425T042322
CREATED:20240525T191310Z
LAST-MODIFIED:20260424T144911Z
UID:10018078-1809946800-1809954000@www.meditationinorangecounty.org
SUMMARY:Offering to the Spiritual Guide
DESCRIPTION:
URL:https://www.meditationinorangecounty.org/event/offering-to-the-spiritual-guide-prayers-2/2027-05-10/
LOCATION:Vajrayogini Kadampa Buddhist Center\, 231 Memory Lane\, Santa Ana\, CA\, 92705\, United States
CATEGORIES:Chanted Prayers
ATTACH;FMTTYPE=image/jpeg:https://www.meditationinorangecounty.org/wp-content/uploads/2021/04/guru-sumati-buddha-heruka.jpeg
ORGANIZER;CN="Vajrayogini Kadampa Buddhist Center":MAILTO:info@meditationinorangecounty.org/
END:VEVENT
BEGIN:VEVENT
DTSTART;TZID=America/Los_Angeles:20270511T190000
DTEND;TZID=America/Los_Angeles:20270511T203000
DTSTAMP:20260425T042322
CREATED:20230330T032525Z
LAST-MODIFIED:20251225T033638Z
UID:10005899-1810062000-1810067400@www.meditationinorangecounty.org
SUMMARY:San Clemente Class
DESCRIPTION:
URL:https://www.meditationinorangecounty.org/event/san-clemente-meditation-class-2/2027-05-11/
LOCATION:CA
CATEGORIES:Classes
ATTACH;FMTTYPE=image/png:https://www.meditationinorangecounty.org/wp-content/uploads/2023/03/San-Clemente-Branch-Square-Graphic-min.png
ORGANIZER;CN="Vajrayogini Kadampa Buddhist Center":MAILTO:info@meditationinorangecounty.org/
END:VEVENT
BEGIN:VEVENT
DTSTART;TZID=America/Los_Angeles:20270512T180000
DTEND;TZID=America/Los_Angeles:20270512T191500
DTSTAMP:20260425T042322
CREATED:20251224T004230Z
LAST-MODIFIED:20260325T142607Z
UID:10016162-1810144800-1810149300@www.meditationinorangecounty.org
SUMMARY:Seal Beach Class
DESCRIPTION:Click here for more information
URL:https://www.meditationinorangecounty.org/event/wednesday-evening-meditation-class-seal-beach/2027-05-12/
LOCATION:McKenna's Tea Cottage\, 237 Main Street\, Seal Beach\, 90740\, United States
ATTACH;FMTTYPE=image/png:https://www.meditationinorangecounty.org/wp-content/uploads/2025/12/Seal-Beach-2.png
ORGANIZER;CN="Vajrayogini Kadampa Buddhist Center":MAILTO:info@meditationinorangecounty.org/
END:VEVENT
BEGIN:VEVENT
DTSTART;TZID=America/Los_Angeles:20270513T190000
DTEND;TZID=America/Los_Angeles:20270513T203000
DTSTAMP:20260425T042322
CREATED:20251225T035704Z
LAST-MODIFIED:20251225T040419Z
UID:10006410-1810234800-1810240200@www.meditationinorangecounty.org
SUMMARY:Santa Ana Class
DESCRIPTION:
URL:https://www.meditationinorangecounty.org/event/santa-ana-meditation-class-3-2-2-2/2027-05-13/
LOCATION:Vajrayogini Kadampa Buddhist Center\, 231 Memory Lane\, Santa Ana\, CA\, 92705\, United States
CATEGORIES:Classes
ATTACH;FMTTYPE=image/png:https://www.meditationinorangecounty.org/wp-content/uploads/2023/03/New-Logo-VKBC-red-on-white-SQ-Transparent.png
ORGANIZER;CN="Vajrayogini Kadampa Buddhist Center":MAILTO:info@meditationinorangecounty.org/
END:VEVENT
BEGIN:VEVENT
DTSTART;TZID=America/Los_Angeles:20270518T190000
DTEND;TZID=America/Los_Angeles:20270518T203000
DTSTAMP:20260425T042322
CREATED:20230330T032525Z
LAST-MODIFIED:20251225T033638Z
UID:10005900-1810666800-1810672200@www.meditationinorangecounty.org
SUMMARY:San Clemente Class
DESCRIPTION:
URL:https://www.meditationinorangecounty.org/event/san-clemente-meditation-class-2/2027-05-18/
LOCATION:CA
CATEGORIES:Classes
ATTACH;FMTTYPE=image/png:https://www.meditationinorangecounty.org/wp-content/uploads/2023/03/San-Clemente-Branch-Square-Graphic-min.png
ORGANIZER;CN="Vajrayogini Kadampa Buddhist Center":MAILTO:info@meditationinorangecounty.org/
END:VEVENT
BEGIN:VEVENT
DTSTART;TZID=America/Los_Angeles:20270519T180000
DTEND;TZID=America/Los_Angeles:20270519T191500
DTSTAMP:20260425T042322
CREATED:20251224T004230Z
LAST-MODIFIED:20260325T142607Z
UID:10016163-1810749600-1810754100@www.meditationinorangecounty.org
SUMMARY:Seal Beach Class
DESCRIPTION:Click here for more information
URL:https://www.meditationinorangecounty.org/event/wednesday-evening-meditation-class-seal-beach/2027-05-19/
LOCATION:McKenna's Tea Cottage\, 237 Main Street\, Seal Beach\, 90740\, United States
ATTACH;FMTTYPE=image/png:https://www.meditationinorangecounty.org/wp-content/uploads/2025/12/Seal-Beach-2.png
ORGANIZER;CN="Vajrayogini Kadampa Buddhist Center":MAILTO:info@meditationinorangecounty.org/
END:VEVENT
BEGIN:VEVENT
DTSTART;TZID=America/Los_Angeles:20270520T190000
DTEND;TZID=America/Los_Angeles:20270520T203000
DTSTAMP:20260425T042322
CREATED:20251225T035704Z
LAST-MODIFIED:20251225T040419Z
UID:10006411-1810839600-1810845000@www.meditationinorangecounty.org
SUMMARY:Santa Ana Class
DESCRIPTION:
URL:https://www.meditationinorangecounty.org/event/santa-ana-meditation-class-3-2-2-2/2027-05-20/
LOCATION:Vajrayogini Kadampa Buddhist Center\, 231 Memory Lane\, Santa Ana\, CA\, 92705\, United States
CATEGORIES:Classes
ATTACH;FMTTYPE=image/png:https://www.meditationinorangecounty.org/wp-content/uploads/2023/03/New-Logo-VKBC-red-on-white-SQ-Transparent.png
ORGANIZER;CN="Vajrayogini Kadampa Buddhist Center":MAILTO:info@meditationinorangecounty.org/
END:VEVENT
BEGIN:VEVENT
DTSTART;TZID=America/Los_Angeles:20270525T190000
DTEND;TZID=America/Los_Angeles:20270525T203000
DTSTAMP:20260425T042322
CREATED:20230330T032525Z
LAST-MODIFIED:20251225T033638Z
UID:10005901-1811271600-1811277000@www.meditationinorangecounty.org
SUMMARY:San Clemente Class
DESCRIPTION:
URL:https://www.meditationinorangecounty.org/event/san-clemente-meditation-class-2/2027-05-25/
LOCATION:CA
CATEGORIES:Classes
ATTACH;FMTTYPE=image/png:https://www.meditationinorangecounty.org/wp-content/uploads/2023/03/San-Clemente-Branch-Square-Graphic-min.png
ORGANIZER;CN="Vajrayogini Kadampa Buddhist Center":MAILTO:info@meditationinorangecounty.org/
END:VEVENT
BEGIN:VEVENT
DTSTART;TZID=America/Los_Angeles:20270525T190000
DTEND;TZID=America/Los_Angeles:20270525T210000
DTSTAMP:20260425T042322
CREATED:20231222T194507Z
LAST-MODIFIED:20260331T023912Z
UID:10018348-1811271600-1811278800@www.meditationinorangecounty.org
SUMMARY:Offering to the Spiritual Guide
DESCRIPTION:
URL:https://www.meditationinorangecounty.org/event/offering-to-the-spiritual-guide-prayers-2-2-2/2027-05-25/
LOCATION:Vajrayogini Kadampa Buddhist Center\, 231 Memory Lane\, Santa Ana\, CA\, 92705\, United States
CATEGORIES:Chanted Prayers
ATTACH;FMTTYPE=image/jpeg:https://www.meditationinorangecounty.org/wp-content/uploads/2021/04/guru-sumati-buddha-heruka.jpeg
ORGANIZER;CN="Vajrayogini Kadampa Buddhist Center":MAILTO:info@meditationinorangecounty.org/
END:VEVENT
BEGIN:VEVENT
DTSTART;TZID=America/Los_Angeles:20270526T180000
DTEND;TZID=America/Los_Angeles:20270526T191500
DTSTAMP:20260425T042322
CREATED:20251224T004230Z
LAST-MODIFIED:20260325T142607Z
UID:10016164-1811354400-1811358900@www.meditationinorangecounty.org
SUMMARY:Seal Beach Class
DESCRIPTION:Click here for more information
URL:https://www.meditationinorangecounty.org/event/wednesday-evening-meditation-class-seal-beach/2027-05-26/
LOCATION:McKenna's Tea Cottage\, 237 Main Street\, Seal Beach\, 90740\, United States
ATTACH;FMTTYPE=image/png:https://www.meditationinorangecounty.org/wp-content/uploads/2025/12/Seal-Beach-2.png
ORGANIZER;CN="Vajrayogini Kadampa Buddhist Center":MAILTO:info@meditationinorangecounty.org/
END:VEVENT
BEGIN:VEVENT
DTSTART;TZID=America/Los_Angeles:20270527T190000
DTEND;TZID=America/Los_Angeles:20270527T203000
DTSTAMP:20260425T042322
CREATED:20251225T035704Z
LAST-MODIFIED:20251225T040419Z
UID:10006412-1811444400-1811449800@www.meditationinorangecounty.org
SUMMARY:Santa Ana Class
DESCRIPTION:
URL:https://www.meditationinorangecounty.org/event/santa-ana-meditation-class-3-2-2-2/2027-05-27/
LOCATION:Vajrayogini Kadampa Buddhist Center\, 231 Memory Lane\, Santa Ana\, CA\, 92705\, United States
CATEGORIES:Classes
ATTACH;FMTTYPE=image/png:https://www.meditationinorangecounty.org/wp-content/uploads/2023/03/New-Logo-VKBC-red-on-white-SQ-Transparent.png
ORGANIZER;CN="Vajrayogini Kadampa Buddhist Center":MAILTO:info@meditationinorangecounty.org/
END:VEVENT
END:VCALENDAR