BEGIN:VCALENDAR
VERSION:2.0
PRODID:-//Vajrayogini Kadampa Buddhist Center - ECPv6.15.20//NONSGML v1.0//EN
CALSCALE:GREGORIAN
METHOD:PUBLISH
X-ORIGINAL-URL:https://www.meditationinorangecounty.org
X-WR-CALDESC:Events for Vajrayogini Kadampa Buddhist Center
REFRESH-INTERVAL;VALUE=DURATION:PT1H
X-Robots-Tag:noindex
X-PUBLISHED-TTL:PT1H
BEGIN:VTIMEZONE
TZID:America/Los_Angeles
BEGIN:DAYLIGHT
TZOFFSETFROM:-0800
TZOFFSETTO:-0700
TZNAME:PDT
DTSTART:20250309T100000
END:DAYLIGHT
BEGIN:STANDARD
TZOFFSETFROM:-0700
TZOFFSETTO:-0800
TZNAME:PST
DTSTART:20251102T090000
END:STANDARD
BEGIN:DAYLIGHT
TZOFFSETFROM:-0800
TZOFFSETTO:-0700
TZNAME:PDT
DTSTART:20260308T100000
END:DAYLIGHT
BEGIN:STANDARD
TZOFFSETFROM:-0700
TZOFFSETTO:-0800
TZNAME:PST
DTSTART:20261101T090000
END:STANDARD
BEGIN:DAYLIGHT
TZOFFSETFROM:-0800
TZOFFSETTO:-0700
TZNAME:PDT
DTSTART:20270314T100000
END:DAYLIGHT
BEGIN:STANDARD
TZOFFSETFROM:-0700
TZOFFSETTO:-0800
TZNAME:PST
DTSTART:20271107T090000
END:STANDARD
END:VTIMEZONE
BEGIN:VEVENT
DTSTART;TZID=America/Los_Angeles:20260510T100000
DTEND;TZID=America/Los_Angeles:20260510T113000
DTSTAMP:20260423T144205
CREATED:20250104T013259Z
LAST-MODIFIED:20260331T024415Z
UID:10015784-1778407200-1778412600@www.meditationinorangecounty.org
SUMMARY:Sunday Morning Meditation Class (Santa Ana)
DESCRIPTION:
URL:https://www.meditationinorangecounty.org/event/sunday-afternoon-meditation-class-2-2-2-2-2-2-2/2026-05-10/
LOCATION:Vajrayogini Kadampa Buddhist Center\, 231 Memory Lane\, Santa Ana\, CA\, 92705\, United States
CATEGORIES:Classes
ATTACH;FMTTYPE=image/png:https://www.meditationinorangecounty.org/wp-content/uploads/2023/03/New-Logo-VKBC-red-on-white-SQ-Transparent.png
ORGANIZER;CN="Vajrayogini Kadampa Buddhist Center":MAILTO:info@meditationinorangecounty.org/
END:VEVENT
BEGIN:VEVENT
DTSTART;TZID=America/Los_Angeles:20260510T110000
DTEND;TZID=America/Los_Angeles:20260510T130000
DTSTAMP:20260423T144205
CREATED:20240525T191310Z
LAST-MODIFIED:20260324T145734Z
UID:10018066-1778410800-1778418000@www.meditationinorangecounty.org
SUMMARY:Offering to the Spiritual Guide
DESCRIPTION:
URL:https://www.meditationinorangecounty.org/event/offering-to-the-spiritual-guide-prayers-2/2026-05-10/
LOCATION:Vajrayogini Kadampa Buddhist Center\, 231 Memory Lane\, Santa Ana\, CA\, 92705\, United States
CATEGORIES:Chanted Prayers
ATTACH;FMTTYPE=image/jpeg:https://www.meditationinorangecounty.org/wp-content/uploads/2021/04/guru-sumati-buddha-heruka.jpeg
ORGANIZER;CN="Vajrayogini Kadampa Buddhist Center":MAILTO:info@meditationinorangecounty.org/
END:VEVENT
BEGIN:VEVENT
DTSTART;TZID=America/Los_Angeles:20260510T130000
DTEND;TZID=America/Los_Angeles:20260510T150000
DTSTAMP:20260423T144205
CREATED:20260126T024928Z
LAST-MODIFIED:20260324T151504Z
UID:10017340-1778418000-1778425200@www.meditationinorangecounty.org
SUMMARY:Foundation Program
DESCRIPTION:
URL:https://www.meditationinorangecounty.org/event/foundation-program-2/2026-05-10/
LOCATION:Vajrayogini Kadampa Buddhist Center\, 231 Memory Lane\, Santa Ana\, CA\, 92705\, United States
ATTACH;FMTTYPE=image/jpeg:https://www.meditationinorangecounty.org/wp-content/uploads/2025/08/HeartofWisdom-cover.jpg
ORGANIZER;CN="Vajrayogini Kadampa Buddhist Center":MAILTO:info@meditationinorangecounty.org/
END:VEVENT
BEGIN:VEVENT
DTSTART;TZID=America/Los_Angeles:20260512T190000
DTEND;TZID=America/Los_Angeles:20260512T203000
DTSTAMP:20260423T144205
CREATED:20230330T032525Z
LAST-MODIFIED:20251225T033638Z
UID:10005847-1778612400-1778617800@www.meditationinorangecounty.org
SUMMARY:San Clemente Class
DESCRIPTION:
URL:https://www.meditationinorangecounty.org/event/san-clemente-meditation-class-2/2026-05-12/
LOCATION:CA
CATEGORIES:Classes
ATTACH;FMTTYPE=image/png:https://www.meditationinorangecounty.org/wp-content/uploads/2023/03/San-Clemente-Branch-Square-Graphic-min.png
ORGANIZER;CN="Vajrayogini Kadampa Buddhist Center":MAILTO:info@meditationinorangecounty.org/
END:VEVENT
BEGIN:VEVENT
DTSTART;TZID=America/Los_Angeles:20260513T180000
DTEND;TZID=America/Los_Angeles:20260513T191500
DTSTAMP:20260423T144205
CREATED:20251224T004230Z
LAST-MODIFIED:20260325T142607Z
UID:10016110-1778695200-1778699700@www.meditationinorangecounty.org
SUMMARY:Seal Beach Class
DESCRIPTION:Click here for more information
URL:https://www.meditationinorangecounty.org/event/wednesday-evening-meditation-class-seal-beach/2026-05-13/
LOCATION:McKenna's Tea Cottage\, 237 Main Street\, Seal Beach\, 90740\, United States
ATTACH;FMTTYPE=image/png:https://www.meditationinorangecounty.org/wp-content/uploads/2025/12/Seal-Beach-2.png
ORGANIZER;CN="Vajrayogini Kadampa Buddhist Center":MAILTO:info@meditationinorangecounty.org/
END:VEVENT
BEGIN:VEVENT
DTSTART;TZID=America/Los_Angeles:20260514T190000
DTEND;TZID=America/Los_Angeles:20260514T203000
DTSTAMP:20260423T144205
CREATED:20251225T035704Z
LAST-MODIFIED:20251225T040419Z
UID:10006358-1778785200-1778790600@www.meditationinorangecounty.org
SUMMARY:Santa Ana Class
DESCRIPTION:
URL:https://www.meditationinorangecounty.org/event/santa-ana-meditation-class-3-2-2-2/2026-05-14/
LOCATION:Vajrayogini Kadampa Buddhist Center\, 231 Memory Lane\, Santa Ana\, CA\, 92705\, United States
CATEGORIES:Classes
ATTACH;FMTTYPE=image/png:https://www.meditationinorangecounty.org/wp-content/uploads/2023/03/New-Logo-VKBC-red-on-white-SQ-Transparent.png
ORGANIZER;CN="Vajrayogini Kadampa Buddhist Center":MAILTO:info@meditationinorangecounty.org/
END:VEVENT
BEGIN:VEVENT
DTSTART;TZID=America/Los_Angeles:20260517T100000
DTEND;TZID=America/Los_Angeles:20260517T113000
DTSTAMP:20260423T144205
CREATED:20250104T013259Z
LAST-MODIFIED:20260331T024415Z
UID:10015785-1779012000-1779017400@www.meditationinorangecounty.org
SUMMARY:Sunday Morning Meditation Class (Santa Ana)
DESCRIPTION:
URL:https://www.meditationinorangecounty.org/event/sunday-afternoon-meditation-class-2-2-2-2-2-2-2/2026-05-17/
LOCATION:Vajrayogini Kadampa Buddhist Center\, 231 Memory Lane\, Santa Ana\, CA\, 92705\, United States
CATEGORIES:Classes
ATTACH;FMTTYPE=image/png:https://www.meditationinorangecounty.org/wp-content/uploads/2023/03/New-Logo-VKBC-red-on-white-SQ-Transparent.png
ORGANIZER;CN="Vajrayogini Kadampa Buddhist Center":MAILTO:info@meditationinorangecounty.org/
END:VEVENT
BEGIN:VEVENT
DTSTART;TZID=America/Los_Angeles:20260517T130000
DTEND;TZID=America/Los_Angeles:20260517T150000
DTSTAMP:20260423T144205
CREATED:20260126T024928Z
LAST-MODIFIED:20260324T151504Z
UID:10017341-1779022800-1779030000@www.meditationinorangecounty.org
SUMMARY:Foundation Program
DESCRIPTION:
URL:https://www.meditationinorangecounty.org/event/foundation-program-2/2026-05-17/
LOCATION:Vajrayogini Kadampa Buddhist Center\, 231 Memory Lane\, Santa Ana\, CA\, 92705\, United States
ATTACH;FMTTYPE=image/jpeg:https://www.meditationinorangecounty.org/wp-content/uploads/2025/08/HeartofWisdom-cover.jpg
ORGANIZER;CN="Vajrayogini Kadampa Buddhist Center":MAILTO:info@meditationinorangecounty.org/
END:VEVENT
BEGIN:VEVENT
DTSTART;TZID=America/Los_Angeles:20260519T190000
DTEND;TZID=America/Los_Angeles:20260519T203000
DTSTAMP:20260423T144205
CREATED:20230330T032525Z
LAST-MODIFIED:20251225T033638Z
UID:10005848-1779217200-1779222600@www.meditationinorangecounty.org
SUMMARY:San Clemente Class
DESCRIPTION:
URL:https://www.meditationinorangecounty.org/event/san-clemente-meditation-class-2/2026-05-19/
LOCATION:CA
CATEGORIES:Classes
ATTACH;FMTTYPE=image/png:https://www.meditationinorangecounty.org/wp-content/uploads/2023/03/San-Clemente-Branch-Square-Graphic-min.png
ORGANIZER;CN="Vajrayogini Kadampa Buddhist Center":MAILTO:info@meditationinorangecounty.org/
END:VEVENT
BEGIN:VEVENT
DTSTART;TZID=America/Los_Angeles:20260520T180000
DTEND;TZID=America/Los_Angeles:20260520T191500
DTSTAMP:20260423T144205
CREATED:20251224T004230Z
LAST-MODIFIED:20260325T142607Z
UID:10016111-1779300000-1779304500@www.meditationinorangecounty.org
SUMMARY:Seal Beach Class
DESCRIPTION:Click here for more information
URL:https://www.meditationinorangecounty.org/event/wednesday-evening-meditation-class-seal-beach/2026-05-20/
LOCATION:McKenna's Tea Cottage\, 237 Main Street\, Seal Beach\, 90740\, United States
ATTACH;FMTTYPE=image/png:https://www.meditationinorangecounty.org/wp-content/uploads/2025/12/Seal-Beach-2.png
ORGANIZER;CN="Vajrayogini Kadampa Buddhist Center":MAILTO:info@meditationinorangecounty.org/
END:VEVENT
BEGIN:VEVENT
DTSTART;TZID=America/Los_Angeles:20260521T190000
DTEND;TZID=America/Los_Angeles:20260521T203000
DTSTAMP:20260423T144205
CREATED:20251225T035704Z
LAST-MODIFIED:20251225T040419Z
UID:10006359-1779390000-1779395400@www.meditationinorangecounty.org
SUMMARY:Santa Ana Class
DESCRIPTION:
URL:https://www.meditationinorangecounty.org/event/santa-ana-meditation-class-3-2-2-2/2026-05-21/
LOCATION:Vajrayogini Kadampa Buddhist Center\, 231 Memory Lane\, Santa Ana\, CA\, 92705\, United States
CATEGORIES:Classes
ATTACH;FMTTYPE=image/png:https://www.meditationinorangecounty.org/wp-content/uploads/2023/03/New-Logo-VKBC-red-on-white-SQ-Transparent.png
ORGANIZER;CN="Vajrayogini Kadampa Buddhist Center":MAILTO:info@meditationinorangecounty.org/
END:VEVENT
BEGIN:VEVENT
DTSTART;TZID=America/Los_Angeles:20260524T100000
DTEND;TZID=America/Los_Angeles:20260524T113000
DTSTAMP:20260423T144205
CREATED:20250104T013259Z
LAST-MODIFIED:20260331T024415Z
UID:10015786-1779616800-1779622200@www.meditationinorangecounty.org
SUMMARY:Sunday Morning Meditation Class (Santa Ana)
DESCRIPTION:
URL:https://www.meditationinorangecounty.org/event/sunday-afternoon-meditation-class-2-2-2-2-2-2-2/2026-05-24/
LOCATION:Vajrayogini Kadampa Buddhist Center\, 231 Memory Lane\, Santa Ana\, CA\, 92705\, United States
CATEGORIES:Classes
ATTACH;FMTTYPE=image/png:https://www.meditationinorangecounty.org/wp-content/uploads/2023/03/New-Logo-VKBC-red-on-white-SQ-Transparent.png
ORGANIZER;CN="Vajrayogini Kadampa Buddhist Center":MAILTO:info@meditationinorangecounty.org/
END:VEVENT
BEGIN:VEVENT
DTSTART;TZID=America/Los_Angeles:20260524T130000
DTEND;TZID=America/Los_Angeles:20260524T150000
DTSTAMP:20260423T144205
CREATED:20260126T024928Z
LAST-MODIFIED:20260324T151504Z
UID:10017342-1779627600-1779634800@www.meditationinorangecounty.org
SUMMARY:Foundation Program
DESCRIPTION:
URL:https://www.meditationinorangecounty.org/event/foundation-program-2/2026-05-24/
LOCATION:Vajrayogini Kadampa Buddhist Center\, 231 Memory Lane\, Santa Ana\, CA\, 92705\, United States
ATTACH;FMTTYPE=image/jpeg:https://www.meditationinorangecounty.org/wp-content/uploads/2025/08/HeartofWisdom-cover.jpg
ORGANIZER;CN="Vajrayogini Kadampa Buddhist Center":MAILTO:info@meditationinorangecounty.org/
END:VEVENT
BEGIN:VEVENT
DTSTART;TZID=America/Los_Angeles:20260525T190000
DTEND;TZID=America/Los_Angeles:20260525T210000
DTSTAMP:20260423T144205
CREATED:20231222T194507Z
LAST-MODIFIED:20260331T023912Z
UID:10018336-1779735600-1779742800@www.meditationinorangecounty.org
SUMMARY:Offering to the Spiritual Guide
DESCRIPTION:
URL:https://www.meditationinorangecounty.org/event/offering-to-the-spiritual-guide-prayers-2-2-2/2026-05-25/
LOCATION:Vajrayogini Kadampa Buddhist Center\, 231 Memory Lane\, Santa Ana\, CA\, 92705\, United States
CATEGORIES:Chanted Prayers
ATTACH;FMTTYPE=image/jpeg:https://www.meditationinorangecounty.org/wp-content/uploads/2021/04/guru-sumati-buddha-heruka.jpeg
ORGANIZER;CN="Vajrayogini Kadampa Buddhist Center":MAILTO:info@meditationinorangecounty.org/
END:VEVENT
BEGIN:VEVENT
DTSTART;TZID=America/Los_Angeles:20260526T190000
DTEND;TZID=America/Los_Angeles:20260526T203000
DTSTAMP:20260423T144205
CREATED:20230330T032525Z
LAST-MODIFIED:20251225T033638Z
UID:10005849-1779822000-1779827400@www.meditationinorangecounty.org
SUMMARY:San Clemente Class
DESCRIPTION:
URL:https://www.meditationinorangecounty.org/event/san-clemente-meditation-class-2/2026-05-26/
LOCATION:CA
CATEGORIES:Classes
ATTACH;FMTTYPE=image/png:https://www.meditationinorangecounty.org/wp-content/uploads/2023/03/San-Clemente-Branch-Square-Graphic-min.png
ORGANIZER;CN="Vajrayogini Kadampa Buddhist Center":MAILTO:info@meditationinorangecounty.org/
END:VEVENT
BEGIN:VEVENT
DTSTART;TZID=America/Los_Angeles:20260527T180000
DTEND;TZID=America/Los_Angeles:20260527T191500
DTSTAMP:20260423T144205
CREATED:20251224T004230Z
LAST-MODIFIED:20260325T142607Z
UID:10016112-1779904800-1779909300@www.meditationinorangecounty.org
SUMMARY:Seal Beach Class
DESCRIPTION:Click here for more information
URL:https://www.meditationinorangecounty.org/event/wednesday-evening-meditation-class-seal-beach/2026-05-27/
LOCATION:McKenna's Tea Cottage\, 237 Main Street\, Seal Beach\, 90740\, United States
ATTACH;FMTTYPE=image/png:https://www.meditationinorangecounty.org/wp-content/uploads/2025/12/Seal-Beach-2.png
ORGANIZER;CN="Vajrayogini Kadampa Buddhist Center":MAILTO:info@meditationinorangecounty.org/
END:VEVENT
BEGIN:VEVENT
DTSTART;TZID=America/Los_Angeles:20260528T190000
DTEND;TZID=America/Los_Angeles:20260528T203000
DTSTAMP:20260423T144205
CREATED:20251225T035704Z
LAST-MODIFIED:20251225T040419Z
UID:10006360-1779994800-1780000200@www.meditationinorangecounty.org
SUMMARY:Santa Ana Class
DESCRIPTION:
URL:https://www.meditationinorangecounty.org/event/santa-ana-meditation-class-3-2-2-2/2026-05-28/
LOCATION:Vajrayogini Kadampa Buddhist Center\, 231 Memory Lane\, Santa Ana\, CA\, 92705\, United States
CATEGORIES:Classes
ATTACH;FMTTYPE=image/png:https://www.meditationinorangecounty.org/wp-content/uploads/2023/03/New-Logo-VKBC-red-on-white-SQ-Transparent.png
ORGANIZER;CN="Vajrayogini Kadampa Buddhist Center":MAILTO:info@meditationinorangecounty.org/
END:VEVENT
BEGIN:VEVENT
DTSTART;TZID=America/Los_Angeles:20260531T100000
DTEND;TZID=America/Los_Angeles:20260531T113000
DTSTAMP:20260423T144206
CREATED:20250104T013259Z
LAST-MODIFIED:20260331T024415Z
UID:10015787-1780221600-1780227000@www.meditationinorangecounty.org
SUMMARY:Sunday Morning Meditation Class (Santa Ana)
DESCRIPTION:
URL:https://www.meditationinorangecounty.org/event/sunday-afternoon-meditation-class-2-2-2-2-2-2-2/2026-05-31/
LOCATION:Vajrayogini Kadampa Buddhist Center\, 231 Memory Lane\, Santa Ana\, CA\, 92705\, United States
CATEGORIES:Classes
ATTACH;FMTTYPE=image/png:https://www.meditationinorangecounty.org/wp-content/uploads/2023/03/New-Logo-VKBC-red-on-white-SQ-Transparent.png
ORGANIZER;CN="Vajrayogini Kadampa Buddhist Center":MAILTO:info@meditationinorangecounty.org/
END:VEVENT
BEGIN:VEVENT
DTSTART;TZID=America/Los_Angeles:20260531T130000
DTEND;TZID=America/Los_Angeles:20260531T150000
DTSTAMP:20260423T144206
CREATED:20260126T024928Z
LAST-MODIFIED:20260324T151504Z
UID:10017343-1780232400-1780239600@www.meditationinorangecounty.org
SUMMARY:Foundation Program
DESCRIPTION:
URL:https://www.meditationinorangecounty.org/event/foundation-program-2/2026-05-31/
LOCATION:Vajrayogini Kadampa Buddhist Center\, 231 Memory Lane\, Santa Ana\, CA\, 92705\, United States
ATTACH;FMTTYPE=image/jpeg:https://www.meditationinorangecounty.org/wp-content/uploads/2025/08/HeartofWisdom-cover.jpg
ORGANIZER;CN="Vajrayogini Kadampa Buddhist Center":MAILTO:info@meditationinorangecounty.org/
END:VEVENT
BEGIN:VEVENT
DTSTART;TZID=America/Los_Angeles:20260531T130000
DTEND;TZID=America/Los_Angeles:20260531T163000
DTSTAMP:20260423T144206
CREATED:20260302T015056Z
LAST-MODIFIED:20260302T015057Z
UID:10018314-1780232400-1780245000@www.meditationinorangecounty.org
SUMMARY:Melodious Drum Puja
DESCRIPTION:
URL:https://www.meditationinorangecounty.org/event/long-protector-puja-melodious-drum-2-2/2026-05-31/
LOCATION:Vajrayogini Kadampa Buddhist Center\, 231 Memory Lane\, Santa Ana\, CA\, 92705\, United States
CATEGORIES:Chanted Prayers
ATTACH;FMTTYPE=image/png:https://www.meditationinorangecounty.org/wp-content/uploads/2023/03/Dorje-Shugden-4_transparent-1-2004x2048-1.png
ORGANIZER;CN="Vajrayogini Kadampa Buddhist Center":MAILTO:info@meditationinorangecounty.org/
END:VEVENT
BEGIN:VEVENT
DTSTART;TZID=America/Los_Angeles:20260602T190000
DTEND;TZID=America/Los_Angeles:20260602T203000
DTSTAMP:20260423T144206
CREATED:20230330T032525Z
LAST-MODIFIED:20251225T033638Z
UID:10005850-1780426800-1780432200@www.meditationinorangecounty.org
SUMMARY:San Clemente Class
DESCRIPTION:
URL:https://www.meditationinorangecounty.org/event/san-clemente-meditation-class-2/2026-06-02/
LOCATION:CA
CATEGORIES:Classes
ATTACH;FMTTYPE=image/png:https://www.meditationinorangecounty.org/wp-content/uploads/2023/03/San-Clemente-Branch-Square-Graphic-min.png
ORGANIZER;CN="Vajrayogini Kadampa Buddhist Center":MAILTO:info@meditationinorangecounty.org/
END:VEVENT
BEGIN:VEVENT
DTSTART;TZID=America/Los_Angeles:20260603T180000
DTEND;TZID=America/Los_Angeles:20260603T191500
DTSTAMP:20260423T144206
CREATED:20251224T004230Z
LAST-MODIFIED:20260325T142607Z
UID:10016113-1780509600-1780514100@www.meditationinorangecounty.org
SUMMARY:Seal Beach Class
DESCRIPTION:Click here for more information
URL:https://www.meditationinorangecounty.org/event/wednesday-evening-meditation-class-seal-beach/2026-06-03/
LOCATION:McKenna's Tea Cottage\, 237 Main Street\, Seal Beach\, 90740\, United States
ATTACH;FMTTYPE=image/png:https://www.meditationinorangecounty.org/wp-content/uploads/2025/12/Seal-Beach-2.png
ORGANIZER;CN="Vajrayogini Kadampa Buddhist Center":MAILTO:info@meditationinorangecounty.org/
END:VEVENT
BEGIN:VEVENT
DTSTART;VALUE=DATE:20260604
DTEND;VALUE=DATE:20260605
DTSTAMP:20260423T144206
CREATED:20240525T190741Z
LAST-MODIFIED:20240525T190741Z
UID:10011794-1780531200-1780617599@www.meditationinorangecounty.org
SUMMARY:Turning Of The Wheel Of Dharma Day / Geshe-la's Birthday
DESCRIPTION:
URL:https://www.meditationinorangecounty.org/event/turning-of-the-wheel-of-dharma-day-geshe-las-birthday/2026-06-04/
LOCATION:Vajrayogini Kadampa Buddhist Center\, 231 Memory Lane\, Santa Ana\, CA\, 92705\, United States
ATTACH;FMTTYPE=image/jpeg:https://www.meditationinorangecounty.org/wp-content/uploads/2021/06/NKT-Dharma-Wheel-adjusted-2.jpeg
ORGANIZER;CN="Vajrayogini Kadampa Buddhist Center":MAILTO:info@meditationinorangecounty.org/
END:VEVENT
BEGIN:VEVENT
DTSTART;TZID=America/Los_Angeles:20260604T190000
DTEND;TZID=America/Los_Angeles:20260604T203000
DTSTAMP:20260423T144206
CREATED:20251225T035704Z
LAST-MODIFIED:20251225T040419Z
UID:10006361-1780599600-1780605000@www.meditationinorangecounty.org
SUMMARY:Santa Ana Class
DESCRIPTION:
URL:https://www.meditationinorangecounty.org/event/santa-ana-meditation-class-3-2-2-2/2026-06-04/
LOCATION:Vajrayogini Kadampa Buddhist Center\, 231 Memory Lane\, Santa Ana\, CA\, 92705\, United States
CATEGORIES:Classes
ATTACH;FMTTYPE=image/png:https://www.meditationinorangecounty.org/wp-content/uploads/2023/03/New-Logo-VKBC-red-on-white-SQ-Transparent.png
ORGANIZER;CN="Vajrayogini Kadampa Buddhist Center":MAILTO:info@meditationinorangecounty.org/
END:VEVENT
BEGIN:VEVENT
DTSTART;TZID=America/Los_Angeles:20260607T100000
DTEND;TZID=America/Los_Angeles:20260607T113000
DTSTAMP:20260423T144206
CREATED:20250104T013259Z
LAST-MODIFIED:20260331T024415Z
UID:10015788-1780826400-1780831800@www.meditationinorangecounty.org
SUMMARY:Sunday Morning Meditation Class (Santa Ana)
DESCRIPTION:
URL:https://www.meditationinorangecounty.org/event/sunday-afternoon-meditation-class-2-2-2-2-2-2-2/2026-06-07/
LOCATION:Vajrayogini Kadampa Buddhist Center\, 231 Memory Lane\, Santa Ana\, CA\, 92705\, United States
CATEGORIES:Classes
ATTACH;FMTTYPE=image/png:https://www.meditationinorangecounty.org/wp-content/uploads/2023/03/New-Logo-VKBC-red-on-white-SQ-Transparent.png
ORGANIZER;CN="Vajrayogini Kadampa Buddhist Center":MAILTO:info@meditationinorangecounty.org/
END:VEVENT
BEGIN:VEVENT
DTSTART;TZID=America/Los_Angeles:20260607T130000
DTEND;TZID=America/Los_Angeles:20260607T150000
DTSTAMP:20260423T144206
CREATED:20260126T024928Z
LAST-MODIFIED:20260324T151504Z
UID:10017344-1780837200-1780844400@www.meditationinorangecounty.org
SUMMARY:Foundation Program
DESCRIPTION:
URL:https://www.meditationinorangecounty.org/event/foundation-program-2/2026-06-07/
LOCATION:Vajrayogini Kadampa Buddhist Center\, 231 Memory Lane\, Santa Ana\, CA\, 92705\, United States
ATTACH;FMTTYPE=image/jpeg:https://www.meditationinorangecounty.org/wp-content/uploads/2025/08/HeartofWisdom-cover.jpg
ORGANIZER;CN="Vajrayogini Kadampa Buddhist Center":MAILTO:info@meditationinorangecounty.org/
END:VEVENT
BEGIN:VEVENT
DTSTART;VALUE=DATE:20260608
DTEND;VALUE=DATE:20260609
DTSTAMP:20260423T144206
CREATED:20260209T160755Z
LAST-MODIFIED:20260209T160756Z
UID:10018143-1780876800-1780959599@www.meditationinorangecounty.org
SUMMARY:Green Tara Day
DESCRIPTION:
URL:https://www.meditationinorangecounty.org/event/green-tara-day-2/2026-06-08/
LOCATION:Vajrayogini Kadampa Buddhist Center\, 231 Memory Lane\, Santa Ana\, CA\, 92705\, United States
ATTACH;FMTTYPE=image/png:https://www.meditationinorangecounty.org/wp-content/uploads/2025/01/Kadampa-Summer-Festival-2025-–-Buddha-Green-Tara-Merged-2x-768x801-1.png
ORGANIZER;CN="Vajrayogini Kadampa Buddhist Center":MAILTO:info@meditationinorangecounty.org/
END:VEVENT
BEGIN:VEVENT
DTSTART;TZID=America/Los_Angeles:20260609T190000
DTEND;TZID=America/Los_Angeles:20260609T203000
DTSTAMP:20260423T144206
CREATED:20230330T032525Z
LAST-MODIFIED:20251225T033638Z
UID:10005851-1781031600-1781037000@www.meditationinorangecounty.org
SUMMARY:San Clemente Class
DESCRIPTION:
URL:https://www.meditationinorangecounty.org/event/san-clemente-meditation-class-2/2026-06-09/
LOCATION:CA
CATEGORIES:Classes
ATTACH;FMTTYPE=image/png:https://www.meditationinorangecounty.org/wp-content/uploads/2023/03/San-Clemente-Branch-Square-Graphic-min.png
ORGANIZER;CN="Vajrayogini Kadampa Buddhist Center":MAILTO:info@meditationinorangecounty.org/
END:VEVENT
BEGIN:VEVENT
DTSTART;TZID=America/Los_Angeles:20260610T110000
DTEND;TZID=America/Los_Angeles:20260610T130000
DTSTAMP:20260423T144206
CREATED:20240525T191310Z
LAST-MODIFIED:20260324T145734Z
UID:10018067-1781089200-1781096400@www.meditationinorangecounty.org
SUMMARY:Offering to the Spiritual Guide
DESCRIPTION:
URL:https://www.meditationinorangecounty.org/event/offering-to-the-spiritual-guide-prayers-2/2026-06-10/
LOCATION:Vajrayogini Kadampa Buddhist Center\, 231 Memory Lane\, Santa Ana\, CA\, 92705\, United States
CATEGORIES:Chanted Prayers
ATTACH;FMTTYPE=image/jpeg:https://www.meditationinorangecounty.org/wp-content/uploads/2021/04/guru-sumati-buddha-heruka.jpeg
ORGANIZER;CN="Vajrayogini Kadampa Buddhist Center":MAILTO:info@meditationinorangecounty.org/
END:VEVENT
BEGIN:VEVENT
DTSTART;TZID=America/Los_Angeles:20260610T180000
DTEND;TZID=America/Los_Angeles:20260610T191500
DTSTAMP:20260423T144206
CREATED:20251224T004230Z
LAST-MODIFIED:20260325T142607Z
UID:10016114-1781114400-1781118900@www.meditationinorangecounty.org
SUMMARY:Seal Beach Class
DESCRIPTION:Click here for more information
URL:https://www.meditationinorangecounty.org/event/wednesday-evening-meditation-class-seal-beach/2026-06-10/
LOCATION:McKenna's Tea Cottage\, 237 Main Street\, Seal Beach\, 90740\, United States
ATTACH;FMTTYPE=image/png:https://www.meditationinorangecounty.org/wp-content/uploads/2025/12/Seal-Beach-2.png
ORGANIZER;CN="Vajrayogini Kadampa Buddhist Center":MAILTO:info@meditationinorangecounty.org/
END:VEVENT
END:VCALENDAR