BEGIN:VCALENDAR
VERSION:2.0
PRODID:-//Vajrayogini Kadampa Buddhist Center - ECPv6.15.20//NONSGML v1.0//EN
CALSCALE:GREGORIAN
METHOD:PUBLISH
X-WR-CALNAME:Vajrayogini Kadampa Buddhist Center
X-ORIGINAL-URL:https://www.meditationinorangecounty.org
X-WR-CALDESC:Events for Vajrayogini Kadampa Buddhist Center
REFRESH-INTERVAL;VALUE=DURATION:PT1H
X-Robots-Tag:noindex
X-PUBLISHED-TTL:PT1H
BEGIN:VTIMEZONE
TZID:America/Los_Angeles
BEGIN:DAYLIGHT
TZOFFSETFROM:-0800
TZOFFSETTO:-0700
TZNAME:PDT
DTSTART:20250309T100000
END:DAYLIGHT
BEGIN:STANDARD
TZOFFSETFROM:-0700
TZOFFSETTO:-0800
TZNAME:PST
DTSTART:20251102T090000
END:STANDARD
BEGIN:DAYLIGHT
TZOFFSETFROM:-0800
TZOFFSETTO:-0700
TZNAME:PDT
DTSTART:20260308T100000
END:DAYLIGHT
BEGIN:STANDARD
TZOFFSETFROM:-0700
TZOFFSETTO:-0800
TZNAME:PST
DTSTART:20261101T090000
END:STANDARD
BEGIN:DAYLIGHT
TZOFFSETFROM:-0800
TZOFFSETTO:-0700
TZNAME:PDT
DTSTART:20270314T100000
END:DAYLIGHT
BEGIN:STANDARD
TZOFFSETFROM:-0700
TZOFFSETTO:-0800
TZNAME:PST
DTSTART:20271107T090000
END:STANDARD
END:VTIMEZONE
BEGIN:VEVENT
DTSTART;TZID=America/Los_Angeles:20260207T110000
DTEND;TZID=America/Los_Angeles:20260207T120000
DTSTAMP:20260423T160407
CREATED:20250822T011640Z
LAST-MODIFIED:20260407T022102Z
UID:10018134-1770462000-1770465600@www.meditationinorangecounty.org
SUMMARY:Wishfulfilling Jewel With Meditation
DESCRIPTION:
URL:https://www.meditationinorangecounty.org/event/wishfulfilling-jewel-with-meditation-2/2026-02-07/
LOCATION:Vajrayogini Kadampa Buddhist Center\, 231 Memory Lane\, Santa Ana\, CA\, 92705\, United States
ATTACH;FMTTYPE=image/jpeg:https://www.meditationinorangecounty.org/wp-content/uploads/2021/06/Dorje-Shugden-min.jpeg
ORGANIZER;CN="Vajrayogini Kadampa Buddhist Center":MAILTO:info@meditationinorangecounty.org/
END:VEVENT
BEGIN:VEVENT
DTSTART;TZID=America/Los_Angeles:20260207T100000
DTEND;TZID=America/Los_Angeles:20260207T101500
DTSTAMP:20260423T160407
CREATED:20260126T031859Z
LAST-MODIFIED:20260126T031859Z
UID:10018038-1770458400-1770459300@www.meditationinorangecounty.org
SUMMARY:15 Minute Guided Meditation (Free)
DESCRIPTION:
URL:https://www.meditationinorangecounty.org/event/15-minute-guided-meditation-free/2026-02-07/
LOCATION:Vajrayogini Kadampa Buddhist Center\, 231 Memory Lane\, Santa Ana\, CA\, 92705\, United States
ATTACH;FMTTYPE=image/png:https://www.meditationinorangecounty.org/wp-content/uploads/2023/03/cropped-cropped-MKMC-Logo-Lotus-red-new-min.png
ORGANIZER;CN="Vajrayogini Kadampa Buddhist Center":MAILTO:info@meditationinorangecounty.org/
END:VEVENT
BEGIN:VEVENT
DTSTART;TZID=America/Los_Angeles:20260206T110000
DTEND;TZID=America/Los_Angeles:20260206T120000
DTSTAMP:20260423T160407
CREATED:20250822T011640Z
LAST-MODIFIED:20260407T022102Z
UID:10017661-1770375600-1770379200@www.meditationinorangecounty.org
SUMMARY:Wishfulfilling Jewel With Meditation
DESCRIPTION:
URL:https://www.meditationinorangecounty.org/event/wishfulfilling-jewel-with-meditation-2/2026-02-06/
LOCATION:Vajrayogini Kadampa Buddhist Center\, 231 Memory Lane\, Santa Ana\, CA\, 92705\, United States
ATTACH;FMTTYPE=image/jpeg:https://www.meditationinorangecounty.org/wp-content/uploads/2021/06/Dorje-Shugden-min.jpeg
ORGANIZER;CN="Vajrayogini Kadampa Buddhist Center":MAILTO:info@meditationinorangecounty.org/
END:VEVENT
BEGIN:VEVENT
DTSTART;TZID=America/Los_Angeles:20260205T190000
DTEND;TZID=America/Los_Angeles:20260205T203000
DTSTAMP:20260423T160407
CREATED:20251225T035704Z
LAST-MODIFIED:20251225T040419Z
UID:10006343-1770318000-1770323400@www.meditationinorangecounty.org
SUMMARY:Santa Ana Class
DESCRIPTION:
URL:https://www.meditationinorangecounty.org/event/santa-ana-meditation-class-3-2-2-2/2026-02-05/
LOCATION:Vajrayogini Kadampa Buddhist Center\, 231 Memory Lane\, Santa Ana\, CA\, 92705\, United States
CATEGORIES:Classes
ATTACH;FMTTYPE=image/png:https://www.meditationinorangecounty.org/wp-content/uploads/2023/03/New-Logo-VKBC-red-on-white-SQ-Transparent.png
ORGANIZER;CN="Vajrayogini Kadampa Buddhist Center":MAILTO:info@meditationinorangecounty.org/
END:VEVENT
BEGIN:VEVENT
DTSTART;TZID=America/Los_Angeles:20260205T110000
DTEND;TZID=America/Los_Angeles:20260205T120000
DTSTAMP:20260423T160407
CREATED:20250822T011640Z
LAST-MODIFIED:20260407T022102Z
UID:10017660-1770289200-1770292800@www.meditationinorangecounty.org
SUMMARY:Wishfulfilling Jewel With Meditation
DESCRIPTION:
URL:https://www.meditationinorangecounty.org/event/wishfulfilling-jewel-with-meditation-2/2026-02-05/
LOCATION:Vajrayogini Kadampa Buddhist Center\, 231 Memory Lane\, Santa Ana\, CA\, 92705\, United States
ATTACH;FMTTYPE=image/jpeg:https://www.meditationinorangecounty.org/wp-content/uploads/2021/06/Dorje-Shugden-min.jpeg
ORGANIZER;CN="Vajrayogini Kadampa Buddhist Center":MAILTO:info@meditationinorangecounty.org/
END:VEVENT
BEGIN:VEVENT
DTSTART;TZID=America/Los_Angeles:20260204T180000
DTEND;TZID=America/Los_Angeles:20260204T191500
DTSTAMP:20260423T160407
CREATED:20251224T004230Z
LAST-MODIFIED:20260325T142607Z
UID:10016096-1770228000-1770232500@www.meditationinorangecounty.org
SUMMARY:Seal Beach Class
DESCRIPTION:Click here for more information
URL:https://www.meditationinorangecounty.org/event/wednesday-evening-meditation-class-seal-beach/2026-02-04/
LOCATION:McKenna's Tea Cottage\, 237 Main Street\, Seal Beach\, 90740\, United States
ATTACH;FMTTYPE=image/png:https://www.meditationinorangecounty.org/wp-content/uploads/2025/12/Seal-Beach-2.png
ORGANIZER;CN="Vajrayogini Kadampa Buddhist Center":MAILTO:info@meditationinorangecounty.org/
END:VEVENT
BEGIN:VEVENT
DTSTART;TZID=America/Los_Angeles:20260204T110000
DTEND;TZID=America/Los_Angeles:20260204T120000
DTSTAMP:20260423T160407
CREATED:20250822T011640Z
LAST-MODIFIED:20260407T022102Z
UID:10017659-1770202800-1770206400@www.meditationinorangecounty.org
SUMMARY:Wishfulfilling Jewel With Meditation
DESCRIPTION:
URL:https://www.meditationinorangecounty.org/event/wishfulfilling-jewel-with-meditation-2/2026-02-04/
LOCATION:Vajrayogini Kadampa Buddhist Center\, 231 Memory Lane\, Santa Ana\, CA\, 92705\, United States
ATTACH;FMTTYPE=image/jpeg:https://www.meditationinorangecounty.org/wp-content/uploads/2021/06/Dorje-Shugden-min.jpeg
ORGANIZER;CN="Vajrayogini Kadampa Buddhist Center":MAILTO:info@meditationinorangecounty.org/
END:VEVENT
BEGIN:VEVENT
DTSTART;TZID=America/Los_Angeles:20260203T190000
DTEND;TZID=America/Los_Angeles:20260203T203000
DTSTAMP:20260423T160407
CREATED:20230330T032525Z
LAST-MODIFIED:20251225T033638Z
UID:10005833-1770145200-1770150600@www.meditationinorangecounty.org
SUMMARY:San Clemente Class
DESCRIPTION:
URL:https://www.meditationinorangecounty.org/event/san-clemente-meditation-class-2/2026-02-03/
LOCATION:CA
CATEGORIES:Classes
ATTACH;FMTTYPE=image/png:https://www.meditationinorangecounty.org/wp-content/uploads/2023/03/San-Clemente-Branch-Square-Graphic-min.png
ORGANIZER;CN="Vajrayogini Kadampa Buddhist Center":MAILTO:info@meditationinorangecounty.org/
END:VEVENT
BEGIN:VEVENT
DTSTART;TZID=America/Los_Angeles:20260203T110000
DTEND;TZID=America/Los_Angeles:20260203T120000
DTSTAMP:20260423T160407
CREATED:20250822T011640Z
LAST-MODIFIED:20260407T022102Z
UID:10017658-1770116400-1770120000@www.meditationinorangecounty.org
SUMMARY:Wishfulfilling Jewel With Meditation
DESCRIPTION:
URL:https://www.meditationinorangecounty.org/event/wishfulfilling-jewel-with-meditation-2/2026-02-03/
LOCATION:Vajrayogini Kadampa Buddhist Center\, 231 Memory Lane\, Santa Ana\, CA\, 92705\, United States
ATTACH;FMTTYPE=image/jpeg:https://www.meditationinorangecounty.org/wp-content/uploads/2021/06/Dorje-Shugden-min.jpeg
ORGANIZER;CN="Vajrayogini Kadampa Buddhist Center":MAILTO:info@meditationinorangecounty.org/
END:VEVENT
BEGIN:VEVENT
DTSTART;TZID=America/Los_Angeles:20260202T110000
DTEND;TZID=America/Los_Angeles:20260202T120000
DTSTAMP:20260423T160407
CREATED:20250822T011640Z
LAST-MODIFIED:20260407T022102Z
UID:10017657-1770030000-1770033600@www.meditationinorangecounty.org
SUMMARY:Wishfulfilling Jewel With Meditation
DESCRIPTION:
URL:https://www.meditationinorangecounty.org/event/wishfulfilling-jewel-with-meditation-2/2026-02-02/
LOCATION:Vajrayogini Kadampa Buddhist Center\, 231 Memory Lane\, Santa Ana\, CA\, 92705\, United States
ATTACH;FMTTYPE=image/jpeg:https://www.meditationinorangecounty.org/wp-content/uploads/2021/06/Dorje-Shugden-min.jpeg
ORGANIZER;CN="Vajrayogini Kadampa Buddhist Center":MAILTO:info@meditationinorangecounty.org/
END:VEVENT
BEGIN:VEVENT
DTSTART;TZID=America/Los_Angeles:20260201T153000
DTEND;TZID=America/Los_Angeles:20260201T164500
DTSTAMP:20260423T160407
CREATED:20260126T033855Z
LAST-MODIFIED:20260128T165716Z
UID:10018132-1769959800-1769964300@www.meditationinorangecounty.org
SUMMARY:Wishfulfilling Jewel with Tsog
DESCRIPTION:
URL:https://www.meditationinorangecounty.org/event/wishfulfilling-jewel-with-tsog-4/
LOCATION:Vajrayogini Kadampa Buddhist Center\, 231 Memory Lane\, Santa Ana\, CA\, 92705\, United States
ATTACH;FMTTYPE=image/jpeg:https://www.meditationinorangecounty.org/wp-content/uploads/2021/06/Dorje-Shugden-min.jpeg
ORGANIZER;CN="Vajrayogini Kadampa Buddhist Center":MAILTO:info@meditationinorangecounty.org/
END:VEVENT
BEGIN:VEVENT
DTSTART;TZID=America/Los_Angeles:20260201T130000
DTEND;TZID=America/Los_Angeles:20260201T150000
DTSTAMP:20260423T160407
CREATED:20260126T024928Z
LAST-MODIFIED:20260324T151504Z
UID:10014536-1769950800-1769958000@www.meditationinorangecounty.org
SUMMARY:Foundation Program
DESCRIPTION:
URL:https://www.meditationinorangecounty.org/event/foundation-program-2/2026-02-01/
LOCATION:Vajrayogini Kadampa Buddhist Center\, 231 Memory Lane\, Santa Ana\, CA\, 92705\, United States
ATTACH;FMTTYPE=image/jpeg:https://www.meditationinorangecounty.org/wp-content/uploads/2025/08/HeartofWisdom-cover.jpg
ORGANIZER;CN="Vajrayogini Kadampa Buddhist Center":MAILTO:info@meditationinorangecounty.org/
END:VEVENT
BEGIN:VEVENT
DTSTART;TZID=America/Los_Angeles:20260201T100000
DTEND;TZID=America/Los_Angeles:20260201T113000
DTSTAMP:20260423T160407
CREATED:20250104T013259Z
LAST-MODIFIED:20260331T024415Z
UID:10015770-1769940000-1769945400@www.meditationinorangecounty.org
SUMMARY:Sunday Morning Meditation Class (Santa Ana)
DESCRIPTION:
URL:https://www.meditationinorangecounty.org/event/sunday-afternoon-meditation-class-2-2-2-2-2-2-2/2026-02-01/
LOCATION:Vajrayogini Kadampa Buddhist Center\, 231 Memory Lane\, Santa Ana\, CA\, 92705\, United States
CATEGORIES:Classes
ATTACH;FMTTYPE=image/png:https://www.meditationinorangecounty.org/wp-content/uploads/2023/03/New-Logo-VKBC-red-on-white-SQ-Transparent.png
ORGANIZER;CN="Vajrayogini Kadampa Buddhist Center":MAILTO:info@meditationinorangecounty.org/
END:VEVENT
BEGIN:VEVENT
DTSTART;TZID=America/Los_Angeles:20260131T190000
DTEND;TZID=America/Los_Angeles:20260131T210000
DTSTAMP:20260423T160407
CREATED:20251224T020119Z
LAST-MODIFIED:20251225T040756Z
UID:10016431-1769886000-1769893200@www.meditationinorangecounty.org
SUMMARY:Dorje Shugden Retreat
DESCRIPTION:Click here for more information
URL:https://www.meditationinorangecounty.org/event/dorje-shugden-retreat/2026-01-31/4/
LOCATION:Vajrayogini Kadampa Buddhist Center\, 231 Memory Lane\, Santa Ana\, CA\, 92705\, United States
ATTACH;FMTTYPE=image/png:https://www.meditationinorangecounty.org/wp-content/uploads/2025/12/Dorje-Shugden-Close-Retreat-2026-Square.png
ORGANIZER;CN="Vajrayogini Kadampa Buddhist Center":MAILTO:info@meditationinorangecounty.org/
END:VEVENT
BEGIN:VEVENT
DTSTART;TZID=America/Los_Angeles:20260131T140000
DTEND;TZID=America/Los_Angeles:20260131T160000
DTSTAMP:20260423T160407
CREATED:20251224T020119Z
LAST-MODIFIED:20251225T040756Z
UID:10016430-1769868000-1769875200@www.meditationinorangecounty.org
SUMMARY:Dorje Shugden Retreat
DESCRIPTION:Click here for more information
URL:https://www.meditationinorangecounty.org/event/dorje-shugden-retreat/2026-01-31/3/
LOCATION:Vajrayogini Kadampa Buddhist Center\, 231 Memory Lane\, Santa Ana\, CA\, 92705\, United States
ATTACH;FMTTYPE=image/png:https://www.meditationinorangecounty.org/wp-content/uploads/2025/12/Dorje-Shugden-Close-Retreat-2026-Square.png
ORGANIZER;CN="Vajrayogini Kadampa Buddhist Center":MAILTO:info@meditationinorangecounty.org/
END:VEVENT
BEGIN:VEVENT
DTSTART;TZID=America/Los_Angeles:20260131T110000
DTEND;TZID=America/Los_Angeles:20260131T130000
DTSTAMP:20260423T160407
CREATED:20251224T020119Z
LAST-MODIFIED:20251225T040756Z
UID:10016429-1769857200-1769864400@www.meditationinorangecounty.org
SUMMARY:Dorje Shugden Retreat
DESCRIPTION:Click here for more information
URL:https://www.meditationinorangecounty.org/event/dorje-shugden-retreat/2026-01-31/2/
LOCATION:Vajrayogini Kadampa Buddhist Center\, 231 Memory Lane\, Santa Ana\, CA\, 92705\, United States
ATTACH;FMTTYPE=image/png:https://www.meditationinorangecounty.org/wp-content/uploads/2025/12/Dorje-Shugden-Close-Retreat-2026-Square.png
ORGANIZER;CN="Vajrayogini Kadampa Buddhist Center":MAILTO:info@meditationinorangecounty.org/
END:VEVENT
BEGIN:VEVENT
DTSTART;TZID=America/Los_Angeles:20260131T080000
DTEND;TZID=America/Los_Angeles:20260131T100000
DTSTAMP:20260423T160407
CREATED:20251224T020119Z
LAST-MODIFIED:20251225T040756Z
UID:10016428-1769846400-1769853600@www.meditationinorangecounty.org
SUMMARY:Dorje Shugden Retreat
DESCRIPTION:Click here for more information
URL:https://www.meditationinorangecounty.org/event/dorje-shugden-retreat/2026-01-31/1/
LOCATION:Vajrayogini Kadampa Buddhist Center\, 231 Memory Lane\, Santa Ana\, CA\, 92705\, United States
ATTACH;FMTTYPE=image/png:https://www.meditationinorangecounty.org/wp-content/uploads/2025/12/Dorje-Shugden-Close-Retreat-2026-Square.png
ORGANIZER;CN="Vajrayogini Kadampa Buddhist Center":MAILTO:info@meditationinorangecounty.org/
END:VEVENT
BEGIN:VEVENT
DTSTART;TZID=America/Los_Angeles:20260130T190000
DTEND;TZID=America/Los_Angeles:20260130T210000
DTSTAMP:20260423T160407
CREATED:20251224T020119Z
LAST-MODIFIED:20251225T040756Z
UID:10016426-1769799600-1769806800@www.meditationinorangecounty.org
SUMMARY:Dorje Shugden Retreat
DESCRIPTION:Click here for more information
URL:https://www.meditationinorangecounty.org/event/dorje-shugden-retreat/2026-01-30/4/
LOCATION:Vajrayogini Kadampa Buddhist Center\, 231 Memory Lane\, Santa Ana\, CA\, 92705\, United States
ATTACH;FMTTYPE=image/png:https://www.meditationinorangecounty.org/wp-content/uploads/2025/12/Dorje-Shugden-Close-Retreat-2026-Square.png
ORGANIZER;CN="Vajrayogini Kadampa Buddhist Center":MAILTO:info@meditationinorangecounty.org/
END:VEVENT
BEGIN:VEVENT
DTSTART;TZID=America/Los_Angeles:20260130T140000
DTEND;TZID=America/Los_Angeles:20260130T160000
DTSTAMP:20260423T160407
CREATED:20251224T020119Z
LAST-MODIFIED:20251225T040756Z
UID:10016425-1769781600-1769788800@www.meditationinorangecounty.org
SUMMARY:Dorje Shugden Retreat
DESCRIPTION:Click here for more information
URL:https://www.meditationinorangecounty.org/event/dorje-shugden-retreat/2026-01-30/3/
LOCATION:Vajrayogini Kadampa Buddhist Center\, 231 Memory Lane\, Santa Ana\, CA\, 92705\, United States
ATTACH;FMTTYPE=image/png:https://www.meditationinorangecounty.org/wp-content/uploads/2025/12/Dorje-Shugden-Close-Retreat-2026-Square.png
ORGANIZER;CN="Vajrayogini Kadampa Buddhist Center":MAILTO:info@meditationinorangecounty.org/
END:VEVENT
BEGIN:VEVENT
DTSTART;TZID=America/Los_Angeles:20260130T110000
DTEND;TZID=America/Los_Angeles:20260130T130000
DTSTAMP:20260423T160407
CREATED:20251224T020119Z
LAST-MODIFIED:20251225T040756Z
UID:10016424-1769770800-1769778000@www.meditationinorangecounty.org
SUMMARY:Dorje Shugden Retreat
DESCRIPTION:Click here for more information
URL:https://www.meditationinorangecounty.org/event/dorje-shugden-retreat/2026-01-30/2/
LOCATION:Vajrayogini Kadampa Buddhist Center\, 231 Memory Lane\, Santa Ana\, CA\, 92705\, United States
ATTACH;FMTTYPE=image/png:https://www.meditationinorangecounty.org/wp-content/uploads/2025/12/Dorje-Shugden-Close-Retreat-2026-Square.png
ORGANIZER;CN="Vajrayogini Kadampa Buddhist Center":MAILTO:info@meditationinorangecounty.org/
END:VEVENT
BEGIN:VEVENT
DTSTART;TZID=America/Los_Angeles:20260130T080000
DTEND;TZID=America/Los_Angeles:20260130T100000
DTSTAMP:20260423T160407
CREATED:20251224T020119Z
LAST-MODIFIED:20251225T040756Z
UID:10016423-1769760000-1769767200@www.meditationinorangecounty.org
SUMMARY:Dorje Shugden Retreat
DESCRIPTION:Click here for more information
URL:https://www.meditationinorangecounty.org/event/dorje-shugden-retreat/2026-01-30/1/
LOCATION:Vajrayogini Kadampa Buddhist Center\, 231 Memory Lane\, Santa Ana\, CA\, 92705\, United States
ATTACH;FMTTYPE=image/png:https://www.meditationinorangecounty.org/wp-content/uploads/2025/12/Dorje-Shugden-Close-Retreat-2026-Square.png
ORGANIZER;CN="Vajrayogini Kadampa Buddhist Center":MAILTO:info@meditationinorangecounty.org/
END:VEVENT
BEGIN:VEVENT
DTSTART;TZID=America/Los_Angeles:20260129T190000
DTEND;TZID=America/Los_Angeles:20260129T203000
DTSTAMP:20260423T160407
CREATED:20251225T035704Z
LAST-MODIFIED:20251225T040419Z
UID:10016520-1769713200-1769718600@www.meditationinorangecounty.org
SUMMARY:Santa Ana Class
DESCRIPTION:
URL:https://www.meditationinorangecounty.org/event/santa-ana-meditation-class-3-2-2-2/2026-01-29/
LOCATION:Vajrayogini Kadampa Buddhist Center\, 231 Memory Lane\, Santa Ana\, CA\, 92705\, United States
CATEGORIES:Classes
ATTACH;FMTTYPE=image/png:https://www.meditationinorangecounty.org/wp-content/uploads/2023/03/New-Logo-VKBC-red-on-white-SQ-Transparent.png
ORGANIZER;CN="Vajrayogini Kadampa Buddhist Center":MAILTO:info@meditationinorangecounty.org/
END:VEVENT
BEGIN:VEVENT
DTSTART;TZID=America/Los_Angeles:20260129T140000
DTEND;TZID=America/Los_Angeles:20260129T173000
DTSTAMP:20260423T160407
CREATED:20230611T030444Z
LAST-MODIFIED:20260324T152801Z
UID:10016523-1769695200-1769707800@www.meditationinorangecounty.org
SUMMARY:Melodious Drum Puja
DESCRIPTION:
URL:https://www.meditationinorangecounty.org/event/long-protector-puja-melodious-drum-2/2026-01-29/
LOCATION:Vajrayogini Kadampa Buddhist Center\, 231 Memory Lane\, Santa Ana\, CA\, 92705\, United States
CATEGORIES:Chanted Prayers
ATTACH;FMTTYPE=image/png:https://www.meditationinorangecounty.org/wp-content/uploads/2023/03/Dorje-Shugden-4_transparent-1-2004x2048-1.png
ORGANIZER;CN="Vajrayogini Kadampa Buddhist Center":MAILTO:info@meditationinorangecounty.org/
END:VEVENT
BEGIN:VEVENT
DTSTART;TZID=America/Los_Angeles:20260129T110000
DTEND;TZID=America/Los_Angeles:20260129T130000
DTSTAMP:20260423T160407
CREATED:20251224T020119Z
LAST-MODIFIED:20251225T040756Z
UID:10016422-1769684400-1769691600@www.meditationinorangecounty.org
SUMMARY:Dorje Shugden Retreat
DESCRIPTION:Click here for more information
URL:https://www.meditationinorangecounty.org/event/dorje-shugden-retreat/2026-01-29/2/
LOCATION:Vajrayogini Kadampa Buddhist Center\, 231 Memory Lane\, Santa Ana\, CA\, 92705\, United States
ATTACH;FMTTYPE=image/png:https://www.meditationinorangecounty.org/wp-content/uploads/2025/12/Dorje-Shugden-Close-Retreat-2026-Square.png
ORGANIZER;CN="Vajrayogini Kadampa Buddhist Center":MAILTO:info@meditationinorangecounty.org/
END:VEVENT
BEGIN:VEVENT
DTSTART;TZID=America/Los_Angeles:20260129T080000
DTEND;TZID=America/Los_Angeles:20260129T100000
DTSTAMP:20260423T160407
CREATED:20251224T020119Z
LAST-MODIFIED:20251225T040756Z
UID:10016421-1769673600-1769680800@www.meditationinorangecounty.org
SUMMARY:Dorje Shugden Retreat
DESCRIPTION:Click here for more information
URL:https://www.meditationinorangecounty.org/event/dorje-shugden-retreat/2026-01-29/1/
LOCATION:Vajrayogini Kadampa Buddhist Center\, 231 Memory Lane\, Santa Ana\, CA\, 92705\, United States
ATTACH;FMTTYPE=image/png:https://www.meditationinorangecounty.org/wp-content/uploads/2025/12/Dorje-Shugden-Close-Retreat-2026-Square.png
ORGANIZER;CN="Vajrayogini Kadampa Buddhist Center":MAILTO:info@meditationinorangecounty.org/
END:VEVENT
BEGIN:VEVENT
DTSTART;VALUE=DATE:20260129
DTEND;VALUE=DATE:20260130
DTSTAMP:20260423T160407
CREATED:20251225T040247Z
LAST-MODIFIED:20251225T040247Z
UID:10016515-1769644800-1769731199@www.meditationinorangecounty.org
SUMMARY:Protector Day
DESCRIPTION:
URL:https://www.meditationinorangecounty.org/event/protector-day/2026-01-29/
LOCATION:Vajrayogini Kadampa Buddhist Center\, 231 Memory Lane\, Santa Ana\, CA\, 92705\, United States
ATTACH;FMTTYPE=image/jpeg:https://www.meditationinorangecounty.org/wp-content/uploads/2021/06/Dorje-Shugden-min.jpeg
ORGANIZER;CN="Vajrayogini Kadampa Buddhist Center":MAILTO:info@meditationinorangecounty.org/
END:VEVENT
BEGIN:VEVENT
DTSTART;TZID=America/Los_Angeles:20260128T190000
DTEND;TZID=America/Los_Angeles:20260128T210000
DTSTAMP:20260423T160407
CREATED:20251224T020119Z
LAST-MODIFIED:20251225T040756Z
UID:10016420-1769626800-1769634000@www.meditationinorangecounty.org
SUMMARY:Dorje Shugden Retreat
DESCRIPTION:Click here for more information
URL:https://www.meditationinorangecounty.org/event/dorje-shugden-retreat/2026-01-28/4/
LOCATION:Vajrayogini Kadampa Buddhist Center\, 231 Memory Lane\, Santa Ana\, CA\, 92705\, United States
ATTACH;FMTTYPE=image/png:https://www.meditationinorangecounty.org/wp-content/uploads/2025/12/Dorje-Shugden-Close-Retreat-2026-Square.png
ORGANIZER;CN="Vajrayogini Kadampa Buddhist Center":MAILTO:info@meditationinorangecounty.org/
END:VEVENT
BEGIN:VEVENT
DTSTART;TZID=America/Los_Angeles:20260128T180000
DTEND;TZID=America/Los_Angeles:20260128T191500
DTSTAMP:20260423T160407
CREATED:20251224T004230Z
LAST-MODIFIED:20260325T142607Z
UID:10016095-1769623200-1769627700@www.meditationinorangecounty.org
SUMMARY:Seal Beach Class
DESCRIPTION:Click here for more information
URL:https://www.meditationinorangecounty.org/event/wednesday-evening-meditation-class-seal-beach/2026-01-28/
LOCATION:McKenna's Tea Cottage\, 237 Main Street\, Seal Beach\, 90740\, United States
ATTACH;FMTTYPE=image/png:https://www.meditationinorangecounty.org/wp-content/uploads/2025/12/Seal-Beach-2.png
ORGANIZER;CN="Vajrayogini Kadampa Buddhist Center":MAILTO:info@meditationinorangecounty.org/
END:VEVENT
BEGIN:VEVENT
DTSTART;TZID=America/Los_Angeles:20260128T140000
DTEND;TZID=America/Los_Angeles:20260128T160000
DTSTAMP:20260423T160407
CREATED:20251224T020119Z
LAST-MODIFIED:20251225T040756Z
UID:10016419-1769608800-1769616000@www.meditationinorangecounty.org
SUMMARY:Dorje Shugden Retreat
DESCRIPTION:Click here for more information
URL:https://www.meditationinorangecounty.org/event/dorje-shugden-retreat/2026-01-28/3/
LOCATION:Vajrayogini Kadampa Buddhist Center\, 231 Memory Lane\, Santa Ana\, CA\, 92705\, United States
ATTACH;FMTTYPE=image/png:https://www.meditationinorangecounty.org/wp-content/uploads/2025/12/Dorje-Shugden-Close-Retreat-2026-Square.png
ORGANIZER;CN="Vajrayogini Kadampa Buddhist Center":MAILTO:info@meditationinorangecounty.org/
END:VEVENT
BEGIN:VEVENT
DTSTART;TZID=America/Los_Angeles:20260128T110000
DTEND;TZID=America/Los_Angeles:20260128T130000
DTSTAMP:20260423T160407
CREATED:20251224T020119Z
LAST-MODIFIED:20251225T040756Z
UID:10016418-1769598000-1769605200@www.meditationinorangecounty.org
SUMMARY:Dorje Shugden Retreat
DESCRIPTION:Click here for more information
URL:https://www.meditationinorangecounty.org/event/dorje-shugden-retreat/2026-01-28/2/
LOCATION:Vajrayogini Kadampa Buddhist Center\, 231 Memory Lane\, Santa Ana\, CA\, 92705\, United States
ATTACH;FMTTYPE=image/png:https://www.meditationinorangecounty.org/wp-content/uploads/2025/12/Dorje-Shugden-Close-Retreat-2026-Square.png
ORGANIZER;CN="Vajrayogini Kadampa Buddhist Center":MAILTO:info@meditationinorangecounty.org/
END:VEVENT
END:VCALENDAR