BEGIN:VCALENDAR
VERSION:2.0
PRODID:-//Vajrayogini Kadampa Buddhist Center - ECPv6.15.20//NONSGML v1.0//EN
CALSCALE:GREGORIAN
METHOD:PUBLISH
X-WR-CALNAME:Vajrayogini Kadampa Buddhist Center
X-ORIGINAL-URL:https://www.meditationinorangecounty.org
X-WR-CALDESC:Events for Vajrayogini Kadampa Buddhist Center
REFRESH-INTERVAL;VALUE=DURATION:PT1H
X-Robots-Tag:noindex
X-PUBLISHED-TTL:PT1H
BEGIN:VTIMEZONE
TZID:America/Los_Angeles
BEGIN:DAYLIGHT
TZOFFSETFROM:-0800
TZOFFSETTO:-0700
TZNAME:PDT
DTSTART:20250309T100000
END:DAYLIGHT
BEGIN:STANDARD
TZOFFSETFROM:-0700
TZOFFSETTO:-0800
TZNAME:PST
DTSTART:20251102T090000
END:STANDARD
BEGIN:DAYLIGHT
TZOFFSETFROM:-0800
TZOFFSETTO:-0700
TZNAME:PDT
DTSTART:20260308T100000
END:DAYLIGHT
BEGIN:STANDARD
TZOFFSETFROM:-0700
TZOFFSETTO:-0800
TZNAME:PST
DTSTART:20261101T090000
END:STANDARD
BEGIN:DAYLIGHT
TZOFFSETFROM:-0800
TZOFFSETTO:-0700
TZNAME:PDT
DTSTART:20270314T100000
END:DAYLIGHT
BEGIN:STANDARD
TZOFFSETFROM:-0700
TZOFFSETTO:-0800
TZNAME:PST
DTSTART:20271107T090000
END:STANDARD
END:VTIMEZONE
BEGIN:VEVENT
DTSTART;TZID=America/Los_Angeles:20260124T140000
DTEND;TZID=America/Los_Angeles:20260124T160000
DTSTAMP:20260423T161024
CREATED:20251224T020119Z
LAST-MODIFIED:20251225T040756Z
UID:10016408-1769263200-1769270400@www.meditationinorangecounty.org
SUMMARY:Dorje Shugden Retreat
DESCRIPTION:Click here for more information
URL:https://www.meditationinorangecounty.org/event/dorje-shugden-retreat/2026-01-24/2/
LOCATION:Vajrayogini Kadampa Buddhist Center\, 231 Memory Lane\, Santa Ana\, CA\, 92705\, United States
ATTACH;FMTTYPE=image/png:https://www.meditationinorangecounty.org/wp-content/uploads/2025/12/Dorje-Shugden-Close-Retreat-2026-Square.png
ORGANIZER;CN="Vajrayogini Kadampa Buddhist Center":MAILTO:info@meditationinorangecounty.org/
END:VEVENT
BEGIN:VEVENT
DTSTART;TZID=America/Los_Angeles:20260124T120000
DTEND;TZID=America/Los_Angeles:20260124T140000
DTSTAMP:20260423T161025
CREATED:20251224T020119Z
LAST-MODIFIED:20251225T040756Z
UID:10016407-1769256000-1769263200@www.meditationinorangecounty.org
SUMMARY:Dorje Shugden Retreat
DESCRIPTION:Click here for more information
URL:https://www.meditationinorangecounty.org/event/dorje-shugden-retreat/2026-01-24/1/
LOCATION:Vajrayogini Kadampa Buddhist Center\, 231 Memory Lane\, Santa Ana\, CA\, 92705\, United States
ATTACH;FMTTYPE=image/png:https://www.meditationinorangecounty.org/wp-content/uploads/2025/12/Dorje-Shugden-Close-Retreat-2026-Square.png
ORGANIZER;CN="Vajrayogini Kadampa Buddhist Center":MAILTO:info@meditationinorangecounty.org/
END:VEVENT
BEGIN:VEVENT
DTSTART;TZID=America/Los_Angeles:20260124T100000
DTEND;TZID=America/Los_Angeles:20260124T110000
DTSTAMP:20260423T161025
CREATED:20251224T000108Z
LAST-MODIFIED:20251224T000438Z
UID:10015924-1769248800-1769252400@www.meditationinorangecounty.org
SUMMARY:January Meditation Challenge
DESCRIPTION:CLICK HERE FOR FULL SCHEDULE AND COST
URL:https://www.meditationinorangecounty.org/event/january-meditation-challenge/2026-01-24/
LOCATION:Vajrayogini Kadampa Buddhist Center\, 231 Memory Lane\, Santa Ana\, CA\, 92705\, United States
ATTACH;FMTTYPE=image/png:https://www.meditationinorangecounty.org/wp-content/uploads/2025/12/Jan-2026-Lamrim-Challenge.png
ORGANIZER;CN="Vajrayogini Kadampa Buddhist Center":MAILTO:info@meditationinorangecounty.org/
END:VEVENT
BEGIN:VEVENT
DTSTART;TZID=America/Los_Angeles:20260123T190000
DTEND;TZID=America/Los_Angeles:20260123T200000
DTSTAMP:20260423T161025
CREATED:20251224T001321Z
LAST-MODIFIED:20251224T001321Z
UID:10015955-1769194800-1769198400@www.meditationinorangecounty.org
SUMMARY:January Meditation Challenge
DESCRIPTION:CLICK HERE FOR FULL SCHEDULE AND COST
URL:https://www.meditationinorangecounty.org/event/january-meditation-challenge-7/2026-01-23/
LOCATION:Vajrayogini Kadampa Buddhist Center\, 231 Memory Lane\, Santa Ana\, CA\, 92705\, United States
ATTACH;FMTTYPE=image/png:https://www.meditationinorangecounty.org/wp-content/uploads/2025/12/Jan-2026-Lamrim-Challenge.png
ORGANIZER;CN="Vajrayogini Kadampa Buddhist Center":MAILTO:info@meditationinorangecounty.org/
END:VEVENT
BEGIN:VEVENT
DTSTART;TZID=America/Los_Angeles:20260123T140000
DTEND;TZID=America/Los_Angeles:20260123T160000
DTSTAMP:20260423T161025
CREATED:20251224T020119Z
LAST-MODIFIED:20251225T040756Z
UID:10016406-1769176800-1769184000@www.meditationinorangecounty.org
SUMMARY:Dorje Shugden Retreat
DESCRIPTION:Click here for more information
URL:https://www.meditationinorangecounty.org/event/dorje-shugden-retreat/2026-01-23/2/
LOCATION:Vajrayogini Kadampa Buddhist Center\, 231 Memory Lane\, Santa Ana\, CA\, 92705\, United States
ATTACH;FMTTYPE=image/png:https://www.meditationinorangecounty.org/wp-content/uploads/2025/12/Dorje-Shugden-Close-Retreat-2026-Square.png
ORGANIZER;CN="Vajrayogini Kadampa Buddhist Center":MAILTO:info@meditationinorangecounty.org/
END:VEVENT
BEGIN:VEVENT
DTSTART;TZID=America/Los_Angeles:20260123T110000
DTEND;TZID=America/Los_Angeles:20260123T130000
DTSTAMP:20260423T161025
CREATED:20251224T020119Z
LAST-MODIFIED:20251225T040756Z
UID:10016405-1769166000-1769173200@www.meditationinorangecounty.org
SUMMARY:Dorje Shugden Retreat
DESCRIPTION:Click here for more information
URL:https://www.meditationinorangecounty.org/event/dorje-shugden-retreat/2026-01-23/1/
LOCATION:Vajrayogini Kadampa Buddhist Center\, 231 Memory Lane\, Santa Ana\, CA\, 92705\, United States
ATTACH;FMTTYPE=image/png:https://www.meditationinorangecounty.org/wp-content/uploads/2025/12/Dorje-Shugden-Close-Retreat-2026-Square.png
ORGANIZER;CN="Vajrayogini Kadampa Buddhist Center":MAILTO:info@meditationinorangecounty.org/
END:VEVENT
BEGIN:VEVENT
DTSTART;TZID=America/Los_Angeles:20260123T080000
DTEND;TZID=America/Los_Angeles:20260123T100000
DTSTAMP:20260423T161025
CREATED:20251224T020119Z
LAST-MODIFIED:20251225T040756Z
UID:10016409-1769155200-1769162400@www.meditationinorangecounty.org
SUMMARY:Dorje Shugden Retreat
DESCRIPTION:Click here for more information
URL:https://www.meditationinorangecounty.org/event/dorje-shugden-retreat/2026-01-23/3/
LOCATION:Vajrayogini Kadampa Buddhist Center\, 231 Memory Lane\, Santa Ana\, CA\, 92705\, United States
ATTACH;FMTTYPE=image/png:https://www.meditationinorangecounty.org/wp-content/uploads/2025/12/Dorje-Shugden-Close-Retreat-2026-Square.png
ORGANIZER;CN="Vajrayogini Kadampa Buddhist Center":MAILTO:info@meditationinorangecounty.org/
END:VEVENT
END:VCALENDAR